BEGIN:VCALENDAR
VERSION:2.0
PRODID:-//Water Wrights - ECPv5.16.4//NONSGML v1.0//EN
CALSCALE:GREGORIAN
METHOD:PUBLISH
X-WR-CALNAME:Water Wrights
X-ORIGINAL-URL:https://waterwrights.net
X-WR-CALDESC:Events for Water Wrights
BEGIN:VTIMEZONE
TZID:America/Los_Angeles
BEGIN:DAYLIGHT
TZOFFSETFROM:-0800
TZOFFSETTO:-0700
TZNAME:PDT
DTSTART:20220313T100000
END:DAYLIGHT
BEGIN:STANDARD
TZOFFSETFROM:-0700
TZOFFSETTO:-0800
TZNAME:PST
DTSTART:20221106T090000
END:STANDARD
END:VTIMEZONE
BEGIN:VEVENT
DTSTART;TZID=America/Los_Angeles:20220906T090000
DTEND;TZID=America/Los_Angeles:20220906T110000
DTSTAMP:20260422T030830
CREATED:20220714T192536Z
LAST-MODIFIED:20220816T173445Z
UID:17534-1662454800-1662462000@waterwrights.net
SUMMARY:Kaweah Delta Water Conservation District 9:00am
DESCRIPTION:Kaweah Delta WCD 9am – 11am\n2975 N. Farmersville Blvd Farmersville CA 93223\nwww.kdwcd.com
URL:https://waterwrights.net/event/kaweah-delta-water-conservation-district-900am-3/
LOCATION:Kaweah Delta WCD\, 2975 N. Farmersville Blvd Farmersville\, California\, 93223
END:VEVENT
BEGIN:VEVENT
DTSTART;TZID=America/Los_Angeles:20220906T090000
DTEND;TZID=America/Los_Angeles:20220906T110000
DTSTAMP:20260422T030830
CREATED:20220715T212311Z
LAST-MODIFIED:20220816T173541Z
UID:17579-1662454800-1662462000@waterwrights.net
SUMMARY:Turlock Irrigation District 9:00am
DESCRIPTION:Turlock ID 9am – 11am\n333 E. Canal Drive Turlock CA 95380\nwww.tid.org
URL:https://waterwrights.net/event/turlock-irrigation-district-900am-14/
LOCATION:Turlock ID\, 333 E. Canal Drive\, Turlock\, California\, 95380
END:VEVENT
BEGIN:VEVENT
DTSTART;TZID=America/Los_Angeles:20220906T090000
DTEND;TZID=America/Los_Angeles:20220906T110000
DTSTAMP:20260422T030830
CREATED:20220715T212528Z
LAST-MODIFIED:20220816T173709Z
UID:17585-1662454800-1662462000@waterwrights.net
SUMMARY:Oakdale Irrigation District 9:00am
DESCRIPTION:Oakdale ID 9am – 11am\n1205 East F Street Oakdale CA 95361\nwww.oakdaleirrigation.com
URL:https://waterwrights.net/event/oakdale-irrigation-district-900am-4/
LOCATION:Oakdale ID\, 1205 East F Street\, Oakdale\, California\, 95361
END:VEVENT
BEGIN:VEVENT
DTSTART;TZID=America/Los_Angeles:20220906T090000
DTEND;TZID=America/Los_Angeles:20220906T110000
DTSTAMP:20260422T030830
CREATED:20220722T201633Z
LAST-MODIFIED:20220816T173839Z
UID:17854-1662454800-1662462000@waterwrights.net
SUMMARY:Yuba County Water Agency 9:00am
DESCRIPTION:Yuba County WA 9am – 11am\n1220 F Street Marysville CA 995901\nwww.ycwa.com
URL:https://waterwrights.net/event/yuba-county-water-agency-900am-5/
LOCATION:Yuba County WA\, 1220 F Street\, Marysville\, California\, 995901
END:VEVENT
BEGIN:VEVENT
DTSTART;TZID=America/Los_Angeles:20220906T100000
DTEND;TZID=America/Los_Angeles:20220906T120000
DTSTAMP:20260422T030830
CREATED:20220902T235008Z
LAST-MODIFIED:20220902T235019Z
UID:18430-1662458400-1662465600@waterwrights.net
SUMMARY:Merced Irrigation District 10:00am
DESCRIPTION:Merced Irrigation District 10:00am
URL:https://waterwrights.net/event/merced-irrigation-district-1000am/
LOCATION:Merced ID\, 3321N. Franklin Road\, Merced\, California\, 95348
END:VEVENT
BEGIN:VEVENT
DTSTART;TZID=America/Los_Angeles:20220906T130000
DTEND;TZID=America/Los_Angeles:20220906T150000
DTSTAMP:20260422T030830
CREATED:20220714T193914Z
LAST-MODIFIED:20220816T173945Z
UID:17560-1662469200-1662476400@waterwrights.net
SUMMARY:Kern Delta Water District 1:00pm
DESCRIPTION:Kern Delta WD 1pm – 3pm\n501 Taft High Way Bakersfield CA 93307\nwww.kerndelta.org
URL:https://waterwrights.net/event/kern-delta-water-district-100pm-4/
LOCATION:Kern Delta WD\, 501 Taft High Way\, Bakersfield\, California\, 93307
END:VEVENT
BEGIN:VEVENT
DTSTART;TZID=America/Los_Angeles:20220906T140000
DTEND;TZID=America/Los_Angeles:20220906T160000
DTSTAMP:20260422T030830
CREATED:20220715T214127Z
LAST-MODIFIED:20220816T174102Z
UID:17613-1662472800-1662480000@waterwrights.net
SUMMARY:Eastern Tule GSA 2:00pm
DESCRIPTION:ETGSA 2pm – 4pm\n881 W. Morton Avenue\, Suite D\, Porterville\, CA 93257\nwww.easterntulegsa.com
URL:https://waterwrights.net/event/eastern-tule-gsa-200pm-4/
LOCATION:Eastern Tule GSA\, 881 W. Morton Avenue\, Suite D\, Porterville\, California\, 93257
END:VEVENT
END:VCALENDAR