BEGIN:VCALENDAR
VERSION:2.0
PRODID:-//Water Wrights - ECPv5.16.4//NONSGML v1.0//EN
CALSCALE:GREGORIAN
METHOD:PUBLISH
X-WR-CALNAME:Water Wrights
X-ORIGINAL-URL:https://waterwrights.net
X-WR-CALDESC:Events for Water Wrights
BEGIN:VTIMEZONE
TZID:America/Los_Angeles
BEGIN:DAYLIGHT
TZOFFSETFROM:-0800
TZOFFSETTO:-0700
TZNAME:PDT
DTSTART:20220313T100000
END:DAYLIGHT
BEGIN:STANDARD
TZOFFSETFROM:-0700
TZOFFSETTO:-0800
TZNAME:PST
DTSTART:20221106T090000
END:STANDARD
END:VTIMEZONE
BEGIN:VEVENT
DTSTART;TZID=America/Los_Angeles:20220908T090000
DTEND;TZID=America/Los_Angeles:20220908T110000
DTSTAMP:20260422T030830
CREATED:20220714T193726Z
LAST-MODIFIED:20220816T174244Z
UID:17556-1662627600-1662634800@waterwrights.net
SUMMARY:Cawelo Water District 9:00am
DESCRIPTION:Cawelo WD 9am – 11am\n17207 Industrial Farm Road Bakersfield CA 93308\nwww.cawelowd.org
URL:https://waterwrights.net/event/cawelo-water-district-900am-4/
LOCATION:Cawelo WD\, 17207 Industrial Farm Road\, Bakersfield\, California\, 93308
END:VEVENT
BEGIN:VEVENT
DTSTART;TZID=America/Los_Angeles:20220908T100000
DTEND;TZID=America/Los_Angeles:20220908T113000
DTSTAMP:20260422T030830
CREATED:20220712T185818Z
LAST-MODIFIED:20220816T174328Z
UID:17407-1662631200-1662636600@waterwrights.net
SUMMARY:Triangle T Water District + GSA 10:00am
DESCRIPTION:Triangle T WD+GSA 10am – 11:30am\n4400 Hays Drive Chowchilla CA 93610\nwww.triangletwaterdistrict.org
URL:https://waterwrights.net/event/triangle-t-water-district-gsa-1000am-3/
LOCATION:Triangle T WD/GSA\, 4400 Hays Drive\, Chowchilla\, California\, 93610
END:VEVENT
BEGIN:VEVENT
DTSTART;TZID=America/Los_Angeles:20220908T100000
DTEND;TZID=America/Los_Angeles:20220908T120000
DTSTAMP:20260422T030830
CREATED:20220715T213013Z
LAST-MODIFIED:20220816T174548Z
UID:17593-1662631200-1662638400@waterwrights.net
SUMMARY:Butte Water District 10:00am
DESCRIPTION:Butte WD 10am\n735 Virginia Street Gridley CA 95948\nwww.buttewaterdistrict.org
URL:https://waterwrights.net/event/butte-water-district-1000am-4/
LOCATION:Butte WD\, 735 Virginia Street\, Gridley\, California\, 95948
END:VEVENT
BEGIN:VEVENT
DTSTART;TZID=America/Los_Angeles:20220908T100000
DTEND;TZID=America/Los_Angeles:20220908T120000
DTSTAMP:20260422T030830
CREATED:20220715T213737Z
LAST-MODIFIED:20220816T174616Z
UID:17607-1662631200-1662638400@waterwrights.net
SUMMARY:TriAngle T GSA 10:00am
DESCRIPTION:Triangle T GSA 10am – 12pm\n4400 Hays Drive Chowchilla CA 93610\nwww.triangletwaterdistrict.org
URL:https://waterwrights.net/event/triangle-t-gsa-1000am-3/
LOCATION:Triangle T WD/GSA\, 4400 Hays Drive\, Chowchilla\, California\, 93610
END:VEVENT
BEGIN:VEVENT
DTSTART;TZID=America/Los_Angeles:20220908T130000
DTEND;TZID=America/Los_Angeles:20220908T150000
DTSTAMP:20260422T030830
CREATED:20220821T023453Z
LAST-MODIFIED:20220821T023453Z
UID:18347-1662642000-1662649200@waterwrights.net
SUMMARY:Tri-County Water Authority 1:00pm
DESCRIPTION:Tri County WA 1pm – 3pm\n944 Whitley Ave. Ste. E Corcoran CA 93212\nwww.tcwater.org
URL:https://waterwrights.net/event/tri-county-water-authority-100pm-3/
LOCATION:944 Whitley Ave. Ste. E Corcoran CA 93212\, 944 Whitley Ave.\, California\, 93212
END:VEVENT
END:VCALENDAR