BEGIN:VCALENDAR
VERSION:2.0
PRODID:-//Water Wrights - ECPv5.16.4//NONSGML v1.0//EN
CALSCALE:GREGORIAN
METHOD:PUBLISH
X-WR-CALNAME:Water Wrights
X-ORIGINAL-URL:https://waterwrights.net
X-WR-CALDESC:Events for Water Wrights
BEGIN:VTIMEZONE
TZID:America/Los_Angeles
BEGIN:DAYLIGHT
TZOFFSETFROM:-0800
TZOFFSETTO:-0700
TZNAME:PDT
DTSTART:20220313T100000
END:DAYLIGHT
BEGIN:STANDARD
TZOFFSETFROM:-0700
TZOFFSETTO:-0800
TZNAME:PST
DTSTART:20221106T090000
END:STANDARD
END:VTIMEZONE
BEGIN:VEVENT
DTSTART;TZID=America/Los_Angeles:20220913T080000
DTEND;TZID=America/Los_Angeles:20220913T100000
DTSTAMP:20260422T030931
CREATED:20220714T193820Z
LAST-MODIFIED:20220816T174811Z
UID:17558-1663056000-1663063200@waterwrights.net
SUMMARY:Rosedale Rio Bravo Water Service District 8:00am
DESCRIPTION:Rosedale Rio Bravo WSD 8am – 10am\n849 Allen Road Bakersfield CA 93314\nwww.rrbwsd.com
URL:https://waterwrights.net/event/rosedale-rio-bravo-water-service-district-800am-4/
LOCATION:Rosedale Rio Bravo WSD\, 849 Allen Road\, Bakersfield\, California\, 93314
END:VEVENT
BEGIN:VEVENT
DTSTART;TZID=America/Los_Angeles:20220913T090000
DTEND;TZID=America/Los_Angeles:20220913T110000
DTSTAMP:20260422T030931
CREATED:20220712T191252Z
LAST-MODIFIED:20220816T174909Z
UID:17425-1663059600-1663066800@waterwrights.net
SUMMARY:Tulare Irrigation District 9:00am
DESCRIPTION:Tulare ID 9am – 11am\n6826 Avenue 240 Tulare CA 93274\nwww.tulareid.org
URL:https://waterwrights.net/event/tulare-irrigation-district-900am-3/
LOCATION:Tulare ID\, 6826 Avenue 240\, Tulare\, California\, 93274
END:VEVENT
BEGIN:VEVENT
DTSTART;TZID=America/Los_Angeles:20220913T090000
DTEND;TZID=America/Los_Angeles:20220913T110000
DTSTAMP:20260422T030931
CREATED:20220712T192336Z
LAST-MODIFIED:20220816T175002Z
UID:17430-1663059600-1663066800@waterwrights.net
SUMMARY:Lower Tule River Irrigation District 9:00am
DESCRIPTION:Lower Tule River ID 9am – 11am\n357 East Olive Ave Tipton CA 93272\nwww.ltrid.org
URL:https://waterwrights.net/event/lower-tule-river-irrigation-district-900am-3/
LOCATION:Lower Tule River ID\, 357 East Olive Ave\, Tipton\, California\, 93272
END:VEVENT
BEGIN:VEVENT
DTSTART;TZID=America/Los_Angeles:20220913T090000
DTEND;TZID=America/Los_Angeles:20220913T110000
DTSTAMP:20260422T030931
CREATED:20220715T212448Z
LAST-MODIFIED:20220816T175054Z
UID:17583-1663059600-1663066800@waterwrights.net
SUMMARY:Modesto Irrigation District 9:00am
DESCRIPTION:Modesto ID 9am – 11am\n1231 11 Street Modesto CA 95354\nwww.mid.org
URL:https://waterwrights.net/event/modesto-irrigation-district-900am-4/
LOCATION:Modesto ID\, 1231 11 Street\, Modesto\, California\, 95354
END:VEVENT
BEGIN:VEVENT
DTSTART;TZID=America/Los_Angeles:20220913T090000
DTEND;TZID=America/Los_Angeles:20220913T110000
DTSTAMP:20260422T030931
CREATED:20220722T201138Z
LAST-MODIFIED:20220816T175115Z
UID:17846-1663059600-1663066800@waterwrights.net
SUMMARY:Turlock Irrigation District 9:00am
DESCRIPTION:Turlock ID 9am – 11am\n333 E. Canal Drive Turlock CA 95380\nwww.tid.org
URL:https://waterwrights.net/event/turlock-irrigation-district-900am-11/
LOCATION:Turlock ID\, 333 E. Canal Drive\, Turlock\, California\, 95380
END:VEVENT
BEGIN:VEVENT
DTSTART;TZID=America/Los_Angeles:20220913T090000
DTEND;TZID=America/Los_Angeles:20220913T110000
DTSTAMP:20260422T030931
CREATED:20220722T201429Z
LAST-MODIFIED:20220805T225632Z
UID:17852-1663059600-1663066800@waterwrights.net
SUMMARY:South San Joaquin Irrigation District 9:00am
DESCRIPTION:South San Joaquin ID 9am – 11am\n11011 E. Highway 120 Manteca CA 95336\nhttps://southdeltawater.org/
URL:https://waterwrights.net/event/south-san-joaquin-irrigation-district-900am-12/
LOCATION:California
END:VEVENT
BEGIN:VEVENT
DTSTART;TZID=America/Los_Angeles:20220913T100000
DTEND;TZID=America/Los_Angeles:20220913T120000
DTSTAMP:20260422T030931
CREATED:20220714T194004Z
LAST-MODIFIED:20220912T212148Z
UID:17562-1663063200-1663070400@waterwrights.net
SUMMARY:Arvin Edison Water Storage District 10:00am
DESCRIPTION:Arvin Edison WSD 10am-12pm\n20401 Bear Mountain Blvd Arvin CA 93203\nwww.aewsd.org
URL:https://waterwrights.net/event/arvin-edison-water-service-district-1200pm-4/
LOCATION:Arvin Edison WSD\, 20401 Bear Mountain Blvd\, Arvin\, California\, 93203
END:VEVENT
BEGIN:VEVENT
DTSTART;TZID=America/Los_Angeles:20220913T123000
DTEND;TZID=America/Los_Angeles:20220913T143000
DTSTAMP:20260422T030931
CREATED:20220715T212930Z
LAST-MODIFIED:20220816T175351Z
UID:17591-1663072200-1663079400@waterwrights.net
SUMMARY:Stockton East Water District 12:30pm
DESCRIPTION:Stockton East WD 12:30pm\n6767 E. Main Street Stockton CA 95215\nwww.sewd.net
URL:https://waterwrights.net/event/stockton-east-water-district-1230pm-4/
LOCATION:Stockton East WD\, 6767 E. Main Street\, Stockton\, California\, 95215
END:VEVENT
BEGIN:VEVENT
DTSTART;TZID=America/Los_Angeles:20220913T130000
DTEND;TZID=America/Los_Angeles:20220913T150000
DTSTAMP:20260422T030931
CREATED:20220712T190640Z
LAST-MODIFIED:20220816T175432Z
UID:17417-1663074000-1663081200@waterwrights.net
SUMMARY:Kings County Water District 1:00pm
DESCRIPTION:Kings County WD 1pm – 3pm\n200 Campus Drive Hanford CA 93230\nwww.kingscwd.org
URL:https://waterwrights.net/event/kings-county-water-district-100pm-2/
LOCATION:Kings County WD\, 200 Campus Drive\, Hanford\, California\, 93230
END:VEVENT
BEGIN:VEVENT
DTSTART;TZID=America/Los_Angeles:20220913T130000
DTEND;TZID=America/Los_Angeles:20220913T150000
DTSTAMP:20260422T030931
CREATED:20220715T214212Z
LAST-MODIFIED:20220816T175518Z
UID:17615-1663074000-1663081200@waterwrights.net
SUMMARY:El Rico GSA 1:00pm
DESCRIPTION:El Rico GSA 1pm – 3pm\n1001 Chase Avenue\, Corcoran CA 93212\nwww.elricogsa.com
URL:https://waterwrights.net/event/el-rico-gsa-100pm-4/
LOCATION:El Rico GSA\, 1001 Chase Avenue\,\, Corcoran\, California\, 93212
END:VEVENT
BEGIN:VEVENT
DTSTART;TZID=America/Los_Angeles:20220913T140000
DTEND;TZID=America/Los_Angeles:20220913T160000
DTSTAMP:20260422T030931
CREATED:20220712T191522Z
LAST-MODIFIED:20220816T175600Z
UID:17428-1663077600-1663084800@waterwrights.net
SUMMARY:Lindmore Irrigation District 2:00pm
DESCRIPTION:Lindmore ID 2pm – 4pm\n315 E. Lindmore Street Lindsay CA 93247\nwww.lindmoreid.com
URL:https://waterwrights.net/event/lindmore-irrigation-district-200pm-3/
LOCATION:Lindmore ID\, 315 E. Lindmore Street\, Lindsay\, California\, 93247
END:VEVENT
BEGIN:VEVENT
DTSTART;TZID=America/Los_Angeles:20220913T150000
DTEND;TZID=America/Los_Angeles:20220913T170000
DTSTAMP:20260422T030931
CREATED:20220714T194035Z
LAST-MODIFIED:20220816T175635Z
UID:17564-1663081200-1663088400@waterwrights.net
SUMMARY:Kern Water Bank 3:00pm
DESCRIPTION:Kern WB 3pm – 5pm\n1620 Mill Rock Way\, Ste 500 Bakersfield CA 93311\nwww.kwb.org
URL:https://waterwrights.net/event/kern-water-bank-300pm-3/
LOCATION:Kern Water Bank\, 1620 Mill Rock Way\, Ste 500\, Bakersfield\, California\, 93311
END:VEVENT
END:VCALENDAR