BEGIN:VCALENDAR
VERSION:2.0
PRODID:-//Water Wrights - ECPv5.16.4//NONSGML v1.0//EN
CALSCALE:GREGORIAN
METHOD:PUBLISH
X-WR-CALNAME:Water Wrights
X-ORIGINAL-URL:https://waterwrights.net
X-WR-CALDESC:Events for Water Wrights
BEGIN:VTIMEZONE
TZID:America/Los_Angeles
BEGIN:DAYLIGHT
TZOFFSETFROM:-0800
TZOFFSETTO:-0700
TZNAME:PDT
DTSTART:20220313T100000
END:DAYLIGHT
BEGIN:STANDARD
TZOFFSETFROM:-0700
TZOFFSETTO:-0800
TZNAME:PST
DTSTART:20221106T090000
END:STANDARD
END:VTIMEZONE
BEGIN:VEVENT
DTSTART;TZID=America/Los_Angeles:20220915T090000
DTEND;TZID=America/Los_Angeles:20220915T110000
DTSTAMP:20260422T030942
CREATED:20220715T213221Z
LAST-MODIFIED:20220817T215837Z
UID:17597-1663232400-1663239600@waterwrights.net
SUMMARY:Glenn-Colusa Irrigation District 9:00am
DESCRIPTION:Glenn-Colusa ID 9am – 11am\n344 E Laurel Street Willows CA 95988\nwww.gcid.net
URL:https://waterwrights.net/event/glenn-colusa-irrigation-district-900am-6/
LOCATION:Glenn Colusa ID Meeting\, 344 E Laurel Street Willows\, California\, 95988
END:VEVENT
BEGIN:VEVENT
DTSTART;TZID=America/Los_Angeles:20220915T093000
DTEND;TZID=America/Los_Angeles:20220915T113000
DTSTAMP:20260422T030942
CREATED:20220722T201028Z
LAST-MODIFIED:20220817T215933Z
UID:17844-1663234200-1663241400@waterwrights.net
SUMMARY:San Luis Delta Mendota 9:30am
DESCRIPTION:San Luis Delta Mendota 9:30am – 11:30am\n842 6th Street Los Banos CA 93635\nwww.sldmwa.org
URL:https://waterwrights.net/event/san-luis-delta-mendota-930am-11/
LOCATION:San Luis Delta Mendota\, 842 6th Street\, Los Banos\, California\, 93635
END:VEVENT
BEGIN:VEVENT
DTSTART;TZID=America/Los_Angeles:20220915T133000
DTEND;TZID=America/Los_Angeles:20220915T153000
DTSTAMP:20260422T030942
CREATED:20220715T213440Z
LAST-MODIFIED:20220817T220036Z
UID:17601-1663248600-1663255800@waterwrights.net
SUMMARY:Richvale Irrigation District 1:30pm
DESCRIPTION:Richvale ID 1:30pm – 3:30pm\nPO Box 147 Richvale CA 95974\nwww.richvaleid.com
URL:https://waterwrights.net/event/richvale-irrigation-district-130pm-3/
LOCATION:Richvale Irrigation District\, PO Box 147\, Richvale\, California\, 95974
END:VEVENT
BEGIN:VEVENT
DTSTART;TZID=America/Los_Angeles:20220915T150000
DTEND;TZID=America/Los_Angeles:20220915T170000
DTSTAMP:20260422T030942
CREATED:20220712T190231Z
LAST-MODIFIED:20220817T220121Z
UID:17412-1663254000-1663261200@waterwrights.net
SUMMARY:Fresno Irrigation District 3:00pm
DESCRIPTION:Fresno ID 3pm – 5pm\n2097 S. Mapel Ave Fresno CA 93725\nwww.fresnoirrigation.com
URL:https://waterwrights.net/event/fresno-irrigation-district-300pm-3/
LOCATION:Fresno Irrigation District\, 2097 S. Mapel Ave\, Fresno\, California\, 93725
END:VEVENT
END:VCALENDAR