BEGIN:VCALENDAR
VERSION:2.0
PRODID:-//Water Wrights - ECPv5.16.4//NONSGML v1.0//EN
CALSCALE:GREGORIAN
METHOD:PUBLISH
X-WR-CALNAME:Water Wrights
X-ORIGINAL-URL:https://waterwrights.net
X-WR-CALDESC:Events for Water Wrights
BEGIN:VTIMEZONE
TZID:America/Los_Angeles
BEGIN:DAYLIGHT
TZOFFSETFROM:-0800
TZOFFSETTO:-0700
TZNAME:PDT
DTSTART:20220313T100000
END:DAYLIGHT
BEGIN:STANDARD
TZOFFSETFROM:-0700
TZOFFSETTO:-0800
TZNAME:PST
DTSTART:20221106T090000
END:STANDARD
END:VTIMEZONE
BEGIN:VEVENT
DTSTART;TZID=America/Los_Angeles:20220919T160000
DTEND;TZID=America/Los_Angeles:20220919T180000
DTSTAMP:20260422T030946
CREATED:20220811T233424Z
LAST-MODIFIED:20220817T220334Z
UID:18198-1663603200-1663610400@waterwrights.net
SUMMARY:East Kaweah GSA 4:00pm
DESCRIPTION:East Kaweah GSA 4pm – 6pm\n315 E. Lindmore Street\, Lindsay\, CA 93247\nwww.ekgsa.org
URL:https://waterwrights.net/event/east-kaweah-gsa-400pm/
LOCATION:East Kaweah GSA\, 315 E. Lindmore Street\,\, Lindsay\,\, California\, 93247
END:VEVENT
END:VCALENDAR