BEGIN:VCALENDAR
VERSION:2.0
PRODID:-//Water Wrights - ECPv5.16.4//NONSGML v1.0//EN
CALSCALE:GREGORIAN
METHOD:PUBLISH
X-WR-CALNAME:Water Wrights
X-ORIGINAL-URL:https://waterwrights.net
X-WR-CALDESC:Events for Water Wrights
BEGIN:VTIMEZONE
TZID:America/Los_Angeles
BEGIN:DAYLIGHT
TZOFFSETFROM:-0800
TZOFFSETTO:-0700
TZNAME:PDT
DTSTART:20220313T100000
END:DAYLIGHT
BEGIN:STANDARD
TZOFFSETFROM:-0700
TZOFFSETTO:-0800
TZNAME:PST
DTSTART:20221106T090000
END:STANDARD
END:VTIMEZONE
BEGIN:VEVENT
DTSTART;TZID=America/Los_Angeles:20220920T090000
DTEND;TZID=America/Los_Angeles:20220920T110000
DTSTAMP:20260422T044134
CREATED:20220715T213111Z
LAST-MODIFIED:20220817T220407Z
UID:17595-1663664400-1663671600@waterwrights.net
SUMMARY:Yuba County Water Authority 9:00am
DESCRIPTION:Yuba County WA 9am – 11am\n1220 F Street Marysville CA 995901\nwww.ycwa.com
URL:https://waterwrights.net/event/yuba-county-water-authority-900am-3/
LOCATION:Yuba County WA\, 1220 F Street\, Marysville\, California\, 995901
END:VEVENT
BEGIN:VEVENT
DTSTART;TZID=America/Los_Angeles:20220920T090000
DTEND;TZID=America/Los_Angeles:20220920T110000
DTSTAMP:20260422T044134
CREATED:20220715T213546Z
LAST-MODIFIED:20220817T220500Z
UID:17605-1663664400-1663671600@waterwrights.net
SUMMARY:Western Canal Water District 9:00am
DESCRIPTION:Western Canal WD 9am – 11am\nPO Box 190 Richval CA 95974\nwww.westerncanal.com
URL:https://waterwrights.net/event/western-canal-water-district-900am-4/
LOCATION:Western Canal WD\, PO Box 190 Richval\, Richval\, California\, 95974
END:VEVENT
BEGIN:VEVENT
DTSTART;TZID=America/Los_Angeles:20220920T090000
DTEND;TZID=America/Los_Angeles:20220920T110000
DTSTAMP:20260422T044134
CREATED:20220722T201205Z
LAST-MODIFIED:20220817T220528Z
UID:17848-1663664400-1663671600@waterwrights.net
SUMMARY:Turlock Irrigation District 9:00am
DESCRIPTION:Turlock ID 9am – 11am\n333 E. Canal Drive Turlock CA 95380\nwww.tid.org
URL:https://waterwrights.net/event/turlock-irrigation-district-900am-18/
LOCATION:Turlock ID\, 333 E. Canal Drive\, Turlock\, California\, 95380
END:VEVENT
BEGIN:VEVENT
DTSTART;TZID=America/Los_Angeles:20220920T130000
DTEND;TZID=America/Los_Angeles:20220920T150000
DTSTAMP:20260422T044134
CREATED:20220712T185346Z
LAST-MODIFIED:20220817T220615Z
UID:17403-1663678800-1663686000@waterwrights.net
SUMMARY:Madera Irrigation District 1:00PM
DESCRIPTION:Madera ID 1pm – 3pm\n12152 Rd 28 1/4\, Madera\, CA 93637\nwww.madera-id.org
URL:https://waterwrights.net/event/madera-irrigation-district-100pm-2/
LOCATION:Madera ID\, 12152 Rd 28 1/4\,\, Madera\,\, California\, 93637
END:VEVENT
BEGIN:VEVENT
DTSTART;TZID=America/Los_Angeles:20220920T130000
DTEND;TZID=America/Los_Angeles:20220920T150000
DTSTAMP:20260422T044134
CREATED:20220712T190057Z
LAST-MODIFIED:20220817T220713Z
UID:17409-1663678800-1663686000@waterwrights.net
SUMMARY:Westlands Water District 1:00pm
DESCRIPTION:Westlands WD 1pm – 3pm\n3130 N. Fresno St Fresno CA 93703\nwww.wwd.ca.gov
URL:https://waterwrights.net/event/westlands-water-district-100pm-4/
LOCATION:Westlands WD\, 3130 N. Fresno St\, Fresno\, California\, 93703
END:VEVENT
BEGIN:VEVENT
DTSTART;TZID=America/Los_Angeles:20220920T130000
DTEND;TZID=America/Los_Angeles:20220920T150000
DTSTAMP:20260422T044134
CREATED:20220722T200830Z
LAST-MODIFIED:20220817T220737Z
UID:17842-1663678800-1663686000@waterwrights.net
SUMMARY:Kern Delta Water District 1:00pm
DESCRIPTION:Kern Delta WD 1pm – 3pm\n501 Taft High Way Bakersfield CA 93307\nwww.kerndelta.org
URL:https://waterwrights.net/event/kern-delta-water-district-100pm-3/
LOCATION:Kern Delta WD\, 501 Taft High Way\, Bakersfield\, California\, 93307
END:VEVENT
END:VCALENDAR