BEGIN:VCALENDAR
VERSION:2.0
PRODID:-//Water Wrights - ECPv5.16.4//NONSGML v1.0//EN
CALSCALE:GREGORIAN
METHOD:PUBLISH
X-WR-CALNAME:Water Wrights
X-ORIGINAL-URL:https://waterwrights.net
X-WR-CALDESC:Events for Water Wrights
BEGIN:VTIMEZONE
TZID:America/Los_Angeles
BEGIN:DAYLIGHT
TZOFFSETFROM:-0800
TZOFFSETTO:-0700
TZNAME:PDT
DTSTART:20220313T100000
END:DAYLIGHT
BEGIN:STANDARD
TZOFFSETFROM:-0700
TZOFFSETTO:-0800
TZNAME:PST
DTSTART:20221106T090000
END:STANDARD
END:VTIMEZONE
BEGIN:VEVENT
DTSTART;TZID=America/Los_Angeles:20221004T090000
DTEND;TZID=America/Los_Angeles:20221004T110000
DTSTAMP:20260424T015009
CREATED:20220718T193236Z
LAST-MODIFIED:20220821T022009Z
UID:17643-1664874000-1664881200@waterwrights.net
SUMMARY:Kaweah Delta Water Conservation District 9:00am
DESCRIPTION:Kaweah Delta Water Conservation District 9am – 11am\n2975 N. Farmersville Blvd Farmersville CA 93223\nwww.kdwcd.com
URL:https://waterwrights.net/event/kaweah-delta-water-conservation-district-900am-4/
LOCATION:Kaweah Delta WCD\, 2975 N. Farmersville Blvd Farmersville\, California\, 93223
END:VEVENT
BEGIN:VEVENT
DTSTART;TZID=America/Los_Angeles:20221004T090000
DTEND;TZID=America/Los_Angeles:20221004T110000
DTSTAMP:20260424T015009
CREATED:20220719T194048Z
LAST-MODIFIED:20220821T022031Z
UID:17684-1664874000-1664881200@waterwrights.net
SUMMARY:Turlock Irrigation District 9:00am
DESCRIPTION:Turlock Irrigation District 9am – 11am\n333 E. Canal Drive Turlock CA 95380\nwww.tid.org
URL:https://waterwrights.net/event/turlock-irrigation-district-900am-15/
LOCATION:Turlock ID\, 333 E. Canal Drive\, Turlock\, California\, 95380
END:VEVENT
BEGIN:VEVENT
DTSTART;TZID=America/Los_Angeles:20221004T090000
DTEND;TZID=America/Los_Angeles:20221004T110000
DTSTAMP:20260424T015009
CREATED:20220719T194749Z
LAST-MODIFIED:20220821T022057Z
UID:17696-1664874000-1664881200@waterwrights.net
SUMMARY:Oakdale Irrigation District 9:00am
DESCRIPTION:Oakdale Irrigation District 9am – 11am\n1205 East F Street Oakdale CA 95361\nwww.oakdaleirrigation.com
URL:https://waterwrights.net/event/oakdale-irrigation-district-900am-5/
LOCATION:Oakdale ID\, 1205 East F Street\, Oakdale\, California\, 95361
END:VEVENT
BEGIN:VEVENT
DTSTART;TZID=America/Los_Angeles:20221004T090000
DTEND;TZID=America/Los_Angeles:20221004T110000
DTSTAMP:20260424T015009
CREATED:20220719T195418Z
LAST-MODIFIED:20220821T022126Z
UID:17708-1664874000-1664881200@waterwrights.net
SUMMARY:Yuba County Water Agency 9:00am
DESCRIPTION:Yuba County Water Agency 9am – 11am\n1220 F Street Marysville CA 995901\nwww.ycwa.com
URL:https://waterwrights.net/event/yuba-county-water-agency-900am/
LOCATION:Yuba County WA\, 1220 F Street\, Marysville\, California\, 995901
END:VEVENT
BEGIN:VEVENT
DTSTART;TZID=America/Los_Angeles:20221004T130000
DTEND;TZID=America/Los_Angeles:20221004T150000
DTSTAMP:20260424T015009
CREATED:20220718T194438Z
LAST-MODIFIED:20220821T022152Z
UID:17666-1664888400-1664895600@waterwrights.net
SUMMARY:Kern Delta Water District 1:00pm
DESCRIPTION:Kern Delta Water District 1pm – 3pm\n501 Taft High Way Bakersfield CA 93307\nwww.kerndelta.org
URL:https://waterwrights.net/event/kern-delta-water-district-100pm-5/
LOCATION:Kern Delta WD\, 501 Taft High Way\, Bakersfield\, California\, 93307
END:VEVENT
BEGIN:VEVENT
DTSTART;TZID=America/Los_Angeles:20221004T130000
DTEND;TZID=America/Los_Angeles:20221004T143000
DTSTAMP:20260424T015009
CREATED:20221003T211840Z
LAST-MODIFIED:20221003T211840Z
UID:19328-1664888400-1664893800@waterwrights.net
SUMMARY:Tri-County Water Authority Special Board Meeting 1:00pm
DESCRIPTION:Tri-County Water Authority\n1pm-2:30pm
URL:https://waterwrights.net/event/tri-county-water-authority-special-board-meeting-100pm/
LOCATION:944 Whitley Ave. Ste. E Corcoran CA 93212\, 944 Whitley Ave.\, California\, 93212
END:VEVENT
BEGIN:VEVENT
DTSTART;TZID=America/Los_Angeles:20221004T140000
DTEND;TZID=America/Los_Angeles:20221004T160000
DTSTAMP:20260424T015009
CREATED:20220719T200445Z
LAST-MODIFIED:20220821T022218Z
UID:17728-1664892000-1664899200@waterwrights.net
SUMMARY:Eastern Tule GSA 2:00pm
DESCRIPTION:Eastern Tule GSA 2pm – 4pm\n881 W. Morton Avenue\, Suite D\, Porterville\, CA 93257\nwww.easterntulegsa.com
URL:https://waterwrights.net/event/eastern-tule-gsa-200pm-5/
LOCATION:Eastern Tule GSA\, 881 W. Morton Avenue\, Suite D\, Porterville\, California\, 93257
END:VEVENT
END:VCALENDAR