BEGIN:VCALENDAR
VERSION:2.0
PRODID:-//Water Wrights - ECPv5.16.4//NONSGML v1.0//EN
CALSCALE:GREGORIAN
METHOD:PUBLISH
X-WR-CALNAME:Water Wrights
X-ORIGINAL-URL:https://waterwrights.net
X-WR-CALDESC:Events for Water Wrights
BEGIN:VTIMEZONE
TZID:America/Los_Angeles
BEGIN:DAYLIGHT
TZOFFSETFROM:-0800
TZOFFSETTO:-0700
TZNAME:PDT
DTSTART:20220313T100000
END:DAYLIGHT
BEGIN:STANDARD
TZOFFSETFROM:-0700
TZOFFSETTO:-0800
TZNAME:PST
DTSTART:20221106T090000
END:STANDARD
END:VTIMEZONE
BEGIN:VEVENT
DTSTART;TZID=America/Los_Angeles:20221012T080000
DTEND;TZID=America/Los_Angeles:20221012T100000
DTSTAMP:20260424T015115
CREATED:20220718T194051Z
LAST-MODIFIED:20220822T191606Z
UID:17658-1665561600-1665568800@waterwrights.net
SUMMARY:Wheeler Ridge Maricopa Water District 8:00am
DESCRIPTION:Wheeler Ridge Maricopa Water District 8am – 10am\n12109 High Way 166 Bakerfield CA 93312\nwww.wrmwsd.com
URL:https://waterwrights.net/event/wheeler-ridge-maricopa-water-district-800am-4/
LOCATION:Wheeler Ridge Maricopa WD\, 12109 High Way 166\, Bakerfield\, California\, 93312
END:VEVENT
BEGIN:VEVENT
DTSTART;TZID=America/Los_Angeles:20221012T090000
DTEND;TZID=America/Los_Angeles:20221012T110000
DTSTAMP:20260424T015115
CREATED:20220718T194158Z
LAST-MODIFIED:20220822T191646Z
UID:17660-1665565200-1665572400@waterwrights.net
SUMMARY:Shafter Wasco Irrigation District 9:00am
DESCRIPTION:Shafter Wasco Irrigation District 9am – 11am\n16294 Highway 43 Wasco CA 93280\nwww.swid.org
URL:https://waterwrights.net/event/shafter-wasco-irrigation-district-900am-5/
LOCATION:Shafter Wasco ID\, 16294 Highway 43\, Wasco\, California\, 93280
END:VEVENT
BEGIN:VEVENT
DTSTART;TZID=America/Los_Angeles:20221012T113000
DTEND;TZID=America/Los_Angeles:20221012T140000
DTSTAMP:20260424T015115
CREATED:20220718T192556Z
LAST-MODIFIED:20220822T191725Z
UID:17637-1665574200-1665583200@waterwrights.net
SUMMARY:Orange Cove Irrigation District 11:45am
DESCRIPTION:Orange Cove Irrigation District 11:45am – 2pm\n1130 Park Ave Orange Cove CA 93646\nwww.orangecoveid.org
URL:https://waterwrights.net/event/orange-cove-irrigation-district-1145am-4/
LOCATION:Orange Cove ID\, 1130 Park Ave\, Orange Cove\, California\, 93646
END:VEVENT
BEGIN:VEVENT
DTSTART;TZID=America/Los_Angeles:20221012T123000
DTEND;TZID=America/Los_Angeles:20221012T143000
DTSTAMP:20260424T015115
CREATED:20220718T193949Z
LAST-MODIFIED:20220822T191811Z
UID:17656-1665577800-1665585000@waterwrights.net
SUMMARY:Semitropic Water District 12:30pm
DESCRIPTION:Semitropic Water District 12:30pm – 2:30pm\n1101 Central Avenue Wasco CA 93280\nwww.semitropic.com
URL:https://waterwrights.net/event/semitropic-water-district-1230pm-5/
LOCATION:Semitropic WD\, 1101 Central Avenue\, Wasco\, California\, 93280
END:VEVENT
BEGIN:VEVENT
DTSTART;TZID=America/Los_Angeles:20221012T133000
DTEND;TZID=America/Los_Angeles:20221012T153000
DTSTAMP:20260424T015115
CREATED:20220718T191814Z
LAST-MODIFIED:20220822T191850Z
UID:17629-1665581400-1665588600@waterwrights.net
SUMMARY:Chowchilla Water District 1:30pm
DESCRIPTION:Chowchilla Water District 1:30pm – 3:30pm\n327 S Chowchilla Blvd\, Chowchilla\, CA 93610\nwww.cwdwater.com
URL:https://waterwrights.net/event/chowchilla-water-district-130pm-6/
LOCATION:Chowchilla WD\, 327 S Chowchilla Blvd\,\, Chowchilla\,\, California\, 93610
END:VEVENT
END:VCALENDAR