BEGIN:VCALENDAR
VERSION:2.0
PRODID:-//Water Wrights - ECPv5.16.4//NONSGML v1.0//EN
CALSCALE:GREGORIAN
METHOD:PUBLISH
X-WR-CALNAME:Water Wrights
X-ORIGINAL-URL:https://waterwrights.net
X-WR-CALDESC:Events for Water Wrights
BEGIN:VTIMEZONE
TZID:America/Los_Angeles
BEGIN:DAYLIGHT
TZOFFSETFROM:-0800
TZOFFSETTO:-0700
TZNAME:PDT
DTSTART:20220313T100000
END:DAYLIGHT
BEGIN:STANDARD
TZOFFSETFROM:-0700
TZOFFSETTO:-0800
TZNAME:PST
DTSTART:20221106T090000
END:STANDARD
END:VTIMEZONE
BEGIN:VEVENT
DTSTART;TZID=America/Los_Angeles:20221013T090000
DTEND;TZID=America/Los_Angeles:20221013T110000
DTSTAMP:20260422T013205
CREATED:20220718T194246Z
LAST-MODIFIED:20220822T191935Z
UID:17662-1665651600-1665658800@waterwrights.net
SUMMARY:Cawelo Water District 9:00am
DESCRIPTION:Cawelo Water District 9am – 11am\n17207 Industrial Farm Road Bakersfield CA 93308\nwww.cawelowd.org
URL:https://waterwrights.net/event/cawelo-water-district-900am-5/
LOCATION:Cawelo WD\, 17207 Industrial Farm Road\, Bakersfield\, California\, 93308
END:VEVENT
BEGIN:VEVENT
DTSTART;TZID=America/Los_Angeles:20221013T100000
DTEND;TZID=America/Los_Angeles:20221013T120000
DTSTAMP:20260422T013205
CREATED:20220718T191951Z
LAST-MODIFIED:20220822T192031Z
UID:17631-1665655200-1665662400@waterwrights.net
SUMMARY:Triangle T Water District + GSA 10:00am
DESCRIPTION:Triangle T Water District + GSA 10am – 12pm\n4400 Hays Drive Chowchilla CA 93610\nwww.triangletwaterdistrict.org
URL:https://waterwrights.net/event/triangle-t-water-district-gsa-1000am-4/
LOCATION:Triangle T WD/GSA\, 4400 Hays Drive\, Chowchilla\, California\, 93610
END:VEVENT
BEGIN:VEVENT
DTSTART;TZID=America/Los_Angeles:20221013T100000
DTEND;TZID=America/Los_Angeles:20221013T120000
DTSTAMP:20260422T013205
CREATED:20220719T195307Z
LAST-MODIFIED:20220822T192124Z
UID:17706-1665655200-1665662400@waterwrights.net
SUMMARY:Butte Water District 10:00am
DESCRIPTION:Butte Water District 10am – 12pm\n735 Virginia Street Gridley CA 95948\nwww.buttewaterdistrict.org
URL:https://waterwrights.net/event/butte-water-district-1000am-5/
LOCATION:Butte WD\, 735 Virginia Street\, Gridley\, California\, 95948
END:VEVENT
BEGIN:VEVENT
DTSTART;TZID=America/Los_Angeles:20221013T100000
DTEND;TZID=America/Los_Angeles:20221013T120000
DTSTAMP:20260422T013205
CREATED:20220719T200121Z
LAST-MODIFIED:20220822T192148Z
UID:17722-1665655200-1665662400@waterwrights.net
SUMMARY:TriAngle T GSA 10:00am
DESCRIPTION:TriAngle T GSA 10am – 12pm\n4400 Hays Drive Chowchilla CA 93610\nwww.triangletwaterdistrict.org
URL:https://waterwrights.net/event/triangle-t-gsa-1000am-4/
LOCATION:Triangle T WD/GSA\, 4400 Hays Drive\, Chowchilla\, California\, 93610
END:VEVENT
BEGIN:VEVENT
DTSTART;TZID=America/Los_Angeles:20221013T150000
DTEND;TZID=America/Los_Angeles:20221013T170000
DTSTAMP:20260422T013205
CREATED:20220718T192234Z
LAST-MODIFIED:20221006T153049Z
UID:17635-1665673200-1665680400@waterwrights.net
SUMMARY:Fresno Irrigation District 3:00pm
DESCRIPTION:Fresno Irrigation District 3pm – 5pm\n2097 S. Mapel Ave Fresno CA 93725\nwww.fresnoirrigation.com
URL:https://waterwrights.net/event/fresno-irrigation-district-300pm-5/
LOCATION:Fresno Irrigation District\, 2097 S. Mapel Ave\, Fresno\, California\, 93725
END:VEVENT
END:VCALENDAR