BEGIN:VCALENDAR
VERSION:2.0
PRODID:-//Water Wrights - ECPv5.16.4//NONSGML v1.0//EN
CALSCALE:GREGORIAN
METHOD:PUBLISH
X-WR-CALNAME:Water Wrights
X-ORIGINAL-URL:https://waterwrights.net
X-WR-CALDESC:Events for Water Wrights
BEGIN:VTIMEZONE
TZID:America/Los_Angeles
BEGIN:DAYLIGHT
TZOFFSETFROM:-0800
TZOFFSETTO:-0700
TZNAME:PDT
DTSTART:20220313T100000
END:DAYLIGHT
BEGIN:STANDARD
TZOFFSETFROM:-0700
TZOFFSETTO:-0800
TZNAME:PST
DTSTART:20221106T090000
END:STANDARD
END:VTIMEZONE
BEGIN:VEVENT
DTSTART;TZID=America/Los_Angeles:20221017T083000
DTEND;TZID=America/Los_Angeles:20221017T103000
DTSTAMP:20260422T013118
CREATED:20220718T193815Z
LAST-MODIFIED:20220822T192204Z
UID:17654-1665995400-1666002600@waterwrights.net
SUMMARY:FWA Executive Committee 8:30am
DESCRIPTION:FWA Executive Committee 8:30am – 10:30am\n854 N Harvard Ave\, Lindsay\, CA 93247\nhttps://friantwater.org/
URL:https://waterwrights.net/event/fwa-executive-committee-830am-4/
LOCATION:FWA Executive Committee\, 854 N Harvard Ave\,\, Lindsay\,\, California\, 93247
END:VEVENT
BEGIN:VEVENT
DTSTART;TZID=America/Los_Angeles:20221017T130000
DTEND;TZID=America/Los_Angeles:20221017T150000
DTSTAMP:20260422T013118
CREATED:20220719T200334Z
LAST-MODIFIED:20221010T232244Z
UID:17726-1666011600-1666018800@waterwrights.net
SUMMARY:Greater Kaweah GSA 1:00pm
DESCRIPTION:Greater Kaweah GSA 1pm – 3pm\nKaweah Delta WCD offices\nwww.greaterkaweahgsa.org
URL:https://waterwrights.net/event/greater-kaweah-gsa-100pm-5/
LOCATION:Greater Kaweah GSA\, Kaweah Delta WCD offices\, California
END:VEVENT
END:VCALENDAR