BEGIN:VCALENDAR
VERSION:2.0
PRODID:-//Water Wrights - ECPv5.16.4//NONSGML v1.0//EN
CALSCALE:GREGORIAN
METHOD:PUBLISH
X-WR-CALNAME:Water Wrights
X-ORIGINAL-URL:https://waterwrights.net
X-WR-CALDESC:Events for Water Wrights
BEGIN:VTIMEZONE
TZID:America/Los_Angeles
BEGIN:DAYLIGHT
TZOFFSETFROM:-0800
TZOFFSETTO:-0700
TZNAME:PDT
DTSTART:20220313T100000
END:DAYLIGHT
BEGIN:STANDARD
TZOFFSETFROM:-0700
TZOFFSETTO:-0800
TZNAME:PST
DTSTART:20221106T090000
END:STANDARD
END:VTIMEZONE
BEGIN:VEVENT
DTSTART;TZID=America/Los_Angeles:20221027T100000
DTEND;TZID=America/Los_Angeles:20221027T120000
DTSTAMP:20260422T013241
CREATED:20220718T193710Z
LAST-MODIFIED:20220822T193118Z
UID:17652-1666864800-1666872000@waterwrights.net
SUMMARY:Friant Water Authority 10:00am
DESCRIPTION:Friant Water Authority 10am – 12pm\n854 N Harvard Ave\, Lindsay\, CA 93247\nwww.friantwater.org
URL:https://waterwrights.net/event/friant-water-authority-1000am-6/
LOCATION:Friant Water Authority\, 854 N Harvard Ave\,\, Lindsay\, California\, 93247
END:VEVENT
BEGIN:VEVENT
DTSTART;TZID=America/Los_Angeles:20221027T140000
DTEND;TZID=America/Los_Angeles:20221027T160000
DTSTAMP:20260422T013241
CREATED:20221026T235735Z
LAST-MODIFIED:20221026T235735Z
UID:19424-1666879200-1666886400@waterwrights.net
SUMMARY:Greater Kaweah Groundwater Sustainability Agency 2:00pm
DESCRIPTION:Greater Kaweah GSA 2pm – 4pm\nRitchie Barn 16338 Ave. 308\, Visalia\, CA 93292
URL:https://waterwrights.net/event/greater-kaweah-groundwater-sustainability-agency-200pm/
LOCATION:California
END:VEVENT
BEGIN:VEVENT
DTSTART;TZID=America/Los_Angeles:20221027T180000
DTEND;TZID=America/Los_Angeles:20221027T200000
DTSTAMP:20260422T013241
CREATED:20220719T200225Z
LAST-MODIFIED:20220822T193138Z
UID:17724-1666893600-1666900800@waterwrights.net
SUMMARY:North Kings GSA 6:00pm
DESCRIPTION:North Kings GSA 6pm – 8pm\nFID 2907 S Maple Avenue Fresno\, CA 93725\nwww.northkingsgsa.org
URL:https://waterwrights.net/event/north-kings-gsa-600pm-3/
LOCATION:North Kings GSA\, FID 2907 S Maple Avenue\, Fresno\, California\, 93725
END:VEVENT
END:VCALENDAR