BEGIN:VCALENDAR
VERSION:2.0
PRODID:-//Water Wrights - ECPv5.16.4//NONSGML v1.0//EN
CALSCALE:GREGORIAN
METHOD:PUBLISH
X-WR-CALNAME:Water Wrights
X-ORIGINAL-URL:https://waterwrights.net
X-WR-CALDESC:Events for Water Wrights
BEGIN:VTIMEZONE
TZID:America/Los_Angeles
BEGIN:DAYLIGHT
TZOFFSETFROM:-0800
TZOFFSETTO:-0700
TZNAME:PDT
DTSTART:20220313T100000
END:DAYLIGHT
BEGIN:STANDARD
TZOFFSETFROM:-0700
TZOFFSETTO:-0800
TZNAME:PST
DTSTART:20221106T090000
END:STANDARD
END:VTIMEZONE
BEGIN:VEVENT
DTSTART;TZID=America/Los_Angeles:20221101T090000
DTEND;TZID=America/Los_Angeles:20221101T110000
DTSTAMP:20260421T235310
CREATED:20220713T224155Z
LAST-MODIFIED:20220823T202440Z
UID:17460-1667293200-1667300400@waterwrights.net
SUMMARY:Turlock Irrigation District 9:00am
DESCRIPTION:Turlock Irrigation District 9am – 11am\n333 E. Canal Drive Turlock CA 95380\nwww.tid.org
URL:https://waterwrights.net/event/turlock-irrigation-district-900am-9/
LOCATION:Turlock ID\, 333 E. Canal Drive\, Turlock\, California\, 95380
END:VEVENT
BEGIN:VEVENT
DTSTART;TZID=America/Los_Angeles:20221101T090000
DTEND;TZID=America/Los_Angeles:20221101T110000
DTSTAMP:20260421T235310
CREATED:20220713T224727Z
LAST-MODIFIED:20220823T202503Z
UID:17474-1667293200-1667300400@waterwrights.net
SUMMARY:Oakdale Irrigation District 9:00am
DESCRIPTION:Oakdale Irrigation District 9am – 11am\n1205 East F Street Oakdale CA 95361\nwww.oakdaleirrigation.com
URL:https://waterwrights.net/event/oakdale-irrigation-district-900am-3/
LOCATION:Oakdale ID\, 1205 East F Street\, Oakdale\, California\, 95361
END:VEVENT
BEGIN:VEVENT
DTSTART;TZID=America/Los_Angeles:20221101T090000
DTEND;TZID=America/Los_Angeles:20221101T110000
DTSTAMP:20260421T235310
CREATED:20220713T225216Z
LAST-MODIFIED:20220823T202520Z
UID:17486-1667293200-1667300400@waterwrights.net
SUMMARY:Yuba County Water Authority 9:00am
DESCRIPTION:Yuba County Water Authority 9am – 11am\n1220 F Street Marysville CA 995901\nwww.ycwa.com
URL:https://waterwrights.net/event/yuba-county-water-authority-900am/
LOCATION:Yuba County WA\, 1220 F Street\, Marysville\, California\, 995901
END:VEVENT
BEGIN:VEVENT
DTSTART;TZID=America/Los_Angeles:20221101T090000
DTEND;TZID=America/Los_Angeles:20221101T110000
DTSTAMP:20260421T235310
CREATED:20220727T210043Z
LAST-MODIFIED:20220823T202645Z
UID:17896-1667293200-1667300400@waterwrights.net
SUMMARY:Kaweah Delta WCD 9:00am
DESCRIPTION:Kaweah Delta WCD 9am – 11am\n2975 N. Farmersville Blvd Farmersville CA 93223\nwww.kdwcd.com
URL:https://waterwrights.net/event/kaweah-delta-wcd-900am-2/
LOCATION:Kaweah Delta WCD\, 2975 N. Farmersville Blvd Farmersville\, California\, 93223
END:VEVENT
BEGIN:VEVENT
DTSTART;TZID=America/Los_Angeles:20221101T130000
DTEND;TZID=America/Los_Angeles:20221101T150000
DTSTAMP:20260421T235310
CREATED:20220727T211127Z
LAST-MODIFIED:20220823T202702Z
UID:17914-1667307600-1667314800@waterwrights.net
SUMMARY:Kern Delta Water District 1:00pm
DESCRIPTION:Kern Delta Water District 1pm – 3pm\n501 Taft High Way Bakersfield CA 93307\nwww.kerndelta.org
URL:https://waterwrights.net/event/kern-delta-water-district-100pm-9/
LOCATION:Kern Delta WD\, 501 Taft High Way\, Bakersfield\, California\, 93307
END:VEVENT
BEGIN:VEVENT
DTSTART;TZID=America/Los_Angeles:20221101T140000
DTEND;TZID=America/Los_Angeles:20221101T160000
DTSTAMP:20260421T235310
CREATED:20220713T230303Z
LAST-MODIFIED:20220823T202726Z
UID:17506-1667311200-1667318400@waterwrights.net
SUMMARY:Eastern Tule GSA 2:00pm
DESCRIPTION:Eastern Tule GSA 2pm – 4pm\n881 W. Morton Avenue\, Suite D\, Porterville\, CA 93257\nwww.easterntulegsa.com
URL:https://waterwrights.net/event/eastern-tule-gsa-200pm-3/
LOCATION:Eastern Tule GSA\, 881 W. Morton Avenue\, Suite D\, Porterville\, California\, 93257
END:VEVENT
END:VCALENDAR