BEGIN:VCALENDAR
VERSION:2.0
PRODID:-//Water Wrights - ECPv5.16.4//NONSGML v1.0//EN
CALSCALE:GREGORIAN
METHOD:PUBLISH
X-WR-CALNAME:Water Wrights
X-ORIGINAL-URL:https://waterwrights.net
X-WR-CALDESC:Events for Water Wrights
BEGIN:VTIMEZONE
TZID:America/Los_Angeles
BEGIN:DAYLIGHT
TZOFFSETFROM:-0800
TZOFFSETTO:-0700
TZNAME:PDT
DTSTART:20220313T100000
END:DAYLIGHT
BEGIN:STANDARD
TZOFFSETFROM:-0700
TZOFFSETTO:-0800
TZNAME:PST
DTSTART:20221106T090000
END:STANDARD
END:VTIMEZONE
BEGIN:VEVENT
DTSTART;TZID=America/Los_Angeles:20221103T090000
DTEND;TZID=America/Los_Angeles:20221103T110000
DTSTAMP:20260421T235429
CREATED:20220713T225351Z
LAST-MODIFIED:20220823T202824Z
UID:17490-1667466000-1667473200@waterwrights.net
SUMMARY:Glenn-Colusa Irrigation District 9:00am
DESCRIPTION:Glenn-Colusa Irrigation District 9am – 11am\n344 E Laurel Street Willows CA 95988\nwww.gcid.net
URL:https://waterwrights.net/event/glenn-colusa-irrigation-district-900am-4/
LOCATION:Glenn Colusa ID Meeting\, 344 E Laurel Street Willows\, California\, 95988
END:VEVENT
BEGIN:VEVENT
DTSTART;TZID=America/Los_Angeles:20221103T130000
DTEND;TZID=America/Los_Angeles:20221103T150000
DTSTAMP:20260421T235429
CREATED:20220714T192446Z
LAST-MODIFIED:20220823T202848Z
UID:17532-1667480400-1667487600@waterwrights.net
SUMMARY:Tri County Water Authority 1:00pm
DESCRIPTION:Tri County Water Authority 1pm – 3pm\n944 Whitley Ave. Ste. E Corcoran CA 93212\nwww.tcwater.org
URL:https://waterwrights.net/event/tri-county-water-authority-100pm-4/
LOCATION:944 Whitley Ave. Ste. E Corcoran CA 93212\, 944 Whitley Ave.\, California\, 93212
END:VEVENT
END:VCALENDAR