BEGIN:VCALENDAR
VERSION:2.0
PRODID:-//Water Wrights - ECPv5.16.4//NONSGML v1.0//EN
CALSCALE:GREGORIAN
METHOD:PUBLISH
X-WR-CALNAME:Water Wrights
X-ORIGINAL-URL:https://waterwrights.net
X-WR-CALDESC:Events for Water Wrights
BEGIN:VTIMEZONE
TZID:America/Los_Angeles
BEGIN:DAYLIGHT
TZOFFSETFROM:-0800
TZOFFSETTO:-0700
TZNAME:PDT
DTSTART:20220313T100000
END:DAYLIGHT
BEGIN:STANDARD
TZOFFSETFROM:-0700
TZOFFSETTO:-0800
TZNAME:PST
DTSTART:20221106T090000
END:STANDARD
END:VTIMEZONE
BEGIN:VEVENT
DTSTART;TZID=America/Los_Angeles:20221109T080000
DTEND;TZID=America/Los_Angeles:20221109T103000
DTSTAMP:20260421T235556
CREATED:20220727T210906Z
LAST-MODIFIED:20220824T174429Z
UID:17910-1667980800-1667989800@waterwrights.net
SUMMARY:Wheeler Ridge Maricopa Water District 8:00am
DESCRIPTION:Wheeler Ridge Maricopa Water District 8am – 10am\n12109 High Way 166 Bakerfield CA 93312\nwww.wrmwsd.com
URL:https://waterwrights.net/event/wheeler-ridge-maricopa-water-district-800am-3/
LOCATION:Wheeler Ridge Maricopa WD\, 12109 High Way 166\, Bakerfield\, California\, 93312
END:VEVENT
BEGIN:VEVENT
DTSTART;TZID=America/Los_Angeles:20221109T090000
DTEND;TZID=America/Los_Angeles:20221109T110000
DTSTAMP:20260421T235556
CREATED:20220727T211006Z
LAST-MODIFIED:20220824T174444Z
UID:17912-1667984400-1667991600@waterwrights.net
SUMMARY:Shafter Wasco Irrigation District 9:00am
DESCRIPTION:Shafter Wasco Irrigation District 9am – 11am\n16294 Highway 43 Wasco CA 93280\nwww.swid.org
URL:https://waterwrights.net/event/shafter-wasco-irrigation-district-900am-3/
LOCATION:Shafter Wasco ID\, 16294 Highway 43\, Wasco\, California\, 93280
END:VEVENT
BEGIN:VEVENT
DTSTART;TZID=America/Los_Angeles:20221109T113000
DTEND;TZID=America/Los_Angeles:20221109T133000
DTSTAMP:20260421T235556
CREATED:20220727T205755Z
LAST-MODIFIED:20220824T174503Z
UID:17892-1667993400-1668000600@waterwrights.net
SUMMARY:Orange Cove Irrigation District 11:45am
DESCRIPTION:Orange Cove Irrigation District 11:45am – 1:30pm\n1130 Park Ave Orange Cove CA 93646\nwww.orangecoveid.org
URL:https://waterwrights.net/event/orange-cove-irrigation-district-1145am-2/
LOCATION:Orange Cove ID\, 1130 Park Ave\, Orange Cove\, California\, 93646
END:VEVENT
BEGIN:VEVENT
DTSTART;TZID=America/Los_Angeles:20221109T123000
DTEND;TZID=America/Los_Angeles:20221109T143000
DTSTAMP:20260421T235556
CREATED:20220727T210808Z
LAST-MODIFIED:20220824T174526Z
UID:17908-1667997000-1668004200@waterwrights.net
SUMMARY:Semitropic Water District 12:30pm
DESCRIPTION:Semitropic Water District 12:30pm – 2:30pm\n1101 Central Avenue Wasco CA 93280\nwww.semitropic.com
URL:https://waterwrights.net/event/semitropic-water-district-1230pm-3/
LOCATION:Semitropic WD\, 1101 Central Avenue\, Wasco\, California\, 93280
END:VEVENT
BEGIN:VEVENT
DTSTART;TZID=America/Los_Angeles:20221109T133000
DTEND;TZID=America/Los_Angeles:20221109T153000
DTSTAMP:20260421T235556
CREATED:20220727T205138Z
LAST-MODIFIED:20220824T174608Z
UID:17884-1668000600-1668007800@waterwrights.net
SUMMARY:Chowchilla Water District 1:30pm
DESCRIPTION:Chowchilla Water District 1:30pm – 3:30pm\n327 S Chowchilla Blvd\, Chowchilla\, CA 93610\nwww.cwdwater.com
URL:https://waterwrights.net/event/chowchilla-water-district-130pm-4/
LOCATION:Chowchilla WD\, 327 S Chowchilla Blvd\,\, Chowchilla\,\, California\, 93610
END:VEVENT
END:VCALENDAR