BEGIN:VCALENDAR
VERSION:2.0
PRODID:-//Water Wrights - ECPv5.16.4//NONSGML v1.0//EN
CALSCALE:GREGORIAN
METHOD:PUBLISH
X-WR-CALNAME:Water Wrights
X-ORIGINAL-URL:https://waterwrights.net
X-WR-CALDESC:Events for Water Wrights
BEGIN:VTIMEZONE
TZID:America/Los_Angeles
BEGIN:DAYLIGHT
TZOFFSETFROM:-0800
TZOFFSETTO:-0700
TZNAME:PDT
DTSTART:20220313T100000
END:DAYLIGHT
BEGIN:STANDARD
TZOFFSETFROM:-0700
TZOFFSETTO:-0800
TZNAME:PST
DTSTART:20221106T090000
END:STANDARD
END:VTIMEZONE
BEGIN:VEVENT
DTSTART;TZID=America/Los_Angeles:20221114T130000
DTEND;TZID=America/Los_Angeles:20221114T150000
DTSTAMP:20260421T235522
CREATED:20220713T230208Z
LAST-MODIFIED:20220824T174737Z
UID:17504-1668430800-1668438000@waterwrights.net
SUMMARY:Greater Kaweah GSA 1:00pm
DESCRIPTION:Greater Kaweah GSA 1pm – 3pm\nKaweah Delta WCD offices\nwww.greaterkaweahgsa.org
URL:https://waterwrights.net/event/greater-kaweah-gsa-100pm-3/
LOCATION:Greater Kaweah GSA\, Kaweah Delta WCD offices\, California
END:VEVENT
END:VCALENDAR