BEGIN:VCALENDAR
VERSION:2.0
PRODID:-//Water Wrights - ECPv5.16.4//NONSGML v1.0//EN
CALSCALE:GREGORIAN
METHOD:PUBLISH
X-WR-CALNAME:Water Wrights
X-ORIGINAL-URL:https://waterwrights.net
X-WR-CALDESC:Events for Water Wrights
BEGIN:VTIMEZONE
TZID:America/Los_Angeles
BEGIN:DAYLIGHT
TZOFFSETFROM:-0800
TZOFFSETTO:-0700
TZNAME:PDT
DTSTART:20220313T100000
END:DAYLIGHT
BEGIN:STANDARD
TZOFFSETFROM:-0700
TZOFFSETTO:-0800
TZNAME:PST
DTSTART:20221106T090000
END:STANDARD
END:VTIMEZONE
BEGIN:VEVENT
DTSTART;VALUE=DATE:20221115
DTEND;VALUE=DATE:20221118
DTSTAMP:20260421T235237
CREATED:20221116T185522Z
LAST-MODIFIED:20221116T185522Z
UID:19524-1668470400-1668729599@waterwrights.net
SUMMARY:Friant Water Authority Retreat 15-17th No Board Meeting this month
DESCRIPTION:
URL:https://waterwrights.net/event/friant-water-authority-retreat-15-17th-no-board-meeting-this-month/
END:VEVENT
BEGIN:VEVENT
DTSTART;TZID=America/Los_Angeles:20221117T020000
DTEND;TZID=America/Los_Angeles:20221117T160000
DTSTAMP:20260421T235237
CREATED:20220816T182311Z
LAST-MODIFIED:20220816T182311Z
UID:18315-1668650400-1668700800@waterwrights.net
SUMMARY:Kings River East GSA 2:00pm
DESCRIPTION:Kings River East GSA 2pm – 4pm\nwww.kingsrivereast.org
URL:https://waterwrights.net/event/kings-river-east-gsa-200pm/
END:VEVENT
BEGIN:VEVENT
DTSTART;TZID=America/Los_Angeles:20221117T090000
DTEND;TZID=America/Los_Angeles:20221117T110000
DTSTAMP:20260421T235237
CREATED:20220713T225421Z
LAST-MODIFIED:20220824T175108Z
UID:17492-1668675600-1668682800@waterwrights.net
SUMMARY:Glenn-Colusa Irrigation District 9:00am
DESCRIPTION:Glenn-Colusa Irrigation District 9am – 11am\n344 E Laurel Street Willows CA 95988\nwww.gcid.net
URL:https://waterwrights.net/event/glenn-colusa-irrigation-district-900am-5/
LOCATION:Glenn Colusa ID Meeting\, 344 E Laurel Street Willows\, California\, 95988
END:VEVENT
BEGIN:VEVENT
DTSTART;TZID=America/Los_Angeles:20221117T133000
DTEND;TZID=America/Los_Angeles:20221117T153000
DTSTAMP:20260421T235237
CREATED:20220711T192713Z
LAST-MODIFIED:20220824T175208Z
UID:17380-1668691800-1668699000@waterwrights.net
SUMMARY:Richdale Irrigation District 1:30pm
DESCRIPTION:Richdale Irrigation District 1:30pm – 3:30pm\nPO Box 147 Richvale CA 95974\nwww.richvaleid.com
URL:https://waterwrights.net/event/richdale-irrigation-district-130pm/
LOCATION:Richvale Irrigation District\, PO Box 147\, Richvale\, California\, 95974
END:VEVENT
END:VCALENDAR