BEGIN:VCALENDAR
VERSION:2.0
PRODID:-//Water Wrights - ECPv5.16.4//NONSGML v1.0//EN
CALSCALE:GREGORIAN
METHOD:PUBLISH
X-WR-CALNAME:Water Wrights
X-ORIGINAL-URL:https://waterwrights.net
X-WR-CALDESC:Events for Water Wrights
BEGIN:VTIMEZONE
TZID:America/Los_Angeles
BEGIN:DAYLIGHT
TZOFFSETFROM:-0800
TZOFFSETTO:-0700
TZNAME:PDT
DTSTART:20220313T100000
END:DAYLIGHT
BEGIN:STANDARD
TZOFFSETFROM:-0700
TZOFFSETTO:-0800
TZNAME:PST
DTSTART:20221106T090000
END:STANDARD
END:VTIMEZONE
BEGIN:VEVENT
DTSTART;TZID=America/Los_Angeles:20221209T090000
DTEND;TZID=America/Los_Angeles:20221220T120000
DTSTAMP:20260421T221250
CREATED:20221129T020343Z
LAST-MODIFIED:20221129T020343Z
UID:19561-1670576400-1671537600@waterwrights.net
SUMMARY:Central California Regional Waste Water Control Board 9am
DESCRIPTION:Day two of this month’s Regional Board where a cease and desist order against the City of Arvin’s Waste Water Treatment Facility will be considered. \nhttps://www.waterboards.ca.gov/centralvalley/board_decisions/tentative_orders/2212/
URL:https://waterwrights.net/event/central-california-regional-waste-water-control-board-9am/
END:VEVENT
BEGIN:VEVENT
DTSTART;TZID=America/Los_Angeles:20221213T080000
DTEND;TZID=America/Los_Angeles:20221213T100000
DTSTAMP:20260421T221250
CREATED:20220720T193726Z
LAST-MODIFIED:20220901T215144Z
UID:17767-1670918400-1670925600@waterwrights.net
SUMMARY:Rosedale Rio Bravo Water Storage District 8:00am
DESCRIPTION:Rosedale Rio Bravo Water Storage District 8am – 10am\n849 Allen Road Bakersfield CA 93314\nwww.rrbwsd.com
URL:https://waterwrights.net/event/rosedale-rio-bravo-water-storage-district-800am/
LOCATION:Rosedale Rio Bravo WSD\, 849 Allen Road\, Bakersfield\, California\, 93314
END:VEVENT
BEGIN:VEVENT
DTSTART;TZID=America/Los_Angeles:20221213T090000
DTEND;TZID=America/Los_Angeles:20221213T110000
DTSTAMP:20260421T221250
CREATED:20220714T192654Z
LAST-MODIFIED:20220901T215203Z
UID:17536-1670922000-1670929200@waterwrights.net
SUMMARY:Tulare Irrigation District 9:00am
DESCRIPTION:Tulare Irrigation District 9am – 11am\n6826 Avenue 240 Tulare CA 93274\nwww.tulareid.org
URL:https://waterwrights.net/event/tulare-irrigation-district-900am-4/
LOCATION:Tulare ID\, 6826 Avenue 240\, Tulare\, California\, 93274
END:VEVENT
BEGIN:VEVENT
DTSTART;TZID=America/Los_Angeles:20221213T090000
DTEND;TZID=America/Los_Angeles:20221213T110000
DTSTAMP:20260421T221250
CREATED:20220714T192951Z
LAST-MODIFIED:20220901T215226Z
UID:17542-1670922000-1670929200@waterwrights.net
SUMMARY:Lower Tule River Irrigation District 9:00am
DESCRIPTION:Lower Tule River Irrigation District 9am – 11am\n357 East Olive Ave Tipton CA 93272\nwww.ltrid.org
URL:https://waterwrights.net/event/lower-tule-river-irrigation-district-900am-4/
LOCATION:Lower Tule River ID\, 357 East Olive Ave\, Tipton\, California\, 93272
END:VEVENT
BEGIN:VEVENT
DTSTART;TZID=America/Los_Angeles:20221213T090000
DTEND;TZID=America/Los_Angeles:20221213T110000
DTSTAMP:20260421T221250
CREATED:20220721T194534Z
LAST-MODIFIED:20220901T215243Z
UID:17790-1670922000-1670929200@waterwrights.net
SUMMARY:Turlock Irrigation District
DESCRIPTION:Turlock Irrigation District 9am – 11am\n333 E. Canal Drive Turlock CA 95380\nwww.tid.org
URL:https://waterwrights.net/event/turlock-irrigation-district-7/
LOCATION:Turlock ID\, 333 E. Canal Drive\, Turlock\, California\, 95380
END:VEVENT
BEGIN:VEVENT
DTSTART;TZID=America/Los_Angeles:20221213T090000
DTEND;TZID=America/Los_Angeles:20221213T110000
DTSTAMP:20260421T221250
CREATED:20220721T194804Z
LAST-MODIFIED:20220901T215304Z
UID:17798-1670922000-1670929200@waterwrights.net
SUMMARY:Modesto Irrigation District 9:00am
DESCRIPTION:Modesto Irrigation District 9am – 11am\n1231 11 Street Modesto CA 95354\nwww.mid.org
URL:https://waterwrights.net/event/modesto-irrigation-district-900am-6/
LOCATION:Modesto ID\, 1231 11 Street\, Modesto\, California\, 95354
END:VEVENT
BEGIN:VEVENT
DTSTART;TZID=America/Los_Angeles:20221213T090000
DTEND;TZID=America/Los_Angeles:20221213T110000
DTSTAMP:20260421T221250
CREATED:20220721T195150Z
LAST-MODIFIED:20220901T215320Z
UID:17804-1670922000-1670929200@waterwrights.net
SUMMARY:South San Joaquin Irrigation District 9:00am
DESCRIPTION:South San Joaquin Irrigation District 9am – 11am\n11011 E. Highway 120 Manteca CA 95336\nwww.ssjid.com
URL:https://waterwrights.net/event/south-san-joaquin-irrigation-district-900am-10/
LOCATION:South San Joaquin ID\, 11011 E. Highway 120\, Manteca\, California\, 95336
END:VEVENT
BEGIN:VEVENT
DTSTART;TZID=America/Los_Angeles:20221213T120000
DTEND;TZID=America/Los_Angeles:20221213T140000
DTSTAMP:20260421T221250
CREATED:20220720T194053Z
LAST-MODIFIED:20220901T215333Z
UID:17773-1670932800-1670940000@waterwrights.net
SUMMARY:Arvin Edison Water Storage District 12:00pm
DESCRIPTION:Arvin Edison Water Storage District 12pm – 2pm\n20401 Bear Mountain Blvd Arvin CA 93203\nwww.aewsd.org
URL:https://waterwrights.net/event/arvin-edison-water-storage-district-1200pm/
LOCATION:Arvin Edison WSD\, 20401 Bear Mountain Blvd\, Arvin\, California\, 93203
END:VEVENT
BEGIN:VEVENT
DTSTART;TZID=America/Los_Angeles:20221213T123000
DTEND;TZID=America/Los_Angeles:20221213T143000
DTSTAMP:20260421T221250
CREATED:20220721T195320Z
LAST-MODIFIED:20220901T215401Z
UID:17808-1670934600-1670941800@waterwrights.net
SUMMARY:Stockton East Water District 12:30pm
DESCRIPTION:Stockton East Water District 12:30pm – 2:30pm\n6767 E. Main Street Stockton CA 95215\nwww.sewd.net
URL:https://waterwrights.net/event/stockton-east-water-district-1230pm-6/
LOCATION:Stockton East WD\, 6767 E. Main Street\, Stockton\, California\, 95215
END:VEVENT
BEGIN:VEVENT
DTSTART;TZID=America/Los_Angeles:20221213T130000
DTEND;TZID=America/Los_Angeles:20221213T150000
DTSTAMP:20260421T221250
CREATED:20220714T192349Z
LAST-MODIFIED:20220901T215424Z
UID:17530-1670936400-1670943600@waterwrights.net
SUMMARY:Kings County Water District 1:00pm
DESCRIPTION:Kings County Water District 1pm – 3pm\n200 Campus Drive Hanford CA 93230\nwww.kingscwd.org
URL:https://waterwrights.net/event/kings-county-water-district-100pm-3/
LOCATION:Kings County WD\, 200 Campus Drive\, Hanford\, California\, 93230
END:VEVENT
BEGIN:VEVENT
DTSTART;TZID=America/Los_Angeles:20221213T130000
DTEND;TZID=America/Los_Angeles:20221213T150000
DTSTAMP:20260421T221250
CREATED:20220721T200514Z
LAST-MODIFIED:20220901T215513Z
UID:17835-1670936400-1670943600@waterwrights.net
SUMMARY:El Rico GSA 1:00pm
DESCRIPTION:El Rico GSA 1pm – 3pm\n1001 Chase Avenue\, Corcoran CA 93212\nwww.elricogsa.com
URL:https://waterwrights.net/event/el-rico-gsa-100pm-6/
LOCATION:El Rico GSA\, 1001 Chase Avenue\,\, Corcoran\, California\, 93212
END:VEVENT
BEGIN:VEVENT
DTSTART;TZID=America/Los_Angeles:20221213T140000
DTEND;TZID=America/Los_Angeles:20221213T160000
DTSTAMP:20260421T221250
CREATED:20220720T193254Z
LAST-MODIFIED:20220901T215532Z
UID:17759-1670940000-1670947200@waterwrights.net
SUMMARY:Lindmore Irrigation District 2:00pm
DESCRIPTION:Lindmore Irrigation District 2pm – 4pm\n315 E. Lindmore Street Lindsay CA 93247\nwww.lindmoreid.com
URL:https://waterwrights.net/event/lindmore-irrigation-district-200pm-6/
LOCATION:Lindmore ID\, 315 E. Lindmore Street\, Lindsay\, California\, 93247
END:VEVENT
BEGIN:VEVENT
DTSTART;TZID=America/Los_Angeles:20221213T150000
DTEND;TZID=America/Los_Angeles:20221213T170000
DTSTAMP:20260421T221250
CREATED:20220720T194139Z
LAST-MODIFIED:20220901T215548Z
UID:17775-1670943600-1670950800@waterwrights.net
SUMMARY:Kern Water Bank 3:00pm
DESCRIPTION:Kern Water Bank 3pm – 5pm\n1620 Mill Rock Way\, Ste 500 Bakersfield CA 93311\nwww.kwb.org
URL:https://waterwrights.net/event/kern-water-bank-300pm-5/
LOCATION:Kern Water Bank\, 1620 Mill Rock Way\, Ste 500\, Bakersfield\, California\, 93311
END:VEVENT
END:VCALENDAR