BEGIN:VCALENDAR
VERSION:2.0
PRODID:-//Water Wrights - ECPv5.16.4//NONSGML v1.0//EN
CALSCALE:GREGORIAN
METHOD:PUBLISH
X-WR-CALNAME:Water Wrights
X-ORIGINAL-URL:https://waterwrights.net
X-WR-CALDESC:Events for Water Wrights
BEGIN:VTIMEZONE
TZID:America/Los_Angeles
BEGIN:DAYLIGHT
TZOFFSETFROM:-0800
TZOFFSETTO:-0700
TZNAME:PDT
DTSTART:20220313T100000
END:DAYLIGHT
BEGIN:STANDARD
TZOFFSETFROM:-0700
TZOFFSETTO:-0800
TZNAME:PST
DTSTART:20221106T090000
END:STANDARD
END:VTIMEZONE
BEGIN:VEVENT
DTSTART;TZID=America/Los_Angeles:20221209T090000
DTEND;TZID=America/Los_Angeles:20221220T120000
DTSTAMP:20260421T221326
CREATED:20221129T020343Z
LAST-MODIFIED:20221129T020343Z
UID:19561-1670576400-1671537600@waterwrights.net
SUMMARY:Central California Regional Waste Water Control Board 9am
DESCRIPTION:Day two of this month’s Regional Board where a cease and desist order against the City of Arvin’s Waste Water Treatment Facility will be considered. \nhttps://www.waterboards.ca.gov/centralvalley/board_decisions/tentative_orders/2212/
URL:https://waterwrights.net/event/central-california-regional-waste-water-control-board-9am/
END:VEVENT
BEGIN:VEVENT
DTSTART;TZID=America/Los_Angeles:20221215T133000
DTEND;TZID=America/Los_Angeles:20221215T153000
DTSTAMP:20260421T221326
CREATED:20220721T200008Z
LAST-MODIFIED:20220901T215828Z
UID:17822-1671111000-1671118200@waterwrights.net
SUMMARY:Richvale Irrigation District 1:30pm
DESCRIPTION:RID 1:30pm – 3:30pm\nPO Box 147 Richvale CA 95974\nwww.richvaleid.com
URL:https://waterwrights.net/event/richvale-irrigation-district-130pm-5/
LOCATION:Richvale Irrigation District\, PO Box 147\, Richvale\, California\, 95974
END:VEVENT
BEGIN:VEVENT
DTSTART;TZID=America/Los_Angeles:20221215T150000
DTEND;TZID=America/Los_Angeles:20221215T170000
DTSTAMP:20260421T221326
CREATED:20220714T192132Z
LAST-MODIFIED:20220901T215841Z
UID:17526-1671116400-1671123600@waterwrights.net
SUMMARY:Fresno Irrigation District 3:00pm
DESCRIPTION:FID 3pm – 5pm\n2097 S. Mapel Ave Fresno CA 93725\nwww.fresnoirrigation.com
URL:https://waterwrights.net/event/fresno-irrigation-district-300pm-4/
LOCATION:Fresno Irrigation District\, 2097 S. Mapel Ave\, Fresno\, California\, 93725
END:VEVENT
BEGIN:VEVENT
DTSTART;TZID=America/Los_Angeles:20221215T180000
DTEND;TZID=America/Los_Angeles:20221215T200000
DTSTAMP:20260421T221326
CREATED:20220721T200245Z
LAST-MODIFIED:20221208T215738Z
UID:17828-1671127200-1671134400@waterwrights.net
SUMMARY:North Kings GSA CANCELLED
DESCRIPTION:North Kings GSA 6pm – 8pm\nFID 2907 S Maple Avenue Fresno\, CA 93725\nwww.northkingsgsa.org
URL:https://waterwrights.net/event/north-kings-gsa-600pm-4/
LOCATION:North Kings GSA\, FID 2907 S Maple Avenue\, Fresno\, California\, 93725
END:VEVENT
END:VCALENDAR