BEGIN:VCALENDAR
VERSION:2.0
PRODID:-//Water Wrights - ECPv5.16.4//NONSGML v1.0//EN
CALSCALE:GREGORIAN
METHOD:PUBLISH
X-WR-CALNAME:Water Wrights
X-ORIGINAL-URL:https://waterwrights.net
X-WR-CALDESC:Events for Water Wrights
BEGIN:VTIMEZONE
TZID:America/Los_Angeles
BEGIN:DAYLIGHT
TZOFFSETFROM:-0800
TZOFFSETTO:-0700
TZNAME:PDT
DTSTART:20220313T100000
END:DAYLIGHT
BEGIN:STANDARD
TZOFFSETFROM:-0700
TZOFFSETTO:-0800
TZNAME:PST
DTSTART:20221106T090000
END:STANDARD
END:VTIMEZONE
BEGIN:VEVENT
DTSTART;TZID=America/Los_Angeles:20221209T090000
DTEND;TZID=America/Los_Angeles:20221220T120000
DTSTAMP:20260421T221805
CREATED:20221129T020343Z
LAST-MODIFIED:20221129T020343Z
UID:19561-1670576400-1671537600@waterwrights.net
SUMMARY:Central California Regional Waste Water Control Board 9am
DESCRIPTION:Day two of this month’s Regional Board where a cease and desist order against the City of Arvin’s Waste Water Treatment Facility will be considered. \nhttps://www.waterboards.ca.gov/centralvalley/board_decisions/tentative_orders/2212/
URL:https://waterwrights.net/event/central-california-regional-waste-water-control-board-9am/
END:VEVENT
BEGIN:VEVENT
DTSTART;TZID=America/Los_Angeles:20221220T090000
DTEND;TZID=America/Los_Angeles:20221220T110000
DTSTAMP:20260421T221805
CREATED:20220721T194602Z
LAST-MODIFIED:20220901T215916Z
UID:17792-1671526800-1671534000@waterwrights.net
SUMMARY:Turlock Irrigation District
DESCRIPTION:Turlock Irrigation District 9am – 11am\n333 E. Canal Drive Turlock CA 95380\nwww.tid.org
URL:https://waterwrights.net/event/turlock-irrigation-district-8/
LOCATION:Turlock ID\, 333 E. Canal Drive\, Turlock\, California\, 95380
END:VEVENT
BEGIN:VEVENT
DTSTART;TZID=America/Los_Angeles:20221220T090000
DTEND;TZID=America/Los_Angeles:20221220T110000
DTSTAMP:20260421T221805
CREATED:20220721T195617Z
LAST-MODIFIED:20220901T215941Z
UID:17814-1671526800-1671534000@waterwrights.net
SUMMARY:Yuba County Water Agency 9:00am
DESCRIPTION:Yuba County Water Agency 9am – 11am\n1220 F Street Marysville CA 995901\nwww.ycwa.com
URL:https://waterwrights.net/event/yuba-county-water-agency-900am-4/
LOCATION:Yuba County WA\, 1220 F Street\, Marysville\, California\, 995901
END:VEVENT
BEGIN:VEVENT
DTSTART;TZID=America/Los_Angeles:20221220T090000
DTEND;TZID=America/Los_Angeles:20221220T110000
DTSTAMP:20260421T221805
CREATED:20220721T200051Z
LAST-MODIFIED:20220901T215958Z
UID:17824-1671526800-1671534000@waterwrights.net
SUMMARY:Western Canal Water District 9:00am
DESCRIPTION:Western Canal Water District 9:00am\nPO Box 190 Richval CA 95974\nwww.westerncanal.com
URL:https://waterwrights.net/event/western-canal-water-district-900am-6/
LOCATION:Western Canal WD\, PO Box 190 Richval\, Richval\, California\, 95974
END:VEVENT
BEGIN:VEVENT
DTSTART;TZID=America/Los_Angeles:20221220T130000
DTEND;TZID=America/Los_Angeles:20221220T150000
DTSTAMP:20260421T221805
CREATED:20220714T191641Z
LAST-MODIFIED:20220901T220031Z
UID:17518-1671541200-1671548400@waterwrights.net
SUMMARY:Madera Irrigation District 1:00pm
DESCRIPTION:Madera Irrigation District 1pm – 3pm\n12152 Rd 28 1/4\, Madera\, CA 93637\nwww.madera-id.org
URL:https://waterwrights.net/event/madera-irrigation-district-100pm-3/
LOCATION:Madera ID\, 12152 Rd 28 1/4\,\, Madera\,\, California\, 93637
END:VEVENT
BEGIN:VEVENT
DTSTART;TZID=America/Los_Angeles:20221220T130000
DTEND;TZID=America/Los_Angeles:20221220T150000
DTSTAMP:20260421T221805
CREATED:20220720T192900Z
LAST-MODIFIED:20220901T220049Z
UID:17751-1671541200-1671548400@waterwrights.net
SUMMARY:Westlands Water District 1:00pm
DESCRIPTION:Westlands Water District 1pm – 3pm\n3130 N. Fresno St Fresno CA 93703\nwww.wwd.ca.gov
URL:https://waterwrights.net/event/westlands-water-district-100pm-7/
LOCATION:Westlands WD\, 3130 N. Fresno St\, Fresno\, California\, 93703
END:VEVENT
BEGIN:VEVENT
DTSTART;TZID=America/Los_Angeles:20221220T130000
DTEND;TZID=America/Los_Angeles:20221220T150000
DTSTAMP:20260421T221805
CREATED:20220720T193941Z
LAST-MODIFIED:20220901T220107Z
UID:17771-1671541200-1671548400@waterwrights.net
SUMMARY:Kern Delta Water District 1:00pm
DESCRIPTION:Kern Delta Water District 1pm – 3pm\n501 Taft High Way Bakersfield CA 93307\nwww.kerndelta.org
URL:https://waterwrights.net/event/kern-delta-water-district-100pm-8/
LOCATION:Kern Delta WD\, 501 Taft High Way\, Bakersfield\, California\, 93307
END:VEVENT
END:VCALENDAR