BEGIN:VCALENDAR
VERSION:2.0
PRODID:-//Water Wrights - ECPv5.16.4//NONSGML v1.0//EN
CALSCALE:GREGORIAN
METHOD:PUBLISH
X-WR-CALNAME:Water Wrights
X-ORIGINAL-URL:https://waterwrights.net
X-WR-CALDESC:Events for Water Wrights
BEGIN:VTIMEZONE
TZID:America/Los_Angeles
BEGIN:DAYLIGHT
TZOFFSETFROM:-0800
TZOFFSETTO:-0700
TZNAME:PDT
DTSTART:20230312T100000
END:DAYLIGHT
BEGIN:STANDARD
TZOFFSETFROM:-0700
TZOFFSETTO:-0800
TZNAME:PST
DTSTART:20231105T090000
END:STANDARD
END:VTIMEZONE
BEGIN:VEVENT
DTSTART;TZID=America/Los_Angeles:20230104T133000
DTEND;TZID=America/Los_Angeles:20230104T143000
DTSTAMP:20260421T203829
CREATED:20230103T222858Z
LAST-MODIFIED:20230103T222858Z
UID:19713-1672839000-1672842600@waterwrights.net
SUMMARY:South Delta Water Agency 1:30pm
DESCRIPTION:South Delta WA\, 1:30pm – 2:30pm\nhttps://southdeltawater.org/
URL:https://waterwrights.net/event/south-delta-water-agency-130pm-8/
LOCATION:South Delta WA\, 3650 W. Canal Blvd.\, Tracy\, CA\, 95304\, United States
END:VEVENT
END:VCALENDAR