BEGIN:VCALENDAR
VERSION:2.0
PRODID:-//Water Wrights - ECPv5.16.4//NONSGML v1.0//EN
CALSCALE:GREGORIAN
METHOD:PUBLISH
X-WR-CALNAME:Water Wrights
X-ORIGINAL-URL:https://waterwrights.net
X-WR-CALDESC:Events for Water Wrights
BEGIN:VTIMEZONE
TZID:America/Los_Angeles
BEGIN:DAYLIGHT
TZOFFSETFROM:-0800
TZOFFSETTO:-0700
TZNAME:PDT
DTSTART:20230312T100000
END:DAYLIGHT
BEGIN:STANDARD
TZOFFSETFROM:-0700
TZOFFSETTO:-0800
TZNAME:PST
DTSTART:20231105T090000
END:STANDARD
END:VTIMEZONE
BEGIN:VEVENT
DTSTART;TZID=America/Los_Angeles:20230110T080000
DTEND;TZID=America/Los_Angeles:20230110T170000
DTSTAMP:20260421T203909
CREATED:20230103T194523Z
LAST-MODIFIED:20230103T194523Z
UID:19678-1673337600-1673370000@waterwrights.net
SUMMARY:Kings County Water District\, 1:00pm
DESCRIPTION:Kings County WD\, 1pm – 3pm\nhttp://www.kingscwd.org
URL:https://waterwrights.net/event/kings-county-water-district-100pm-6/
LOCATION:Kings County WD\, 200 Campus Drive\, Hanford\, California\, 93230
END:VEVENT
BEGIN:VEVENT
DTSTART;TZID=America/Los_Angeles:20230110T080000
DTEND;TZID=America/Los_Angeles:20230110T170000
DTSTAMP:20260421T203909
CREATED:20230103T194637Z
LAST-MODIFIED:20230103T194637Z
UID:19680-1673337600-1673370000@waterwrights.net
SUMMARY:Lindmore Irrigation District\, 2:00pm
DESCRIPTION:Lindmore ID\, 2pm – 3pm\nhttp://www.lindmoreid.com
URL:https://waterwrights.net/event/lindmore-irrigation-district-200pm-7/
LOCATION:Lindmore ID\, 315 E. Lindmore Street\, Lindsay\, California\, 93247
END:VEVENT
BEGIN:VEVENT
DTSTART;TZID=America/Los_Angeles:20230110T080000
DTEND;TZID=America/Los_Angeles:20230110T100000
DTSTAMP:20260421T203909
CREATED:20230103T200444Z
LAST-MODIFIED:20230103T200444Z
UID:19690-1673337600-1673344800@waterwrights.net
SUMMARY:Rosedale Rio Bravo Water Service District\, 8:00am
DESCRIPTION:Rosedale Rio Bravo WSD\, 8am – 9am\nhttp://www.rrbwsd.com
URL:https://waterwrights.net/event/rosedale-rio-bravo-water-service-district-800am-6/
LOCATION:Rosedale Rio Bravo WSD\, 849 Allen Road\, Bakersfield\, California\, 93314
END:VEVENT
BEGIN:VEVENT
DTSTART;TZID=America/Los_Angeles:20230110T090000
DTEND;TZID=America/Los_Angeles:20230110T110000
DTSTAMP:20260421T203909
CREATED:20230103T194739Z
LAST-MODIFIED:20230103T194739Z
UID:19682-1673341200-1673348400@waterwrights.net
SUMMARY:Lower Tule River Irrigation District\, 9:00am
DESCRIPTION:Lower Tule River ID\, 9am – 11am\nhttp://www.ltrid.org
URL:https://waterwrights.net/event/lower-tule-river-irrigation-district-900am-6/
LOCATION:Lower Tule River ID\, 357 East Olive Ave\, Tipton\, California\, 93272
END:VEVENT
BEGIN:VEVENT
DTSTART;TZID=America/Los_Angeles:20230110T090000
DTEND;TZID=America/Los_Angeles:20230110T100000
DTSTAMP:20260421T203909
CREATED:20230103T221303Z
LAST-MODIFIED:20230103T221303Z
UID:19700-1673341200-1673344800@waterwrights.net
SUMMARY:Turlock Irrigation District\, 9:00am
DESCRIPTION:Turlock ID 9am – 10am\nhttp://www.tid.org
URL:https://waterwrights.net/event/turlock-irrigation-district-900am-22/
LOCATION:California
END:VEVENT
BEGIN:VEVENT
DTSTART;TZID=America/Los_Angeles:20230110T090000
DTEND;TZID=America/Los_Angeles:20230110T110000
DTSTAMP:20260421T203909
CREATED:20230103T222550Z
LAST-MODIFIED:20230103T222550Z
UID:19708-1673341200-1673348400@waterwrights.net
SUMMARY:Modesto Irrigation District\, 9:00am
DESCRIPTION:Modesto ID\, 9am – 11am\nhttp://www.mid.org
URL:https://waterwrights.net/event/modesto-irrigation-district-900am-9/
LOCATION:Modesto ID\, 1231 11 Street\, Modesto\, California\, 95354
END:VEVENT
BEGIN:VEVENT
DTSTART;TZID=America/Los_Angeles:20230110T090000
DTEND;TZID=America/Los_Angeles:20230110T110000
DTSTAMP:20260421T203909
CREATED:20230103T223406Z
LAST-MODIFIED:20230103T223406Z
UID:19715-1673341200-1673348400@waterwrights.net
SUMMARY:South San Joaquin Irrigation District 9:00am
DESCRIPTION:South San Joaquin ID\, 9am – 11am\nhttp://www.ssjid.com
URL:https://waterwrights.net/event/south-san-joaquin-irrigation-district-900am-13/
LOCATION:South San Joaquin ID\, 11011 E. Highway 120\, Manteca\, California\, 95336
END:VEVENT
BEGIN:VEVENT
DTSTART;TZID=America/Los_Angeles:20230110T120000
DTEND;TZID=America/Los_Angeles:20230110T140000
DTSTAMP:20260421T203909
CREATED:20230103T211220Z
LAST-MODIFIED:20230103T211220Z
UID:19696-1673352000-1673359200@waterwrights.net
SUMMARY:Arvin Edison Water Service District 12:00pm
DESCRIPTION:Arvin Edison WSD 12pm – 2pm\nhttp://www.aewsd.org
URL:https://waterwrights.net/event/arvin-edison-water-service-district-1200pm-6/
LOCATION:Arvin Edison WSD\, 20401 Bear Mountain Blvd\, Arvin\, California\, 93203
END:VEVENT
BEGIN:VEVENT
DTSTART;TZID=America/Los_Angeles:20230110T120000
DTEND;TZID=America/Los_Angeles:20230110T130000
DTSTAMP:20260421T203909
CREATED:20230111T235531Z
LAST-MODIFIED:20230111T235531Z
UID:19774-1673352000-1673355600@waterwrights.net
SUMMARY:Arvin Edison Water Service District 12:00pm
DESCRIPTION:Arvin Edison Water Service District 12pm – 1pm\nhttp://www.aewsd.org
URL:https://waterwrights.net/event/arvin-edison-water-service-district-1200pm-7/
LOCATION:Arvin Edison WSD\, 20401 Bear Mountain Blvd\, Arvin\, California\, 93203
END:VEVENT
BEGIN:VEVENT
DTSTART;TZID=America/Los_Angeles:20230110T123000
DTEND;TZID=America/Los_Angeles:20230110T133000
DTSTAMP:20260421T203909
CREATED:20230103T223527Z
LAST-MODIFIED:20230103T223527Z
UID:19717-1673353800-1673357400@waterwrights.net
SUMMARY:Stockton East Water District 12:30pm
DESCRIPTION:Stockton East WD\, 12:30pm – 1:30pm\nhttp://www.sewd.net
URL:https://waterwrights.net/event/stockton-east-water-district-1230pm-9/
LOCATION:Stockton East WD\, 6767 E. Main Street\, Stockton\, California\, 95215
END:VEVENT
BEGIN:VEVENT
DTSTART;TZID=America/Los_Angeles:20230110T150000
DTEND;TZID=America/Los_Angeles:20230110T160000
DTSTAMP:20260421T203909
CREATED:20230112T000142Z
LAST-MODIFIED:20230112T000142Z
UID:19782-1673362800-1673366400@waterwrights.net
SUMMARY:Kern Water Bank 3:00pm
DESCRIPTION:Kern Water Bank 3pm – 4pm\nhttp://www.kwb.org
URL:https://waterwrights.net/event/kern-water-bank-300pm-6/
LOCATION:Kern Water Bank\, 1620 Mill Rock Way\, Ste 500\, Bakersfield\, California\, 93311
END:VEVENT
END:VCALENDAR