BEGIN:VCALENDAR
VERSION:2.0
PRODID:-//Water Wrights - ECPv5.16.4//NONSGML v1.0//EN
CALSCALE:GREGORIAN
METHOD:PUBLISH
X-WR-CALNAME:Water Wrights
X-ORIGINAL-URL:https://waterwrights.net
X-WR-CALDESC:Events for Water Wrights
BEGIN:VTIMEZONE
TZID:America/Los_Angeles
BEGIN:DAYLIGHT
TZOFFSETFROM:-0800
TZOFFSETTO:-0700
TZNAME:PDT
DTSTART:20230312T100000
END:DAYLIGHT
BEGIN:STANDARD
TZOFFSETFROM:-0700
TZOFFSETTO:-0800
TZNAME:PST
DTSTART:20231105T090000
END:STANDARD
END:VTIMEZONE
BEGIN:VEVENT
DTSTART;TZID=America/Los_Angeles:20230112T090000
DTEND;TZID=America/Los_Angeles:20230112T100000
DTSTAMP:20260421T203950
CREATED:20230103T195605Z
LAST-MODIFIED:20230103T195605Z
UID:19688-1673514000-1673517600@waterwrights.net
SUMMARY:Cawelo Water District\, 9:00am
DESCRIPTION:Cawelo WD\, 9am – 10am\nhttp://www.cawelowd.org
URL:https://waterwrights.net/event/cawelo-water-district-900am-7/
LOCATION:Cawelo WD\, 17207 Industrial Farm Road\, Bakersfield\, California\, 93308
END:VEVENT
BEGIN:VEVENT
DTSTART;TZID=America/Los_Angeles:20230112T093000
DTEND;TZID=America/Los_Angeles:20230112T103000
DTSTAMP:20260421T203950
CREATED:20230112T001012Z
LAST-MODIFIED:20230112T001021Z
UID:19784-1673515800-1673519400@waterwrights.net
SUMMARY:San Luis Delta Mendota 9:30am
DESCRIPTION:San Luis DM 9:30am – 10:30am\nhttp://www.sldmwa.org
URL:https://waterwrights.net/event/san-luis-delta-mendota-930am-7/
LOCATION:San Luis Delta Mendota\, 842 6th Street\, Los Banos\, California\, 93635
END:VEVENT
BEGIN:VEVENT
DTSTART;TZID=America/Los_Angeles:20230112T100000
DTEND;TZID=America/Los_Angeles:20230112T120000
DTSTAMP:20260421T203950
CREATED:20230103T223654Z
LAST-MODIFIED:20230103T223654Z
UID:19719-1673517600-1673524800@waterwrights.net
SUMMARY:Butte Water District 10:00am
DESCRIPTION:Butte WD 10am – 12pm\nhttp://www.buttewaterdistrict.org
URL:https://waterwrights.net/event/butte-water-district-1000am-7/
LOCATION:Butte WD\, 735 Virginia Street\, Gridley\, California\, 95948
END:VEVENT
BEGIN:VEVENT
DTSTART;TZID=America/Los_Angeles:20230112T140000
DTEND;TZID=America/Los_Angeles:20230112T170000
DTSTAMP:20260421T203950
CREATED:20230110T153713Z
LAST-MODIFIED:20230110T153713Z
UID:19754-1673532000-1673542800@waterwrights.net
SUMMARY:Eastern Tule GSA Stakeholder Committee 2pm
DESCRIPTION:ETSGA Stakeholder Committee Zoom only for the public 2pm \nTopic: ETGSA Stakeholder Committee Meeting \nhttps://us02web.zoom.us/j/81905813177 \nMeeting ID: 819 0581 3177
URL:https://waterwrights.net/event/eastern-tule-gsa-stakeholder-committee-2pm/
LOCATION:California
END:VEVENT
BEGIN:VEVENT
DTSTART;TZID=America/Los_Angeles:20230112T140000
DTEND;TZID=America/Los_Angeles:20230112T153000
DTSTAMP:20260421T203950
CREATED:20230110T180711Z
LAST-MODIFIED:20230110T180711Z
UID:19756-1673532000-1673537400@waterwrights.net
SUMMARY:Triangle T Water District 2pm
DESCRIPTION:TTWD Board 2pm on Zoom Meeting\nhttps://us02web.zoom.us/j/87254449162?pwd=SFdTd0phTkJVRWx0SnE5YzZw\nTWRVZz09\nMeeting ID: 872 5444 9162\nPasscode: 701742
URL:https://waterwrights.net/event/triangle-t-water-district-2pm/
LOCATION:California
END:VEVENT
BEGIN:VEVENT
DTSTART;TZID=America/Los_Angeles:20230112T143000
DTEND;TZID=America/Los_Angeles:20230112T153000
DTSTAMP:20260421T203950
CREATED:20230112T000102Z
LAST-MODIFIED:20230112T000102Z
UID:19779-1673533800-1673537400@waterwrights.net
SUMMARY:Kern Tulare Water District 2:30pm
DESCRIPTION:Kern Tulare WD 2:30pm – 3:30pm\nhttp://www.kern-tulare.com
URL:https://waterwrights.net/event/kern-tulare-water-district-230pm/
LOCATION:Kern Tulare WD\, 5001 California Ave Ste 202\, Bakersfield\, 93309
END:VEVENT
BEGIN:VEVENT
DTSTART;TZID=America/Los_Angeles:20230112T150000
DTEND;TZID=America/Los_Angeles:20230112T170000
DTSTAMP:20260421T203950
CREATED:20230109T231216Z
LAST-MODIFIED:20230110T142608Z
UID:19748-1673535600-1673542800@waterwrights.net
SUMMARY:Fresno Irrigation District 3pm
DESCRIPTION:FID Board 3pm FID
URL:https://waterwrights.net/event/fresno-irrigation-district-3pm-2/
LOCATION:California
END:VEVENT
BEGIN:VEVENT
DTSTART;TZID=America/Los_Angeles:20230112T160000
DTEND;TZID=America/Los_Angeles:20230112T180000
DTSTAMP:20260421T203950
CREATED:20230111T235858Z
LAST-MODIFIED:20230111T235858Z
UID:19776-1673539200-1673546400@waterwrights.net
SUMMARY:Delano Earlimart Irrigation District 4:00pm
DESCRIPTION:Delano Earlimart ID 4pm – 6pm\nhttp://www.deid.org
URL:https://waterwrights.net/event/delano-earlimart-irrigation-district-400pm/
LOCATION:Delano Earlimart ID\, 14181 Avenue 24\, Delano\, 93215
END:VEVENT
END:VCALENDAR