BEGIN:VCALENDAR
VERSION:2.0
PRODID:-//Water Wrights - ECPv5.16.4//NONSGML v1.0//EN
CALSCALE:GREGORIAN
METHOD:PUBLISH
X-WR-CALNAME:Water Wrights
X-ORIGINAL-URL:https://waterwrights.net
X-WR-CALDESC:Events for Water Wrights
BEGIN:VTIMEZONE
TZID:America/Los_Angeles
BEGIN:DAYLIGHT
TZOFFSETFROM:-0800
TZOFFSETTO:-0700
TZNAME:PDT
DTSTART:20230312T100000
END:DAYLIGHT
BEGIN:STANDARD
TZOFFSETFROM:-0700
TZOFFSETTO:-0800
TZNAME:PST
DTSTART:20231105T090000
END:STANDARD
END:VTIMEZONE
BEGIN:VEVENT
DTSTART;TZID=America/Los_Angeles:20230117T090000
DTEND;TZID=America/Los_Angeles:20230117T100000
DTSTAMP:20260421T203833
CREATED:20230103T221334Z
LAST-MODIFIED:20230103T221334Z
UID:19702-1673946000-1673949600@waterwrights.net
SUMMARY:Turlock Irrigation District\, 9:00am
DESCRIPTION:Turlock ID 9am – 10am\nhttp://www.tid.org
URL:https://waterwrights.net/event/turlock-irrigation-district-900am-23/
LOCATION:Turlock ID\, 333 E. Canal Drive\, Turlock\, California\, 95380
END:VEVENT
BEGIN:VEVENT
DTSTART;TZID=America/Los_Angeles:20230117T090000
DTEND;TZID=America/Los_Angeles:20230117T100000
DTSTAMP:20260421T203833
CREATED:20230103T224132Z
LAST-MODIFIED:20230103T224132Z
UID:19725-1673946000-1673949600@waterwrights.net
SUMMARY:Yuba County Water Agency
DESCRIPTION:Yuba County WA\, 9am – 10am\nhttp://www.ycwa.com
URL:https://waterwrights.net/event/yuba-county-water-agency-2/
LOCATION:Yuba County WA\, 1220 F Street\, Marysville\, California\, 995901
END:VEVENT
BEGIN:VEVENT
DTSTART;TZID=America/Los_Angeles:20230117T090000
DTEND;TZID=America/Los_Angeles:20230117T100000
DTSTAMP:20260421T203833
CREATED:20230103T224443Z
LAST-MODIFIED:20230103T224443Z
UID:19732-1673946000-1673949600@waterwrights.net
SUMMARY:Western Canal Water District 9:00am
DESCRIPTION:Western Canal WD 9am – 10am\nhttp://www.westerncanal.com
URL:https://waterwrights.net/event/western-canal-water-district-900am-7/
LOCATION:Western Canal WD\, PO Box 190 Richval\, Richval\, California\, 95974
END:VEVENT
BEGIN:VEVENT
DTSTART;TZID=America/Los_Angeles:20230117T090000
DTEND;TZID=America/Los_Angeles:20230117T123000
DTSTAMP:20260421T203833
CREATED:20230110T142826Z
LAST-MODIFIED:20230110T142844Z
UID:19750-1673946000-1673958600@waterwrights.net
SUMMARY:Tulare Irrigation District 9am
DESCRIPTION:Tulare ID Board meeting 9am TID 
URL:https://waterwrights.net/event/tulare-irrigation-district-9am-3/
LOCATION:California
END:VEVENT
BEGIN:VEVENT
DTSTART;TZID=America/Los_Angeles:20230117T090000
DTEND;TZID=America/Los_Angeles:20230117T110000
DTSTAMP:20260421T203833
CREATED:20230116T141334Z
LAST-MODIFIED:20230116T141334Z
UID:20031-1673946000-1673953200@waterwrights.net
SUMMARY:Westlands Water District 9am
DESCRIPTION:The Westlands WD board is now meeting at 9am. In person at its Fresno Offices and on Zoom and telephone. Meeting ID: 835 2497 9296 Passcode: 3130\nDial-In Number: (669) 444-9171
URL:https://waterwrights.net/event/westlands-water-district-9am/
LOCATION:California
END:VEVENT
BEGIN:VEVENT
DTSTART;TZID=America/Los_Angeles:20230117T100000
DTEND;TZID=America/Los_Angeles:20230117T120000
DTSTAMP:20260421T203833
CREATED:20230112T232445Z
LAST-MODIFIED:20230112T232445Z
UID:19790-1673949600-1673956800@waterwrights.net
SUMMARY:Kings River Water Association Executive Committee 10am
DESCRIPTION:KRWA Executive Committee 10am
URL:https://waterwrights.net/event/kings-river-water-association-executive-committee-10am/
LOCATION:California
END:VEVENT
BEGIN:VEVENT
DTSTART;TZID=America/Los_Angeles:20230117T130000
DTEND;TZID=America/Los_Angeles:20230117T150000
DTSTAMP:20260421T203833
CREATED:20230103T210400Z
LAST-MODIFIED:20230103T210414Z
UID:19694-1673960400-1673967600@waterwrights.net
SUMMARY:Kern Delta Water District\, 1:00pm
DESCRIPTION:Kern Delta WD\, 1pm – 3pm\nhttp://www.kerndelta.org
URL:https://waterwrights.net/event/kern-delta-water-district-100pm-12/
LOCATION:Kern Delta WD\, 501 Taft High Way\, Bakersfield\, California\, 93307
END:VEVENT
BEGIN:VEVENT
DTSTART;TZID=America/Los_Angeles:20230117T130000
DTEND;TZID=America/Los_Angeles:20230117T140000
DTSTAMP:20260421T203833
CREATED:20230111T232911Z
LAST-MODIFIED:20230111T232911Z
UID:19772-1673960400-1673964000@waterwrights.net
SUMMARY:Kern Delta Water District 1:00pm
DESCRIPTION:Kern Delta WD 1pm – 2pm
URL:https://waterwrights.net/event/kern-delta-water-district-100pm-13/
LOCATION:California
END:VEVENT
BEGIN:VEVENT
DTSTART;TZID=America/Los_Angeles:20230117T140000
DTEND;TZID=America/Los_Angeles:20230117T170000
DTSTAMP:20260421T203833
CREATED:20230110T222547Z
LAST-MODIFIED:20230110T222547Z
UID:19764-1673964000-1673974800@waterwrights.net
SUMMARY:Mid Kaweah GSA time TBA
DESCRIPTION:MKGSA board Time to be decided.
URL:https://waterwrights.net/event/mid-kaweah-gsa-time-tba/
LOCATION:California
END:VEVENT
END:VCALENDAR