BEGIN:VCALENDAR
VERSION:2.0
PRODID:-//Water Wrights - ECPv5.16.4//NONSGML v1.0//EN
CALSCALE:GREGORIAN
METHOD:PUBLISH
X-WR-CALNAME:Water Wrights
X-ORIGINAL-URL:https://waterwrights.net
X-WR-CALDESC:Events for Water Wrights
BEGIN:VTIMEZONE
TZID:America/Los_Angeles
BEGIN:DAYLIGHT
TZOFFSETFROM:-0800
TZOFFSETTO:-0700
TZNAME:PDT
DTSTART:20230312T100000
END:DAYLIGHT
BEGIN:STANDARD
TZOFFSETFROM:-0700
TZOFFSETTO:-0800
TZNAME:PST
DTSTART:20231105T090000
END:STANDARD
END:VTIMEZONE
BEGIN:VEVENT
DTSTART;TZID=America/Los_Angeles:20230119T090000
DTEND;TZID=America/Los_Angeles:20230119T110000
DTSTAMP:20260421T203909
CREATED:20230116T232816Z
LAST-MODIFIED:20230116T232816Z
UID:20062-1674118800-1674126000@waterwrights.net
SUMMARY:James GSA 9am
DESCRIPTION:James Irrigation District’s GSA 9am http://www.jamesgsa.org/ 
URL:https://waterwrights.net/event/james-gsa-9am/
END:VEVENT
BEGIN:VEVENT
DTSTART;TZID=America/Los_Angeles:20230119T133000
DTEND;TZID=America/Los_Angeles:20230119T153000
DTSTAMP:20260421T203909
CREATED:20230103T224329Z
LAST-MODIFIED:20230103T224345Z
UID:19729-1674135000-1674142200@waterwrights.net
SUMMARY:Richvale Irrigation District 1:30pm
DESCRIPTION:Richvale ID\, 1:30pm – 3:00pm\nhttp://www.richvaleid.com
URL:https://waterwrights.net/event/richvale-irrigation-district-130pm-6/
LOCATION:Richvale Irrigation District\, PO Box 147\, Richvale\, California\, 95974
END:VEVENT
BEGIN:VEVENT
DTSTART;TZID=America/Los_Angeles:20230119T170000
DTEND;TZID=America/Los_Angeles:20230119T180000
DTSTAMP:20260421T203909
CREATED:20230110T153155Z
LAST-MODIFIED:20230110T153155Z
UID:19752-1674147600-1674151200@waterwrights.net
SUMMARY:Kern County Farm Bureau
DESCRIPTION:Kern County Farm Bureau Board KCFB
URL:https://waterwrights.net/event/kern-county-farm-bureau/
END:VEVENT
END:VCALENDAR