BEGIN:VCALENDAR
VERSION:2.0
PRODID:-//Water Wrights - ECPv5.16.4//NONSGML v1.0//EN
CALSCALE:GREGORIAN
METHOD:PUBLISH
X-WR-CALNAME:Water Wrights
X-ORIGINAL-URL:https://waterwrights.net
X-WR-CALDESC:Events for Water Wrights
BEGIN:VTIMEZONE
TZID:America/Los_Angeles
BEGIN:DAYLIGHT
TZOFFSETFROM:-0800
TZOFFSETTO:-0700
TZNAME:PDT
DTSTART:20230312T100000
END:DAYLIGHT
BEGIN:STANDARD
TZOFFSETFROM:-0700
TZOFFSETTO:-0800
TZNAME:PST
DTSTART:20231105T090000
END:STANDARD
END:VTIMEZONE
BEGIN:VEVENT
DTSTART;TZID=America/Los_Angeles:20230131T090000
DTEND;TZID=America/Los_Angeles:20230131T100000
DTSTAMP:20260421T203826
CREATED:20230103T221434Z
LAST-MODIFIED:20230103T221434Z
UID:19706-1675155600-1675159200@waterwrights.net
SUMMARY:Turlock Irrigation District
DESCRIPTION:Turlock ID 9am – 10am\nhttp://www.tid.org
URL:https://waterwrights.net/event/turlock-irrigation-district-4/
LOCATION:Turlock ID\, 333 E. Canal Drive\, Turlock\, California\, 95380
END:VEVENT
END:VCALENDAR