BEGIN:VCALENDAR
VERSION:2.0
PRODID:-//Water Wrights - ECPv5.16.4//NONSGML v1.0//EN
CALSCALE:GREGORIAN
METHOD:PUBLISH
X-WR-CALNAME:Water Wrights
X-ORIGINAL-URL:https://waterwrights.net
X-WR-CALDESC:Events for Water Wrights
BEGIN:VTIMEZONE
TZID:America/Los_Angeles
BEGIN:DAYLIGHT
TZOFFSETFROM:-0800
TZOFFSETTO:-0700
TZNAME:PDT
DTSTART:20230312T100000
END:DAYLIGHT
BEGIN:STANDARD
TZOFFSETFROM:-0700
TZOFFSETTO:-0800
TZNAME:PST
DTSTART:20231105T090000
END:STANDARD
END:VTIMEZONE
BEGIN:VEVENT
DTSTART;VALUE=DATE:20230207
DTEND;VALUE=DATE:20230209
DTSTAMP:20260421T190712
CREATED:20230126T163443Z
LAST-MODIFIED:20230126T163443Z
UID:20216-1675728000-1675900799@waterwrights.net
SUMMARY:American Ground Water Trust Conference
DESCRIPTION:AGWT 24th Annual Conference Info February 7 & 8 Ontario California. \nExhibits\, speakers and continuing education credits.
URL:https://waterwrights.net/event/american-ground-water-trust-conference/
END:VEVENT
BEGIN:VEVENT
DTSTART;TZID=America/Los_Angeles:20230207T090000
DTEND;TZID=America/Los_Angeles:20230207T100000
DTSTAMP:20260421T190712
CREATED:20230113T000431Z
LAST-MODIFIED:20230113T000431Z
UID:19817-1675760400-1675764000@waterwrights.net
SUMMARY:Kaweah Delta Water Conservation District 9:00am
DESCRIPTION:Kaweah Delta WCD 9am – 10am\nwww.kdwcd.com
URL:https://waterwrights.net/event/kaweah-delta-water-conservation-district-900am-2/
LOCATION:Kaweah Delta WCD\, 2975 N. Farmersville Blvd Farmersville\, California\, 93223
END:VEVENT
BEGIN:VEVENT
DTSTART;TZID=America/Los_Angeles:20230207T100000
DTEND;TZID=America/Los_Angeles:20230207T110000
DTSTAMP:20260421T190712
CREATED:20230123T190603Z
LAST-MODIFIED:20230123T190603Z
UID:20153-1675764000-1675767600@waterwrights.net
SUMMARY:Merced Irrigation District 10:00am
DESCRIPTION:Merced ID\, 10am – 11am \nMerced Irrigation District
URL:https://waterwrights.net/event/merced-irrigation-district-1000am-2/
LOCATION:Merced ID\, 3321N. Franklin Road\, Merced\, California\, 95348
END:VEVENT
BEGIN:VEVENT
DTSTART;TZID=America/Los_Angeles:20230207T130000
DTEND;TZID=America/Los_Angeles:20230207T140000
DTSTAMP:20260421T190712
CREATED:20230123T185902Z
LAST-MODIFIED:20230123T185902Z
UID:20141-1675774800-1675778400@waterwrights.net
SUMMARY:Kern Delta Water District 1:00pm
DESCRIPTION:Kern Delta WD\, 1pm – 2pm\nwww.kerndelta.org
URL:https://waterwrights.net/event/kern-delta-water-district-100pm-14/
LOCATION:Kern Delta WD\, 501 Taft High Way\, Bakersfield\, California\, 93307
END:VEVENT
BEGIN:VEVENT
DTSTART;TZID=America/Los_Angeles:20230207T140000
DTEND;TZID=America/Los_Angeles:20230207T150000
DTSTAMP:20260421T190712
CREATED:20230125T225456Z
LAST-MODIFIED:20230125T225456Z
UID:20206-1675778400-1675782000@waterwrights.net
SUMMARY:Eastern Tule GSA 2:00pm
DESCRIPTION:Eastern Tule GSA\, 2pm – 3pm\nwww.easterntulegsa.com
URL:https://waterwrights.net/event/eastern-tule-gsa-200pm-2/
LOCATION:Eastern Tule GSA\, 881 W. Morton Avenue\, Suite D\, Porterville\, California\, 93257
END:VEVENT
END:VCALENDAR