BEGIN:VCALENDAR
VERSION:2.0
PRODID:-//Water Wrights - ECPv5.16.4//NONSGML v1.0//EN
CALSCALE:GREGORIAN
METHOD:PUBLISH
X-WR-CALNAME:Water Wrights
X-ORIGINAL-URL:https://waterwrights.net
X-WR-CALDESC:Events for Water Wrights
BEGIN:VTIMEZONE
TZID:America/Los_Angeles
BEGIN:DAYLIGHT
TZOFFSETFROM:-0800
TZOFFSETTO:-0700
TZNAME:PDT
DTSTART:20230312T100000
END:DAYLIGHT
BEGIN:STANDARD
TZOFFSETFROM:-0700
TZOFFSETTO:-0800
TZNAME:PST
DTSTART:20231105T090000
END:STANDARD
END:VTIMEZONE
BEGIN:VEVENT
DTSTART;VALUE=DATE:20230207
DTEND;VALUE=DATE:20230209
DTSTAMP:20260421T190750
CREATED:20230126T163443Z
LAST-MODIFIED:20230126T163443Z
UID:20216-1675728000-1675900799@waterwrights.net
SUMMARY:American Ground Water Trust Conference
DESCRIPTION:AGWT 24th Annual Conference Info February 7 & 8 Ontario California. \nExhibits\, speakers and continuing education credits.
URL:https://waterwrights.net/event/american-ground-water-trust-conference/
END:VEVENT
BEGIN:VEVENT
DTSTART;TZID=America/Los_Angeles:20230208T080000
DTEND;TZID=America/Los_Angeles:20230208T100000
DTSTAMP:20260421T190750
CREATED:20230113T213431Z
LAST-MODIFIED:20230113T213431Z
UID:19931-1675843200-1675850400@waterwrights.net
SUMMARY:Wheeler Ridge Maricopa Water District 8:00am
DESCRIPTION:Wheeler Ridge Maricopa WD 8am – 10am\nwww.wrmwsd.com
URL:https://waterwrights.net/event/wheeler-ridge-maricopa-water-district-800am-7/
LOCATION:Wheeler Ridge Maricopa WD\, 12109 High Way 166\, Bakerfield\, California\, 93312
END:VEVENT
BEGIN:VEVENT
DTSTART;TZID=America/Los_Angeles:20230208T090000
DTEND;TZID=America/Los_Angeles:20230208T100000
DTSTAMP:20260421T190750
CREATED:20230113T213535Z
LAST-MODIFIED:20230113T213535Z
UID:19933-1675846800-1675850400@waterwrights.net
SUMMARY:Shafter Wasco Irrigation District 9:00am
DESCRIPTION:Shafter Wasco ID 9am – 10am\nwww.swid.org
URL:https://waterwrights.net/event/shafter-wasco-irrigation-district-900am-7/
LOCATION:Shafter Wasco ID\, 16294 Highway 43\, Wasco\, California\, 93280
END:VEVENT
BEGIN:VEVENT
DTSTART;TZID=America/Los_Angeles:20230208T113000
DTEND;TZID=America/Los_Angeles:20230208T123000
DTSTAMP:20260421T190750
CREATED:20230113T000124Z
LAST-MODIFIED:20230113T000132Z
UID:19808-1675855800-1675859400@waterwrights.net
SUMMARY:Orange Cove Irrigation District 11:45am
DESCRIPTION:Orange Cove ID 11:45 – 12:30\nhttp://www.orangecoveid.org
URL:https://waterwrights.net/event/orange-cove-irrigation-district-1145am-7/
LOCATION:Orange Cove ID\, 1130 Park Ave\, Orange Cove\, California\, 93646
END:VEVENT
BEGIN:VEVENT
DTSTART;TZID=America/Los_Angeles:20230208T123000
DTEND;TZID=America/Los_Angeles:20230208T140000
DTSTAMP:20260421T190750
CREATED:20230113T213345Z
LAST-MODIFIED:20230113T213345Z
UID:19929-1675859400-1675864800@waterwrights.net
SUMMARY:Semitropic Water District 12:30pm
DESCRIPTION:Semitropic WD 12:30pm – 2pm\nwww.semitropic.com
URL:https://waterwrights.net/event/semitropic-water-district-1230pm-7/
LOCATION:Semitropic WD\, 1101 Central Avenue\, Wasco\, California\, 93280
END:VEVENT
BEGIN:VEVENT
DTSTART;TZID=America/Los_Angeles:20230208T130000
DTEND;TZID=America/Los_Angeles:20230208T140000
DTSTAMP:20260421T190750
CREATED:20230112T235957Z
LAST-MODIFIED:20230112T235957Z
UID:19804-1675861200-1675864800@waterwrights.net
SUMMARY:Consolidated Irrigation District 1:00pm
DESCRIPTION:Consolidated ID 1pm – 2pm\nhttp://www.cidwater.com
URL:https://waterwrights.net/event/consolidated-irrigation-district-100pm/
END:VEVENT
BEGIN:VEVENT
DTSTART;TZID=America/Los_Angeles:20230208T130000
DTEND;TZID=America/Los_Angeles:20230208T140000
DTSTAMP:20260421T190750
CREATED:20230113T000258Z
LAST-MODIFIED:20230113T000258Z
UID:19813-1675861200-1675864800@waterwrights.net
SUMMARY:Dudley Ridge Water District 1:00pm
DESCRIPTION:Dudly Ridge WD 1pm – 2pm\nhttp://www.dudleyridgewd.org
URL:https://waterwrights.net/event/dudley-ridge-water-district-100pm/
END:VEVENT
BEGIN:VEVENT
DTSTART;TZID=America/Los_Angeles:20230208T133000
DTEND;TZID=America/Los_Angeles:20230208T143000
DTSTAMP:20260421T190750
CREATED:20230112T235555Z
LAST-MODIFIED:20230112T235555Z
UID:19794-1675863000-1675866600@waterwrights.net
SUMMARY:Chowchilla Water District 1:30pm
DESCRIPTION:Chowchilla WD\, 1:30pm – 2:30pm\nhttp://www.cwdwater.com
URL:https://waterwrights.net/event/chowchilla-water-district-130pm-8/
LOCATION:Chowchilla WD\, 327 S Chowchilla Blvd\,\, Chowchilla\,\, California\, 93610
END:VEVENT
BEGIN:VEVENT
DTSTART;TZID=America/Los_Angeles:20230208T140000
DTEND;TZID=America/Los_Angeles:20230208T170000
DTSTAMP:20260421T190750
CREATED:20230202T154045Z
LAST-MODIFIED:20230202T154045Z
UID:20329-1675864800-1675875600@waterwrights.net
SUMMARY:McMullen Area GSA Board 2pm
DESCRIPTION:MAGSA Board 2pm in Kerman. Info
URL:https://waterwrights.net/event/mcmullen-area-gsa-board-2pm/
END:VEVENT
END:VCALENDAR