BEGIN:VCALENDAR
VERSION:2.0
PRODID:-//Water Wrights - ECPv5.16.4//NONSGML v1.0//EN
CALSCALE:GREGORIAN
METHOD:PUBLISH
X-WR-CALNAME:Water Wrights
X-ORIGINAL-URL:https://waterwrights.net
X-WR-CALDESC:Events for Water Wrights
BEGIN:VTIMEZONE
TZID:America/Los_Angeles
BEGIN:DAYLIGHT
TZOFFSETFROM:-0800
TZOFFSETTO:-0700
TZNAME:PDT
DTSTART:20230312T100000
END:DAYLIGHT
BEGIN:STANDARD
TZOFFSETFROM:-0700
TZOFFSETTO:-0800
TZNAME:PST
DTSTART:20231105T090000
END:STANDARD
END:VTIMEZONE
BEGIN:VEVENT
DTSTART;TZID=America/Los_Angeles:20230209T090000
DTEND;TZID=America/Los_Angeles:20230209T100000
DTSTAMP:20260421T191137
CREATED:20230123T185545Z
LAST-MODIFIED:20230123T185545Z
UID:20137-1675933200-1675936800@waterwrights.net
SUMMARY:Cawelo Water District 9:00am
DESCRIPTION:Cawelo WD\, 9am – 10am\nwww.cawelowd.org
URL:https://waterwrights.net/event/cawelo-water-district-900am-8/
LOCATION:Cawelo WD\, 17207 Industrial Farm Road\, Bakersfield\, California\, 93308
END:VEVENT
BEGIN:VEVENT
DTSTART;TZID=America/Los_Angeles:20230209T093000
DTEND;TZID=America/Los_Angeles:20230209T103000
DTSTAMP:20260421T191137
CREATED:20230113T000041Z
LAST-MODIFIED:20230113T000041Z
UID:19806-1675935000-1675938600@waterwrights.net
SUMMARY:Atla Irrigation District 9:30am
DESCRIPTION:Atla Irrigation District 9:30am – 10:30am\nhttp://altaid.org/
URL:https://waterwrights.net/event/atla-irrigation-district-930am/
LOCATION:California
END:VEVENT
BEGIN:VEVENT
DTSTART;TZID=America/Los_Angeles:20230209T093000
DTEND;TZID=America/Los_Angeles:20230209T103000
DTSTAMP:20260421T191137
CREATED:20230123T190442Z
LAST-MODIFIED:20230206T155726Z
UID:20151-1675935000-1675938600@waterwrights.net
SUMMARY:San Luis Delta Mendota 9:30am
DESCRIPTION:San Luis Delta Mendota\, 9:30am – 10:30am\nwww.sldmwa.org
URL:https://waterwrights.net/event/san-luis-delta-mendota-930am-9/
LOCATION:San Luis Delta Mendota\, 842 6th Street\, Los Banos\, California\, 93635
END:VEVENT
BEGIN:VEVENT
DTSTART;TZID=America/Los_Angeles:20230209T100000
DTEND;TZID=America/Los_Angeles:20230209T120000
DTSTAMP:20260421T191137
CREATED:20230112T235646Z
LAST-MODIFIED:20230112T235655Z
UID:19796-1675936800-1675944000@waterwrights.net
SUMMARY:Triangle T Water District + GSA 10:00am
DESCRIPTION:Triangle T WD/GSA 10am – 12pm\nhttp://www.triangletwaterdistrict.org
URL:https://waterwrights.net/event/triangle-t-water-district-gsa-1000am-5/
LOCATION:Triangle T WD/GSA\, 4400 Hays Drive\, Chowchilla\, California\, 93610
END:VEVENT
BEGIN:VEVENT
DTSTART;TZID=America/Los_Angeles:20230209T100000
DTEND;TZID=America/Los_Angeles:20230209T120000
DTSTAMP:20260421T191137
CREATED:20230124T195006Z
LAST-MODIFIED:20230124T195006Z
UID:20166-1675936800-1675944000@waterwrights.net
SUMMARY:Butte Water District 10:00am
DESCRIPTION:Butte WD 10am – 12pm\nwww.buttewaterdistrict.org
URL:https://waterwrights.net/event/butte-water-district-1000am-8/
LOCATION:Butte WD\, 735 Virginia Street\, Gridley\, California\, 95948
END:VEVENT
BEGIN:VEVENT
DTSTART;TZID=America/Los_Angeles:20230209T100000
DTEND;TZID=America/Los_Angeles:20230209T120000
DTSTAMP:20260421T191137
CREATED:20230125T220325Z
LAST-MODIFIED:20230125T220325Z
UID:20184-1675936800-1675944000@waterwrights.net
SUMMARY:Triangle T GSA 10:00am
DESCRIPTION:Triangle T GSA\, 10am – 12pm\nwww.triangletwaterdistrict.org
URL:https://waterwrights.net/event/triangle-t-gsa-1000am-6/
LOCATION:Triangle T WD/GSA\, 4400 Hays Drive\, Chowchilla\, California\, 93610
END:VEVENT
BEGIN:VEVENT
DTSTART;TZID=America/Los_Angeles:20230209T133000
DTEND;TZID=America/Los_Angeles:20230209T150000
DTSTAMP:20260421T191137
CREATED:20230113T000603Z
LAST-MODIFIED:20230113T000603Z
UID:19821-1675949400-1675954800@waterwrights.net
SUMMARY:Exeter Irrigation District 1:30pm
DESCRIPTION:Exeter ID 1:30pm – 3pm\nwww.exeterid.org
URL:https://waterwrights.net/event/exeter-irrigation-district-130pm/
LOCATION:California
END:VEVENT
BEGIN:VEVENT
DTSTART;TZID=America/Los_Angeles:20230209T143000
DTEND;TZID=America/Los_Angeles:20230209T160000
DTSTAMP:20260421T191137
CREATED:20230123T190304Z
LAST-MODIFIED:20230123T190304Z
UID:20147-1675953000-1675958400@waterwrights.net
SUMMARY:Kern Tulare Water District 2:30pm
DESCRIPTION:Kern Tulare WD 2:30pm – 4pm\nwww.kern-tulare.com
URL:https://waterwrights.net/event/kern-tulare-water-district-230pm-2/
LOCATION:Kern Tulare WD\, 5001 California Ave Ste 202\, Bakersfield\, 93309
END:VEVENT
BEGIN:VEVENT
DTSTART;TZID=America/Los_Angeles:20230209T160000
DTEND;TZID=America/Los_Angeles:20230209T180000
DTSTAMP:20260421T191137
CREATED:20230123T190159Z
LAST-MODIFIED:20230123T190159Z
UID:20145-1675958400-1675965600@waterwrights.net
SUMMARY:Delano Earlimart Irrigation District 4:00pm
DESCRIPTION:Delano Earlimart ID\, 4pm – 6pm\nwww.deid.org
URL:https://waterwrights.net/event/delano-earlimart-irrigation-district-400pm-2/
LOCATION:Delano Earlimart ID\, 14181 Avenue 24\, Delano\, 93215
END:VEVENT
END:VCALENDAR