BEGIN:VCALENDAR
VERSION:2.0
PRODID:-//Water Wrights - ECPv5.16.4//NONSGML v1.0//EN
CALSCALE:GREGORIAN
METHOD:PUBLISH
X-WR-CALNAME:Water Wrights
X-ORIGINAL-URL:https://waterwrights.net
X-WR-CALDESC:Events for Water Wrights
BEGIN:VTIMEZONE
TZID:America/Los_Angeles
BEGIN:DAYLIGHT
TZOFFSETFROM:-0800
TZOFFSETTO:-0700
TZNAME:PDT
DTSTART:20230312T100000
END:DAYLIGHT
BEGIN:STANDARD
TZOFFSETFROM:-0700
TZOFFSETTO:-0800
TZNAME:PST
DTSTART:20231105T090000
END:STANDARD
END:VTIMEZONE
BEGIN:VEVENT
DTSTART;VALUE=DATE:20230214
DTEND;VALUE=DATE:20230217
DTSTAMP:20260421T191053
CREATED:20230109T224043Z
LAST-MODIFIED:20230109T224043Z
UID:19746-1676332800-1676591999@waterwrights.net
SUMMARY:World Ag Expo
DESCRIPTION:The World Ag Expo will run from February 14th through 16th. For more information: WAE \n 
URL:https://waterwrights.net/event/world-ag-expo-4/
END:VEVENT
BEGIN:VEVENT
DTSTART;TZID=America/Los_Angeles:20230214T080000
DTEND;TZID=America/Los_Angeles:20230214T100000
DTSTAMP:20260421T191053
CREATED:20230123T185643Z
LAST-MODIFIED:20230123T185643Z
UID:20139-1676361600-1676368800@waterwrights.net
SUMMARY:Rosedale Rio Bravo Water Service District 8:00am
DESCRIPTION:Rosedale Rio Bravo WSD\, 8am – 10am\nwww.rrbwsd.com
URL:https://waterwrights.net/event/rosedale-rio-bravo-water-service-district-800am-7/
LOCATION:Rosedale Rio Bravo WSD\, 849 Allen Road\, Bakersfield\, California\, 93314
END:VEVENT
BEGIN:VEVENT
DTSTART;TZID=America/Los_Angeles:20230214T090000
DTEND;TZID=America/Los_Angeles:20230214T110000
DTSTAMP:20260421T191053
CREATED:20230113T000216Z
LAST-MODIFIED:20230113T000216Z
UID:19811-1676365200-1676372400@waterwrights.net
SUMMARY:Corcoran Irrigation District 9:00am
DESCRIPTION:Corcoran ID 9am – 11am\nhttp://www.corcoranid.com
URL:https://waterwrights.net/event/corcoran-irrigation-district-900am/
END:VEVENT
BEGIN:VEVENT
DTSTART;TZID=America/Los_Angeles:20230214T090000
DTEND;TZID=America/Los_Angeles:20230214T100000
DTSTAMP:20260421T191053
CREATED:20230113T213025Z
LAST-MODIFIED:20230113T213025Z
UID:19923-1676365200-1676368800@waterwrights.net
SUMMARY:Lower Tule River Irrigation District 9:00am
DESCRIPTION:Lower Tule River ID 9am – 10am\nhttp://www.ltrid.org
URL:https://waterwrights.net/event/lower-tule-river-irrigation-district-900am-7/
LOCATION:Lower Tule River ID\, 357 East Olive Ave\, Tipton\, California\, 93272
END:VEVENT
BEGIN:VEVENT
DTSTART;TZID=America/Los_Angeles:20230214T090000
DTEND;TZID=America/Los_Angeles:20230214T110000
DTSTAMP:20260421T191053
CREATED:20230113T213125Z
LAST-MODIFIED:20230113T213125Z
UID:19925-1676365200-1676372400@waterwrights.net
SUMMARY:Porterville Irrigation District 9:00am
DESCRIPTION:Porterville ID 9am – 11am\nwww.portervilleid.org
URL:https://waterwrights.net/event/porterville-irrigation-district-900am/
END:VEVENT
BEGIN:VEVENT
DTSTART;TZID=America/Los_Angeles:20230214T090000
DTEND;TZID=America/Los_Angeles:20230214T100000
DTSTAMP:20260421T191053
CREATED:20230123T190825Z
LAST-MODIFIED:20230123T190825Z
UID:20157-1676365200-1676368800@waterwrights.net
SUMMARY:Modesto Irrigation District 9:00am
DESCRIPTION:Modesto ID\, 9am – 10am\nwww.mid.org
URL:https://waterwrights.net/event/modesto-irrigation-district-900am-10/
LOCATION:Modesto ID\, 1231 11 Street\, Modesto\, California\, 95354
END:VEVENT
BEGIN:VEVENT
DTSTART;TZID=America/Los_Angeles:20230214T093000
DTEND;TZID=America/Los_Angeles:20230214T103000
DTSTAMP:20260421T191053
CREATED:20230124T192219Z
LAST-MODIFIED:20230124T192219Z
UID:20162-1676367000-1676370600@waterwrights.net
SUMMARY:Central Delta Water Authority 9:30am
DESCRIPTION:Central Delta WA\, 9:30am – 10:30am\nwww.centraldeltawateragency.org\n235 E. Weber Stockton CA 95202
URL:https://waterwrights.net/event/central-delta-water-authority-930am/
END:VEVENT
BEGIN:VEVENT
DTSTART;TZID=America/Los_Angeles:20230214T100000
DTEND;TZID=America/Los_Angeles:20230214T110000
DTSTAMP:20260421T191053
CREATED:20230112T235735Z
LAST-MODIFIED:20230112T235735Z
UID:19798-1676368800-1676372400@waterwrights.net
SUMMARY:James Irrigation District 10:00am
DESCRIPTION:James ID\, 10am – 11am
URL:https://waterwrights.net/event/james-irrigation-district-1000am/
END:VEVENT
BEGIN:VEVENT
DTSTART;TZID=America/Los_Angeles:20230214T123000
DTEND;TZID=America/Los_Angeles:20230214T140000
DTSTAMP:20260421T191053
CREATED:20230123T190022Z
LAST-MODIFIED:20230123T190022Z
UID:20143-1676377800-1676383200@waterwrights.net
SUMMARY:Arvin Edison Water Service District 12:00pm
DESCRIPTION:Arvin Edison WSD 12pm – 2pm\nwww.aewsd.org
URL:https://waterwrights.net/event/arvin-edison-water-service-district-1200pm-8/
LOCATION:Arvin Edison WSD\, 20401 Bear Mountain Blvd\, Arvin\, California\, 93203
END:VEVENT
BEGIN:VEVENT
DTSTART;TZID=America/Los_Angeles:20230214T130000
DTEND;TZID=America/Los_Angeles:20230214T150000
DTSTAMP:20260421T191053
CREATED:20230125T225603Z
LAST-MODIFIED:20230125T225603Z
UID:20208-1676379600-1676386800@waterwrights.net
SUMMARY:Mid Kings River GSA 1:00pm
DESCRIPTION:Mid Kings River GSA\, 1pm – 3pm\nwww.midkingsrivergsa.org\nKings County WD 200 Campus Dr. Handford CA
URL:https://waterwrights.net/event/mid-kings-river-gsa-100pm/
END:VEVENT
BEGIN:VEVENT
DTSTART;TZID=America/Los_Angeles:20230214T130000
DTEND;TZID=America/Los_Angeles:20230214T140000
DTSTAMP:20260421T191053
CREATED:20230125T225642Z
LAST-MODIFIED:20230125T225642Z
UID:20210-1676379600-1676383200@waterwrights.net
SUMMARY:El Rico GSA 1:00pm
DESCRIPTION:El Rico GSA\, 1pm – 2pm\nwww.elricogsa.com
URL:https://waterwrights.net/event/el-rico-gsa-100pm-7/
LOCATION:El Rico GSA\, 1001 Chase Avenue\,\, Corcoran\, California\, 93212
END:VEVENT
BEGIN:VEVENT
DTSTART;TZID=America/Los_Angeles:20230214T133000
DTEND;TZID=America/Los_Angeles:20230214T143000
DTSTAMP:20260421T191053
CREATED:20230113T212931Z
LAST-MODIFIED:20230113T212931Z
UID:19921-1676381400-1676385000@waterwrights.net
SUMMARY:Lindsay Strathmore Irrigation District 1:30pm
DESCRIPTION:Lindsay Strathmore ID 1:30pm – 2:30pm\nhttp://www.lsid.org
URL:https://waterwrights.net/event/lindsay-strathmore-irrigation-district-130pm/
END:VEVENT
BEGIN:VEVENT
DTSTART;TZID=America/Los_Angeles:20230214T140000
DTEND;TZID=America/Los_Angeles:20230214T150000
DTSTAMP:20260421T191053
CREATED:20230113T212814Z
LAST-MODIFIED:20230113T212814Z
UID:19919-1676383200-1676386800@waterwrights.net
SUMMARY:Lindmore Irrigation District 2:00pm
DESCRIPTION:Lindmore ID 2pm – 3pm\nwww.lindmoreid.com
URL:https://waterwrights.net/event/lindmore-irrigation-district-200pm-8/
END:VEVENT
BEGIN:VEVENT
DTSTART;TZID=America/Los_Angeles:20230214T150000
DTEND;TZID=America/Los_Angeles:20230214T160000
DTSTAMP:20260421T191053
CREATED:20230123T190342Z
LAST-MODIFIED:20230123T190342Z
UID:20149-1676386800-1676390400@waterwrights.net
SUMMARY:Kern Water Bank 3:00pm
DESCRIPTION:Kern Water Bank\, 3pm – 4pm\nwww.kwb.org
URL:https://waterwrights.net/event/kern-water-bank-300pm-7/
LOCATION:Kern Water Bank\, 1620 Mill Rock Way\, Ste 500\, Bakersfield\, California\, 93311
END:VEVENT
BEGIN:VEVENT
DTSTART;TZID=America/Los_Angeles:20230214T150000
DTEND;TZID=America/Los_Angeles:20230214T160000
DTSTAMP:20260421T191053
CREATED:20230125T225408Z
LAST-MODIFIED:20230125T225408Z
UID:20204-1676386800-1676390400@waterwrights.net
SUMMARY:Mid Kaweah GSA 3:00pm
DESCRIPTION:Mid Kaweah GSA\, 3pm – 4pm\nwww.midkaweah.org\n6826 Avenue 240 Tulare\, CA 93274
URL:https://waterwrights.net/event/mid-kaweah-gsa-300pm/
END:VEVENT
END:VCALENDAR