BEGIN:VCALENDAR
VERSION:2.0
PRODID:-//Water Wrights - ECPv5.16.4//NONSGML v1.0//EN
CALSCALE:GREGORIAN
METHOD:PUBLISH
X-WR-CALNAME:Water Wrights
X-ORIGINAL-URL:https://waterwrights.net
X-WR-CALDESC:Events for Water Wrights
BEGIN:VTIMEZONE
TZID:America/Los_Angeles
BEGIN:DAYLIGHT
TZOFFSETFROM:-0800
TZOFFSETTO:-0700
TZNAME:PDT
DTSTART:20230312T100000
END:DAYLIGHT
BEGIN:STANDARD
TZOFFSETFROM:-0700
TZOFFSETTO:-0800
TZNAME:PST
DTSTART:20231105T090000
END:STANDARD
END:VTIMEZONE
BEGIN:VEVENT
DTSTART;TZID=America/Los_Angeles:20230221T090000
DTEND;TZID=America/Los_Angeles:20230221T110000
DTSTAMP:20260421T191112
CREATED:20230113T000513Z
LAST-MODIFIED:20230206T155530Z
UID:19819-1676970000-1676977200@waterwrights.net
SUMMARY:Tulare Irrigation District 9:00am
DESCRIPTION:Tulare Irrigation District 9am – 11am\nwww.tulareid.org
URL:https://waterwrights.net/event/tulare-irrigation-district-900am-6/
LOCATION:Tulare ID\, 6826 Avenue 240\, Tulare\, California\, 93274
END:VEVENT
BEGIN:VEVENT
DTSTART;TZID=America/Los_Angeles:20230221T090000
DTEND;TZID=America/Los_Angeles:20230221T100000
DTSTAMP:20260421T191112
CREATED:20230124T195129Z
LAST-MODIFIED:20230124T195129Z
UID:20168-1676970000-1676973600@waterwrights.net
SUMMARY:Yuba County Water Authority 9:00am
DESCRIPTION:Yuba County WA\, 9am – 10am\nwww.ycwa.com
URL:https://waterwrights.net/event/yuba-county-water-authority-900am-4/
LOCATION:Yuba County WA\, 1220 F Street\, Marysville\, California\, 995901
END:VEVENT
BEGIN:VEVENT
DTSTART;TZID=America/Los_Angeles:20230221T090000
DTEND;TZID=America/Los_Angeles:20230221T100000
DTSTAMP:20260421T191113
CREATED:20230124T195943Z
LAST-MODIFIED:20230124T195943Z
UID:20174-1676970000-1676973600@waterwrights.net
SUMMARY:Western Canal Water District 9:00am
DESCRIPTION:Western Canal WD\, 9am – 10am\nwww.westerncanal.com
URL:https://waterwrights.net/event/western-canal-water-district-900am-8/
LOCATION:Western Canal WD\, PO Box 190 Richval\, Richval\, California\, 95974
END:VEVENT
BEGIN:VEVENT
DTSTART;TZID=America/Los_Angeles:20230221T130000
DTEND;TZID=America/Los_Angeles:20230221T150000
DTSTAMP:20260421T191113
CREATED:20230112T235501Z
LAST-MODIFIED:20230112T235501Z
UID:19792-1676984400-1676991600@waterwrights.net
SUMMARY:Madera Irrigation District 1:00pm
DESCRIPTION:Madera Irrigation District\, 1pm – 3pm\nhttp://www.madera-id.org
URL:https://waterwrights.net/event/madera-irrigation-district-100pm-6/
LOCATION:Madera ID\, 12152 Rd 28 1/4\,\, Madera\,\, California\, 93637
END:VEVENT
BEGIN:VEVENT
DTSTART;TZID=America/Los_Angeles:20230221T130000
DTEND;TZID=America/Los_Angeles:20230221T150000
DTSTAMP:20260421T191113
CREATED:20230112T235821Z
LAST-MODIFIED:20230112T235821Z
UID:19800-1676984400-1676991600@waterwrights.net
SUMMARY:Westlands Water District 1:00pm
DESCRIPTION:Westlands WD 1pm – 3pm\nhttp://www.wwd.ca.gov
URL:https://waterwrights.net/event/westlands-water-district-100pm-9/
LOCATION:Westlands WD\, 3130 N. Fresno St\, Fresno\, California\, 93703
END:VEVENT
END:VCALENDAR