BEGIN:VCALENDAR
VERSION:2.0
PRODID:-//Water Wrights - ECPv5.16.4//NONSGML v1.0//EN
CALSCALE:GREGORIAN
METHOD:PUBLISH
X-WR-CALNAME:Water Wrights
X-ORIGINAL-URL:https://waterwrights.net
X-WR-CALDESC:Events for Water Wrights
BEGIN:VTIMEZONE
TZID:America/Los_Angeles
BEGIN:DAYLIGHT
TZOFFSETFROM:-0800
TZOFFSETTO:-0700
TZNAME:PDT
DTSTART:20230312T100000
END:DAYLIGHT
BEGIN:STANDARD
TZOFFSETFROM:-0700
TZOFFSETTO:-0800
TZNAME:PST
DTSTART:20231105T090000
END:STANDARD
END:VTIMEZONE
BEGIN:VEVENT
DTSTART;TZID=America/Los_Angeles:20230228T093000
DTEND;TZID=America/Los_Angeles:20230228T120000
DTSTAMP:20260421T172239
CREATED:20230227T201500Z
LAST-MODIFIED:20230228T013419Z
UID:20692-1677576600-1677585600@waterwrights.net
SUMMARY:Water Rights & Climate Change Assembly Cmt 9:30am
DESCRIPTION:Assembly Committee Water\, Parks & Wildlife 9:30am Informational Hearing State Capitol Room 444\, telephone and online links not available at time of posting this. Check www.assembly.ca.gov committee hearings watch now and live stream or go to https://www.assembly.ca.gov/schedules-publications/todays-events \n 
URL:https://waterwrights.net/event/water-rights-climate-change-assembly-cmt-930am/
END:VEVENT
END:VCALENDAR