BEGIN:VCALENDAR
VERSION:2.0
PRODID:-//Water Wrights - ECPv5.16.4//NONSGML v1.0//EN
CALSCALE:GREGORIAN
METHOD:PUBLISH
X-WR-CALNAME:Water Wrights
X-ORIGINAL-URL:https://waterwrights.net
X-WR-CALDESC:Events for Water Wrights
BEGIN:VTIMEZONE
TZID:America/Los_Angeles
BEGIN:DAYLIGHT
TZOFFSETFROM:-0800
TZOFFSETTO:-0700
TZNAME:PDT
DTSTART:20230312T100000
END:DAYLIGHT
BEGIN:STANDARD
TZOFFSETFROM:-0700
TZOFFSETTO:-0800
TZNAME:PST
DTSTART:20231105T090000
END:STANDARD
END:VTIMEZONE
BEGIN:VEVENT
DTSTART;TZID=America/Los_Angeles:20230302T130000
DTEND;TZID=America/Los_Angeles:20230302T140000
DTSTAMP:20260421T191119
CREATED:20230202T023227Z
LAST-MODIFIED:20230202T023227Z
UID:20308-1677762000-1677765600@waterwrights.net
SUMMARY:Tri County Water Authority 1:00pm
DESCRIPTION:Tri County Water Authority\, 1pm – 2pm\nwww.tcwater.org\n944 Whitley Ave. Ste. E Corcoran CA 93212
URL:https://waterwrights.net/event/tri-county-water-authority-100pm-7/
END:VEVENT
BEGIN:VEVENT
DTSTART;TZID=America/Los_Angeles:20230302T130000
DTEND;TZID=America/Los_Angeles:20230302T150000
DTSTAMP:20260421T191119
CREATED:20230220T194800Z
LAST-MODIFIED:20230220T194800Z
UID:20664-1677762000-1677769200@waterwrights.net
SUMMARY:Tri County Water Authority 1:00pm
DESCRIPTION:Tri County WA\, 1pm – 3pm\nwww.tcwater.org\n944 Whitley Ave. Ste E\, Corcoran CA 93212
URL:https://waterwrights.net/event/tri-county-water-authority-100pm-8/
END:VEVENT
END:VCALENDAR