BEGIN:VCALENDAR
VERSION:2.0
PRODID:-//Water Wrights - ECPv5.16.4//NONSGML v1.0//EN
CALSCALE:GREGORIAN
METHOD:PUBLISH
X-WR-CALNAME:Water Wrights
X-ORIGINAL-URL:https://waterwrights.net
X-WR-CALDESC:Events for Water Wrights
BEGIN:VTIMEZONE
TZID:America/Los_Angeles
BEGIN:DAYLIGHT
TZOFFSETFROM:-0800
TZOFFSETTO:-0700
TZNAME:PDT
DTSTART:20230312T100000
END:DAYLIGHT
BEGIN:STANDARD
TZOFFSETFROM:-0700
TZOFFSETTO:-0800
TZNAME:PST
DTSTART:20231105T090000
END:STANDARD
END:VTIMEZONE
BEGIN:VEVENT
DTSTART;TZID=America/Los_Angeles:20230307T090000
DTEND;TZID=America/Los_Angeles:20230307T100000
DTSTAMP:20260421T172144
CREATED:20230220T194938Z
LAST-MODIFIED:20230220T194938Z
UID:20666-1678179600-1678183200@waterwrights.net
SUMMARY:Kaweah Delta Water Conservation District 9:00am
DESCRIPTION:Kaweah Delta WCD\, 9am – 10am\nwww.kdwcd.com\n2975 N. Farmersville Blvd\, Farmersville CA 93223
URL:https://waterwrights.net/event/kaweah-delta-water-conservation-district-900am-7/
END:VEVENT
BEGIN:VEVENT
DTSTART;TZID=America/Los_Angeles:20230307T090000
DTEND;TZID=America/Los_Angeles:20230307T110000
DTSTAMP:20260421T172144
CREATED:20230306T233338Z
LAST-MODIFIED:20230306T233338Z
UID:20761-1678179600-1678186800@waterwrights.net
SUMMARY:Yuba County Water Authority 9:00am
DESCRIPTION:Yuba County WA\, 9am – 11am\nwww.ycwa.com
URL:https://waterwrights.net/event/yuba-county-water-authority-900am-5/
LOCATION:Yuba County WA\, 1220 F Street\, Marysville\, California\, 995901
END:VEVENT
BEGIN:VEVENT
DTSTART;TZID=America/Los_Angeles:20230307T120000
DTEND;TZID=America/Los_Angeles:20230307T153000
DTSTAMP:20260421T172144
CREATED:20230304T170816Z
LAST-MODIFIED:20230304T170816Z
UID:20748-1678190400-1678203000@waterwrights.net
SUMMARY:Kern Delta WD noon
DESCRIPTION:Kern Delta Water District closed session noon. Open session\, whenever they get done with that. In person only: 501 Taft Highway\, Bakersfield\, California not far east of Highway 99.
URL:https://waterwrights.net/event/kern-delta-wd-noon-7/
END:VEVENT
BEGIN:VEVENT
DTSTART;TZID=America/Los_Angeles:20230307T150000
DTEND;TZID=America/Los_Angeles:20230307T170000
DTSTAMP:20260421T172144
CREATED:20230303T144546Z
LAST-MODIFIED:20230303T144546Z
UID:20737-1678201200-1678208400@waterwrights.net
SUMMARY:Mid Kaweah GSA Advisory Committee 3-5pm
DESCRIPTION:MKGSA Adv Cmt 3-5pm in-person at the Tulare Irrigation District conference room 6826 Ave 240\, Tulare CA 93274 or – \n1. Video: Zoom Meeting Linkhttps://us02web.zoom.us/j/89713931833?pwd=QkNKT05SbVFxb2pQV3ZQaXltM3FWdz09Meeting ID: 897 1393 1833Passcode: 453338 2. Phone+1 669 900 6833  (San Jose)Meeting ID: 897 1393 1833Passcode: 453338
URL:https://waterwrights.net/event/mid-kaweah-gsa-advisory-committee-3-5pm/
END:VEVENT
END:VCALENDAR