BEGIN:VCALENDAR
VERSION:2.0
PRODID:-//Water Wrights - ECPv5.16.4//NONSGML v1.0//EN
CALSCALE:GREGORIAN
METHOD:PUBLISH
X-WR-CALNAME:Water Wrights
X-ORIGINAL-URL:https://waterwrights.net
X-WR-CALDESC:Events for Water Wrights
BEGIN:VTIMEZONE
TZID:America/Los_Angeles
BEGIN:DAYLIGHT
TZOFFSETFROM:-0800
TZOFFSETTO:-0700
TZNAME:PDT
DTSTART:20230312T100000
END:DAYLIGHT
BEGIN:STANDARD
TZOFFSETFROM:-0700
TZOFFSETTO:-0800
TZNAME:PST
DTSTART:20231105T090000
END:STANDARD
END:VTIMEZONE
BEGIN:VEVENT
DTSTART;TZID=America/Los_Angeles:20230313T083000
DTEND;TZID=America/Los_Angeles:20230313T103000
DTSTAMP:20260421T172317
CREATED:20230303T150236Z
LAST-MODIFIED:20230303T150236Z
UID:20739-1678696200-1678703400@waterwrights.net
SUMMARY:East Kaweah GSA Tech Advisory Committee 8:30am
DESCRIPTION:EKGSA Technical Advisory Committee March 13th at 8:30 am Lindmore Irrigation District
URL:https://waterwrights.net/event/east-kaweah-gsa-tech-advisory-committee-830am/
END:VEVENT
END:VCALENDAR