BEGIN:VCALENDAR
VERSION:2.0
PRODID:-//Water Wrights - ECPv5.16.4//NONSGML v1.0//EN
CALSCALE:GREGORIAN
METHOD:PUBLISH
X-WR-CALNAME:Water Wrights
X-ORIGINAL-URL:https://waterwrights.net
X-WR-CALDESC:Events for Water Wrights
BEGIN:VTIMEZONE
TZID:America/Los_Angeles
BEGIN:DAYLIGHT
TZOFFSETFROM:-0800
TZOFFSETTO:-0700
TZNAME:PDT
DTSTART:20230312T100000
END:DAYLIGHT
BEGIN:STANDARD
TZOFFSETFROM:-0700
TZOFFSETTO:-0800
TZNAME:PST
DTSTART:20231105T090000
END:STANDARD
END:VTIMEZONE
BEGIN:VEVENT
DTSTART;TZID=America/Los_Angeles:20230314T080000
DTEND;TZID=America/Los_Angeles:20230314T090000
DTSTAMP:20260421T172459
CREATED:20230207T022131Z
LAST-MODIFIED:20230207T022314Z
UID:20360-1678780800-1678784400@waterwrights.net
SUMMARY:Rosedale Rio Bravo Water Service District 8:00am
DESCRIPTION:Rosedale RB WSD\, 8am – 9am\nwww.rrbwsd.com
URL:https://waterwrights.net/event/rosedale-rio-bravo-water-service-district-800am-8/
LOCATION:Rosedale Rio Bravo WSD\, 849 Allen Road\, Bakersfield\, California\, 93314
END:VEVENT
BEGIN:VEVENT
DTSTART;TZID=America/Los_Angeles:20230314T090000
DTEND;TZID=America/Los_Angeles:20230314T100000
DTSTAMP:20260421T172459
CREATED:20230202T022842Z
LAST-MODIFIED:20230202T022842Z
UID:20304-1678784400-1678788000@waterwrights.net
SUMMARY:Corcoran Irrigation District 9:00am
DESCRIPTION:Corcoran ID\, 9am – 10am\nwww.corcoranid.com\n1150 6 1/2 Ave Corcoran CA 93212
URL:https://waterwrights.net/event/corcoran-irrigation-district-900am-2/
LOCATION:California
END:VEVENT
BEGIN:VEVENT
DTSTART;TZID=America/Los_Angeles:20230314T090000
DTEND;TZID=America/Los_Angeles:20230314T110000
DTSTAMP:20260421T172459
CREATED:20230202T023308Z
LAST-MODIFIED:20230202T023308Z
UID:20310-1678784400-1678791600@waterwrights.net
SUMMARY:Kaweah Delta Water Conservation District 9:00am
DESCRIPTION:Kaweah Delta WCD\, 9am – 11am\nwww.kdwcd.com
URL:https://waterwrights.net/event/kaweah-delta-water-conservation-district-900am-6/
LOCATION:Kaweah Delta WCD\, 2975 N. Farmersville Blvd Farmersville\, California\, 93223
END:VEVENT
BEGIN:VEVENT
DTSTART;TZID=America/Los_Angeles:20230314T090000
DTEND;TZID=America/Los_Angeles:20230314T100000
DTSTAMP:20260421T172459
CREATED:20230202T023347Z
LAST-MODIFIED:20230202T023347Z
UID:20312-1678784400-1678788000@waterwrights.net
SUMMARY:Tulare Irrigation District 9:00am
DESCRIPTION:Tulare ID\, 9am – 10am\nwww.tulareid.org
URL:https://waterwrights.net/event/tulare-irrigation-district-900am-7/
LOCATION:Tulare ID\, 6826 Avenue 240\, Tulare\, California\, 93274
END:VEVENT
BEGIN:VEVENT
DTSTART;TZID=America/Los_Angeles:20230314T090000
DTEND;TZID=America/Los_Angeles:20230314T100000
DTSTAMP:20260421T172459
CREATED:20230202T023621Z
LAST-MODIFIED:20230202T023621Z
UID:20319-1678784400-1678788000@waterwrights.net
SUMMARY:Lower Tule River Irrigation District 10:00am
DESCRIPTION:Lower Tule River ID\, 9am – 10am\nwww.ltrid.org
URL:https://waterwrights.net/event/lower-tule-river-irrigation-district-1000am/
LOCATION:Lower Tule River ID\, 357 East Olive Ave\, Tipton\, California\, 93272
END:VEVENT
BEGIN:VEVENT
DTSTART;TZID=America/Los_Angeles:20230314T090000
DTEND;TZID=America/Los_Angeles:20230314T110000
DTSTAMP:20260421T172459
CREATED:20230202T023721Z
LAST-MODIFIED:20230202T023721Z
UID:20321-1678784400-1678791600@waterwrights.net
SUMMARY:Porterville Irrigation District 9:00am
DESCRIPTION:Porterville ID\, 9am – 11am\nwww.portervilleid.org\nPO Box 1248 Porterville CA 93258
URL:https://waterwrights.net/event/porterville-irrigation-district-900am-2/
LOCATION:California
END:VEVENT
BEGIN:VEVENT
DTSTART;TZID=America/Los_Angeles:20230314T090000
DTEND;TZID=America/Los_Angeles:20230314T100000
DTSTAMP:20260421T172459
CREATED:20230220T200045Z
LAST-MODIFIED:20230220T200045Z
UID:20677-1678784400-1678788000@waterwrights.net
SUMMARY:Lower Tule River Irrigation District 9:00am
DESCRIPTION:Lower Tule River ID\, 9am – 10am\nwww.ltrid.org\n357 East Olive Ave\, Tipton CA 93272
URL:https://waterwrights.net/event/lower-tule-river-irrigation-district-900am-8/
LOCATION:California
END:VEVENT
BEGIN:VEVENT
DTSTART;TZID=America/Los_Angeles:20230314T090000
DTEND;TZID=America/Los_Angeles:20230314T110000
DTSTAMP:20260421T172459
CREATED:20230220T200210Z
LAST-MODIFIED:20230220T200210Z
UID:20679-1678784400-1678791600@waterwrights.net
SUMMARY:Porterville Irrigation District 9:00am
DESCRIPTION:Porterville ID\, 9am – 11am\nwww.portervilleid.org\nPO Box 1248\, Porterville CA 93258
URL:https://waterwrights.net/event/porterville-irrigation-district-900am-3/
LOCATION:California
END:VEVENT
BEGIN:VEVENT
DTSTART;TZID=America/Los_Angeles:20230314T100000
DTEND;TZID=America/Los_Angeles:20230314T110000
DTSTAMP:20260421T172459
CREATED:20230131T010849Z
LAST-MODIFIED:20230131T010849Z
UID:20265-1678788000-1678791600@waterwrights.net
SUMMARY:James Irrigation District 10:00am
DESCRIPTION:James ID\, 10am – 11am\nwww.jamesid.org\nPO Box 757\, San Joaquin\, CA 93660
URL:https://waterwrights.net/event/james-irrigation-district-1000am-2/
LOCATION:California
END:VEVENT
BEGIN:VEVENT
DTSTART;TZID=America/Los_Angeles:20230314T130000
DTEND;TZID=America/Los_Angeles:20230314T150000
DTSTAMP:20260421T172459
CREATED:20230308T165629Z
LAST-MODIFIED:20230308T165629Z
UID:20790-1678798800-1678806000@waterwrights.net
SUMMARY:US Bureau Reclamation Biops 1-3pm
DESCRIPTION:The USBR will hold an online meeting to update the public on the biological opinions on Delta Operations. Click here for more info: www.USBR.gov
URL:https://waterwrights.net/event/us-bureau-reclamation-biops-1-3pm/
LOCATION:California
END:VEVENT
BEGIN:VEVENT
DTSTART;TZID=America/Los_Angeles:20230314T133000
DTEND;TZID=America/Los_Angeles:20230314T150000
DTSTAMP:20260421T172459
CREATED:20230220T195914Z
LAST-MODIFIED:20230220T195914Z
UID:20675-1678800600-1678806000@waterwrights.net
SUMMARY:Lindsay Strathmore Irrigation District\, 1:30pm
DESCRIPTION:Lindsay Strathmore ID\, 1:30pm – 3:00pm\nwww.lsid.org\n23260 Round Vally Road\, Lindsay CA 93247
URL:https://waterwrights.net/event/lindsay-strathmore-irrigation-district-130pm-2/
LOCATION:California
END:VEVENT
BEGIN:VEVENT
DTSTART;TZID=America/Los_Angeles:20230314T140000
DTEND;TZID=America/Los_Angeles:20230314T160000
DTSTAMP:20260421T172459
CREATED:20230202T023505Z
LAST-MODIFIED:20230202T023505Z
UID:20317-1678802400-1678809600@waterwrights.net
SUMMARY:Lindmore Irrigation District 2:00pm
DESCRIPTION:Lindmore ID\, 2pm – 3pm\nwww.lindmoreid.com
URL:https://waterwrights.net/event/lindmore-irrigation-district-200pm-9/
LOCATION:Lindmore ID\, 315 E. Lindmore Street\, Lindsay\, California\, 93247
END:VEVENT
BEGIN:VEVENT
DTSTART;TZID=America/Los_Angeles:20230314T140000
DTEND;TZID=America/Los_Angeles:20230314T150000
DTSTAMP:20260421T172459
CREATED:20230220T195711Z
LAST-MODIFIED:20230220T195711Z
UID:20673-1678802400-1678806000@waterwrights.net
SUMMARY:Lindmore Irrigation District\, 2:00pm
DESCRIPTION:Lindmore ID\, 2pm – 3pm\nwww.lindmoreid.com\n315 E. Lindmore Street\, Lindsay CA 93247
URL:https://waterwrights.net/event/lindmore-irrigation-district-200pm-10/
LOCATION:California
END:VEVENT
END:VCALENDAR