BEGIN:VCALENDAR
VERSION:2.0
PRODID:-//Water Wrights - ECPv5.16.4//NONSGML v1.0//EN
CALSCALE:GREGORIAN
METHOD:PUBLISH
X-WR-CALNAME:Water Wrights
X-ORIGINAL-URL:https://waterwrights.net
X-WR-CALDESC:Events for Water Wrights
BEGIN:VTIMEZONE
TZID:America/Los_Angeles
BEGIN:DAYLIGHT
TZOFFSETFROM:-0800
TZOFFSETTO:-0700
TZNAME:PDT
DTSTART:20230312T100000
END:DAYLIGHT
BEGIN:STANDARD
TZOFFSETFROM:-0700
TZOFFSETTO:-0800
TZNAME:PST
DTSTART:20231105T090000
END:STANDARD
END:VTIMEZONE
BEGIN:VEVENT
DTSTART;TZID=America/Los_Angeles:20230412T080000
DTEND;TZID=America/Los_Angeles:20230412T110000
DTSTAMP:20260421T154034
CREATED:20230402T230600Z
LAST-MODIFIED:20230402T230600Z
UID:20937-1681286400-1681297200@waterwrights.net
SUMMARY:Wheeler Ridge Maricopa WD 8am
DESCRIPTION:WRMWD 8am Mettler
URL:https://waterwrights.net/event/wheeler-ridge-maricopa-wd-8am/
END:VEVENT
BEGIN:VEVENT
DTSTART;TZID=America/Los_Angeles:20230412T090000
DTEND;TZID=America/Los_Angeles:20230412T110000
DTSTAMP:20260421T154034
CREATED:20230402T230707Z
LAST-MODIFIED:20230402T230707Z
UID:20939-1681290000-1681297200@waterwrights.net
SUMMARY:Shafter Wasco ID 9am
DESCRIPTION:SWID Board 9am
URL:https://waterwrights.net/event/shafter-wasco-id-9am-3/
END:VEVENT
BEGIN:VEVENT
DTSTART;TZID=America/Los_Angeles:20230412T113000
DTEND;TZID=America/Los_Angeles:20230412T130000
DTSTAMP:20260421T154034
CREATED:20230402T225213Z
LAST-MODIFIED:20230402T225556Z
UID:20923-1681299000-1681304400@waterwrights.net
SUMMARY:Orange Cove ID 11:45am
DESCRIPTION:OCID Orange Cove CA 11:45am
URL:https://waterwrights.net/event/orange-cove-id-1145am-2/
END:VEVENT
BEGIN:VEVENT
DTSTART;TZID=America/Los_Angeles:20230412T123000
DTEND;TZID=America/Los_Angeles:20230412T143000
DTSTAMP:20260421T154034
CREATED:20230402T230336Z
LAST-MODIFIED:20230402T230336Z
UID:20935-1681302600-1681309800@waterwrights.net
SUMMARY:Semitropic Water Storage District 12:30pm
DESCRIPTION:SWSD 12:30pm Wasco
URL:https://waterwrights.net/event/semitropic-water-storage-district-1230pm/
END:VEVENT
BEGIN:VEVENT
DTSTART;TZID=America/Los_Angeles:20230412T130000
DTEND;TZID=America/Los_Angeles:20230412T140000
DTSTAMP:20260421T154034
CREATED:20230329T200156Z
LAST-MODIFIED:20230329T200156Z
UID:20874-1681304400-1681308000@waterwrights.net
SUMMARY:Consolidated Irrigation District 1:00pm
DESCRIPTION:Consolidated ID\, 1pm – 2pm\nwww.cidwater.com\n2255 Chandler Street Selma CA 93662
URL:https://waterwrights.net/event/consolidated-irrigation-district-100pm-2/
END:VEVENT
BEGIN:VEVENT
DTSTART;TZID=America/Los_Angeles:20230412T133000
DTEND;TZID=America/Los_Angeles:20230412T150000
DTSTAMP:20260421T154034
CREATED:20230322T210225Z
LAST-MODIFIED:20230322T210225Z
UID:20845-1681306200-1681311600@waterwrights.net
SUMMARY:Chowchilla Water District 1:30pm
DESCRIPTION:Chowchilla WD\, 1:30pm – 3:00pm\nwww.cwdwater.com
URL:https://waterwrights.net/event/chowchilla-water-district-130pm-10/
LOCATION:Chowchilla WD\, 327 S Chowchilla Blvd\,\, Chowchilla\,\, California\, 93610
END:VEVENT
END:VCALENDAR