BEGIN:VCALENDAR
VERSION:2.0
PRODID:-//Water Wrights - ECPv5.16.4//NONSGML v1.0//EN
CALSCALE:GREGORIAN
METHOD:PUBLISH
X-WR-CALNAME:Water Wrights
X-ORIGINAL-URL:https://waterwrights.net
X-WR-CALDESC:Events for Water Wrights
BEGIN:VTIMEZONE
TZID:America/Los_Angeles
BEGIN:DAYLIGHT
TZOFFSETFROM:-0800
TZOFFSETTO:-0700
TZNAME:PDT
DTSTART:20230312T100000
END:DAYLIGHT
BEGIN:STANDARD
TZOFFSETFROM:-0700
TZOFFSETTO:-0800
TZNAME:PST
DTSTART:20231105T090000
END:STANDARD
END:VTIMEZONE
BEGIN:VEVENT
DTSTART;TZID=America/Los_Angeles:20230418T090000
DTEND;TZID=America/Los_Angeles:20230418T113000
DTSTAMP:20260421T153920
CREATED:20230402T224140Z
LAST-MODIFIED:20230402T224140Z
UID:20915-1681808400-1681817400@waterwrights.net
SUMMARY:Westlands WD 9am
DESCRIPTION:WWD Board 9am
URL:https://waterwrights.net/event/westlands-wd-9am/
END:VEVENT
BEGIN:VEVENT
DTSTART;TZID=America/Los_Angeles:20230418T090000
DTEND;TZID=America/Los_Angeles:20230418T110000
DTSTAMP:20260421T153920
CREATED:20230402T232156Z
LAST-MODIFIED:20230402T232156Z
UID:20963-1681808400-1681815600@waterwrights.net
SUMMARY:Yuba County Water Authority 8am
DESCRIPTION:YCWA 9am 1st and 3rd Tuesdays\, Marysville
URL:https://waterwrights.net/event/yuba-county-water-authority-8am/
END:VEVENT
BEGIN:VEVENT
DTSTART;TZID=America/Los_Angeles:20230418T090000
DTEND;TZID=America/Los_Angeles:20230418T120000
DTSTAMP:20260421T153920
CREATED:20230402T232552Z
LAST-MODIFIED:20230402T232552Z
UID:20969-1681808400-1681819200@waterwrights.net
SUMMARY:Western Canal WD 9am
DESCRIPTION:WCWD 9am
URL:https://waterwrights.net/event/western-canal-wd-9am-2/
END:VEVENT
BEGIN:VEVENT
DTSTART;TZID=America/Los_Angeles:20230418T100000
DTEND;TZID=America/Los_Angeles:20230418T120000
DTSTAMP:20260421T153920
CREATED:20230304T180912Z
LAST-MODIFIED:20230304T180912Z
UID:20754-1681812000-1681819200@waterwrights.net
SUMMARY:California Ag. Vision Workshop 10am
DESCRIPTION:USDA and California Department of Agriculture \nFor questions\, please contact: Juan Alvarez at Juan.Alvarez@usda.gov.Date: Tuesday\, April 18\, 2023Time: 10:00am PSTRSVP:  https://www.zoomgov.com/meeting/register/vJIscOmtpzwoGAhZNHPJSDr88g0Ye3nz0dA \n The topics discussed in this workshop are as follows: \n\nOffice of Environmental Farming and Innovation Programs\nCalifornia’s top ten commodities\nAgriculture’s main challenges\nCalifornia Ag Vision
URL:https://waterwrights.net/event/california-ag-vision-workshop-10am/
END:VEVENT
BEGIN:VEVENT
DTSTART;TZID=America/Los_Angeles:20230418T130000
DTEND;TZID=America/Los_Angeles:20230418T140000
DTSTAMP:20260421T153920
CREATED:20230322T210113Z
LAST-MODIFIED:20230322T210113Z
UID:20843-1681822800-1681826400@waterwrights.net
SUMMARY:Madera Irrigation District 1:00pm
DESCRIPTION:Madera ID\, 1pm – 2pm\nwww.madera-id.org
URL:https://waterwrights.net/event/madera-irrigation-district-100pm-8/
LOCATION:Madera ID\, 12152 Rd 28 1/4\,\, Madera\,\, California\, 93637
END:VEVENT
END:VCALENDAR