BEGIN:VCALENDAR
VERSION:2.0
PRODID:-//Water Wrights - ECPv5.16.4//NONSGML v1.0//EN
CALSCALE:GREGORIAN
METHOD:PUBLISH
X-WR-CALNAME:Water Wrights
X-ORIGINAL-URL:https://waterwrights.net
X-WR-CALDESC:Events for Water Wrights
BEGIN:VTIMEZONE
TZID:America/Los_Angeles
BEGIN:DAYLIGHT
TZOFFSETFROM:-0800
TZOFFSETTO:-0700
TZNAME:PDT
DTSTART:20230312T100000
END:DAYLIGHT
BEGIN:STANDARD
TZOFFSETFROM:-0700
TZOFFSETTO:-0800
TZNAME:PST
DTSTART:20231105T090000
END:STANDARD
END:VTIMEZONE
BEGIN:VEVENT
DTSTART;TZID=America/Los_Angeles:20230420T080000
DTEND;TZID=America/Los_Angeles:20230420T110000
DTSTAMP:20260421T154037
CREATED:20230331T184713Z
LAST-MODIFIED:20230331T184713Z
UID:20891-1681977600-1681988400@waterwrights.net
SUMMARY:AgTEC Summit - April 20th 8-11am
DESCRIPTION:The Fresno Merced Future of Food (F3) workforce partners are hosting the first report out of the F3 AgTEC Initiative. Since receiving the EDA award to build a regionally applied training program\, our industry partners have been instrumental in launching the work.  On April 20th\, we invite you to attend the morning session of the AgTEC Summit from 8:00 a.m. – 11:00 a.m. at the Saroyan Theater where you will hear from academics\, farmworkers\, and industry as we come together to build training programs for the future. \nDate and Time: Thursday\, April 20\, 2023\, 8:00 a.m. – 11:00 a.m. \nLocation: Saroyan Theater 730 M St\, Fresno\, CA 93721 \nPlease click here to register.
URL:https://waterwrights.net/event/agtec-summit-april-20th-8-11am/
END:VEVENT
BEGIN:VEVENT
DTSTART;TZID=America/Los_Angeles:20230420T090000
DTEND;TZID=America/Los_Angeles:20230420T110000
DTSTAMP:20260421T154037
CREATED:20230402T231732Z
LAST-MODIFIED:20230402T231732Z
UID:20959-1681981200-1681988400@waterwrights.net
SUMMARY:Oakdale ID 9am
DESCRIPTION:OID 9am
URL:https://waterwrights.net/event/oakdale-id-9am/
END:VEVENT
BEGIN:VEVENT
DTSTART;TZID=America/Los_Angeles:20230420T090000
DTEND;TZID=America/Los_Angeles:20230420T110000
DTSTAMP:20260421T154037
CREATED:20230402T232411Z
LAST-MODIFIED:20230402T232411Z
UID:20967-1681981200-1681988400@waterwrights.net
SUMMARY:Glenn Colusa ID 9am
DESCRIPTION:GCID 9am 1st & 3rd Thursdays
URL:https://waterwrights.net/event/glenn-colusa-id-9am-17/
END:VEVENT
BEGIN:VEVENT
DTSTART;TZID=America/Los_Angeles:20230420T150000
DTEND;TZID=America/Los_Angeles:20230420T160000
DTSTAMP:20260421T154037
CREATED:20230329T200046Z
LAST-MODIFIED:20230329T200046Z
UID:20872-1682002800-1682006400@waterwrights.net
SUMMARY:Fresno Irrigation District 3:00pm
DESCRIPTION:Fresno ID\, 3pm – 4pm\nwww.fresnoirrigation.com
URL:https://waterwrights.net/event/fresno-irrigation-district-300pm-7/
LOCATION:Fresno Irrigation District\, 2097 S. Mapel Ave\, Fresno\, California\, 93725
END:VEVENT
BEGIN:VEVENT
DTSTART;TZID=America/Los_Angeles:20230420T150000
DTEND;TZID=America/Los_Angeles:20230420T180000
DTSTAMP:20260421T154037
CREATED:20230402T224231Z
LAST-MODIFIED:20230402T224231Z
UID:20917-1682002800-1682013600@waterwrights.net
SUMMARY:Fresno ID 3pm
DESCRIPTION:FID board 3pm
URL:https://waterwrights.net/event/fresno-id-3pm-4/
END:VEVENT
END:VCALENDAR