BEGIN:VCALENDAR
VERSION:2.0
PRODID:-//Water Wrights - ECPv5.16.4//NONSGML v1.0//EN
CALSCALE:GREGORIAN
METHOD:PUBLISH
X-WR-CALNAME:Water Wrights
X-ORIGINAL-URL:https://waterwrights.net
X-WR-CALDESC:Events for Water Wrights
BEGIN:VTIMEZONE
TZID:America/Los_Angeles
BEGIN:DAYLIGHT
TZOFFSETFROM:-0800
TZOFFSETTO:-0700
TZNAME:PDT
DTSTART:20230312T100000
END:DAYLIGHT
BEGIN:STANDARD
TZOFFSETFROM:-0700
TZOFFSETTO:-0800
TZNAME:PST
DTSTART:20231105T090000
END:STANDARD
END:VTIMEZONE
BEGIN:VEVENT
DTSTART;TZID=America/Los_Angeles:20230427T100000
DTEND;TZID=America/Los_Angeles:20230427T120000
DTSTAMP:20260421T154034
CREATED:20230402T230130Z
LAST-MODIFIED:20230402T230130Z
UID:20931-1682589600-1682596800@waterwrights.net
SUMMARY:Friant Water Authority 10am
DESCRIPTION:FWA Board 10am
URL:https://waterwrights.net/event/friant-water-authority-10am-3/
END:VEVENT
BEGIN:VEVENT
DTSTART;TZID=America/Los_Angeles:20230427T120000
DTEND;TZID=America/Los_Angeles:20230427T130000
DTSTAMP:20260421T154034
CREATED:20230331T193404Z
LAST-MODIFIED:20230331T193404Z
UID:20905-1682596800-1682600400@waterwrights.net
SUMMARY:McMullen Area GSA 218 Acreage Fee Webinar Noon
DESCRIPTION:Register here
URL:https://waterwrights.net/event/mcmullen-area-gsa-218-acreage-fee-webinar-noon/
END:VEVENT
BEGIN:VEVENT
DTSTART;TZID=America/Los_Angeles:20230427T180000
DTEND;TZID=America/Los_Angeles:20230427T200000
DTSTAMP:20260421T154034
CREATED:20230402T232710Z
LAST-MODIFIED:20230402T232710Z
UID:20971-1682618400-1682625600@waterwrights.net
SUMMARY:North Kings GSA 6pm
DESCRIPTION:NKGSA 6pm Fresno
URL:https://waterwrights.net/event/north-kings-gsa-6pm-13/
END:VEVENT
END:VCALENDAR