BEGIN:VCALENDAR
VERSION:2.0
PRODID:-//Water Wrights - ECPv5.16.4//NONSGML v1.0//EN
CALSCALE:GREGORIAN
METHOD:PUBLISH
X-WR-CALNAME:Water Wrights
X-ORIGINAL-URL:https://waterwrights.net
X-WR-CALDESC:Events for Water Wrights
BEGIN:VTIMEZONE
TZID:America/Los_Angeles
BEGIN:DAYLIGHT
TZOFFSETFROM:-0800
TZOFFSETTO:-0700
TZNAME:PDT
DTSTART:20230312T100000
END:DAYLIGHT
BEGIN:STANDARD
TZOFFSETFROM:-0700
TZOFFSETTO:-0800
TZNAME:PST
DTSTART:20231105T090000
END:STANDARD
END:VTIMEZONE
BEGIN:VEVENT
DTSTART;VALUE=DATE:20230508
DTEND;VALUE=DATE:20230509
DTSTAMP:20260421T135644
CREATED:20230502T133417Z
LAST-MODIFIED:20230502T133417Z
UID:21457-1683504000-1683590399@waterwrights.net
SUMMARY:ACWA JPIA
DESCRIPTION:The Association of California Water Agencies Joint Powers Insurance Authority\, all day in Monterey
URL:https://waterwrights.net/event/acwa-jpia/
END:VEVENT
BEGIN:VEVENT
DTSTART;TZID=America/Los_Angeles:20230508T130000
DTEND;TZID=America/Los_Angeles:20230508T150000
DTSTAMP:20260421T135644
CREATED:20230507T172603Z
LAST-MODIFIED:20230507T172603Z
UID:21638-1683550800-1683558000@waterwrights.net
SUMMARY:Greater Kaweah GSA 1:00pm
DESCRIPTION:GKGSA 1pm in person and GoToMeetings here. \nGKGSA Board of Directors Monday\, May 8\, 2023 @ 1:00 p.m. 2975 N. Farmersville Blvd. – Farmersville\, CA 93223 \nCall-in Number: 1-(872) 240-3311 and Access code: 402-106-581
URL:https://waterwrights.net/event/greater-kaweah-gsa-100pm-8/
END:VEVENT
END:VCALENDAR