BEGIN:VCALENDAR
VERSION:2.0
PRODID:-//Water Wrights - ECPv5.16.4//NONSGML v1.0//EN
CALSCALE:GREGORIAN
METHOD:PUBLISH
X-WR-CALNAME:Water Wrights
X-ORIGINAL-URL:https://waterwrights.net
X-WR-CALDESC:Events for Water Wrights
BEGIN:VTIMEZONE
TZID:America/Los_Angeles
BEGIN:DAYLIGHT
TZOFFSETFROM:-0800
TZOFFSETTO:-0700
TZNAME:PDT
DTSTART:20230312T100000
END:DAYLIGHT
BEGIN:STANDARD
TZOFFSETFROM:-0700
TZOFFSETTO:-0800
TZNAME:PST
DTSTART:20231105T090000
END:STANDARD
END:VTIMEZONE
BEGIN:VEVENT
DTSTART;TZID=America/Los_Angeles:20230517T093000
DTEND;TZID=America/Los_Angeles:20230517T170000
DTSTAMP:20260421T135701
CREATED:20230507T171323Z
LAST-MODIFIED:20230507T171323Z
UID:21632-1684315800-1684342800@waterwrights.net
SUMMARY:California Water Commission 9:30am
DESCRIPTION:The California Water Commission will hold a meeting at 9:30 a.m. on Wednesday\, May 17\, 2023\, in the California Natural Resources Building’s First Floor Auditorium\, 715 P Street\, in Sacramento. Please see the attached agenda for meeting details. Meeting materials will be posted at the following link: https://cwc.ca.gov/Meetings/All-Meetings/2023/Meeting-of-the-California-Water-Commission-May-17-2023.
URL:https://waterwrights.net/event/california-water-commission-930am-5/
END:VEVENT
BEGIN:VEVENT
DTSTART;TZID=America/Los_Angeles:20230517T130000
DTEND;TZID=America/Los_Angeles:20230517T133000
DTSTAMP:20260421T135701
CREATED:20230513T184929Z
LAST-MODIFIED:20230513T184929Z
UID:21661-1684328400-1684330200@waterwrights.net
SUMMARY:Buena Vista WSD 1pm
DESCRIPTION:BVWSD Board 1pm Headquarters\, in person only. 525 N. Main St. Buttonwillow CA
URL:https://waterwrights.net/event/buena-vista-wsd-1pm/
END:VEVENT
END:VCALENDAR