BEGIN:VCALENDAR
VERSION:2.0
PRODID:-//Water Wrights - ECPv5.16.4//NONSGML v1.0//EN
CALSCALE:GREGORIAN
METHOD:PUBLISH
X-WR-CALNAME:Water Wrights
X-ORIGINAL-URL:https://waterwrights.net
X-WR-CALDESC:Events for Water Wrights
BEGIN:VTIMEZONE
TZID:America/Los_Angeles
BEGIN:DAYLIGHT
TZOFFSETFROM:-0800
TZOFFSETTO:-0700
TZNAME:PDT
DTSTART:20230312T100000
END:DAYLIGHT
BEGIN:STANDARD
TZOFFSETFROM:-0700
TZOFFSETTO:-0800
TZNAME:PST
DTSTART:20231105T090000
END:STANDARD
END:VTIMEZONE
BEGIN:VEVENT
DTSTART;TZID=America/Los_Angeles:20230518T080000
DTEND;TZID=America/Los_Angeles:20230518T170000
DTSTAMP:20260421T135758
CREATED:20230507T171952Z
LAST-MODIFIED:20230507T171952Z
UID:21634-1684396800-1684429200@waterwrights.net
SUMMARY:Kern County Farm Bureau
DESCRIPTION:The Kern County Farm Bureau board meets on the 3rd Thursday of the month. Most likely at its new headquarters at: \nWestchester Corporate Plaza\n1800 30th Street Ste 390\nBakersfield\, CA 93301 \nAlthough we receive emails noticing the meeting the time\, locations and agendas are not included. There is a phone number and email on the KCFB website – \nkcfb@kerncfb.com \nPhone Number:\n661-397-9635
URL:https://waterwrights.net/event/kern-county-farm-bureau-2/
END:VEVENT
BEGIN:VEVENT
DTSTART;TZID=America/Los_Angeles:20230518T090000
DTEND;TZID=America/Los_Angeles:20230518T110000
DTSTAMP:20260421T135758
CREATED:20230513T184637Z
LAST-MODIFIED:20230513T184637Z
UID:21659-1684400400-1684407600@waterwrights.net
SUMMARY:Glenn Colusa ID 9am
DESCRIPTION:GCID Board\, Headquarters 344 E. Laurel\, Willows CA 95988 www.gcid.net
URL:https://waterwrights.net/event/glenn-colusa-id-9am-18/
END:VEVENT
BEGIN:VEVENT
DTSTART;TZID=America/Los_Angeles:20230518T090000
DTEND;TZID=America/Los_Angeles:20230518T103000
DTSTAMP:20260421T135758
CREATED:20230516T034817Z
LAST-MODIFIED:20230516T034817Z
UID:21682-1684400400-1684405800@waterwrights.net
SUMMARY:Pixley ID/GSA 9am
DESCRIPTION:PID/GSA In Person Only Tipton CA
URL:https://waterwrights.net/event/pixley-id-gsa-9am-2/
END:VEVENT
BEGIN:VEVENT
DTSTART;TZID=America/Los_Angeles:20230518T150000
DTEND;TZID=America/Los_Angeles:20230518T170000
DTSTAMP:20260421T135758
CREATED:20230516T033356Z
LAST-MODIFIED:20230516T033356Z
UID:21676-1684422000-1684429200@waterwrights.net
SUMMARY:Fresno ID 3pm
DESCRIPTION:FID’s Board 3pm in person at 2907 S. Maple Avenue\, Fresno\, CA  93725 In person only \n 
URL:https://waterwrights.net/event/fresno-id-3pm-5/
END:VEVENT
END:VCALENDAR