BEGIN:VCALENDAR
VERSION:2.0
PRODID:-//Water Wrights - ECPv5.16.4//NONSGML v1.0//EN
CALSCALE:GREGORIAN
METHOD:PUBLISH
X-WR-CALNAME:Water Wrights
X-ORIGINAL-URL:https://waterwrights.net
X-WR-CALDESC:Events for Water Wrights
BEGIN:VTIMEZONE
TZID:America/Los_Angeles
BEGIN:DAYLIGHT
TZOFFSETFROM:-0800
TZOFFSETTO:-0700
TZNAME:PDT
DTSTART:20230312T100000
END:DAYLIGHT
BEGIN:STANDARD
TZOFFSETFROM:-0700
TZOFFSETTO:-0800
TZNAME:PST
DTSTART:20231105T090000
END:STANDARD
END:VTIMEZONE
BEGIN:VEVENT
DTSTART;TZID=America/Los_Angeles:20230530T110000
DTEND;TZID=America/Los_Angeles:20230530T130000
DTSTAMP:20260421T122812
CREATED:20230516T033103Z
LAST-MODIFIED:20230516T033103Z
UID:21674-1685444400-1685451600@waterwrights.net
SUMMARY:Santa Clara Valley WD Diversity Invitational 11am-1pm
DESCRIPTION:If you have a diverse business SCVWD wants to meet you at its headquarters on Tuesday May 30th. Register by May 22nd for a free lunch. \nRegister Here.Thank you\,Santa Clara Valley Water District \n5700 Almaden Expressway\, San Jose CA
URL:https://waterwrights.net/event/santa-clara-valley-wd-diversity-invitational-11am-1pm/
END:VEVENT
END:VCALENDAR