BEGIN:VCALENDAR
VERSION:2.0
PRODID:-//Water Wrights - ECPv5.16.4//NONSGML v1.0//EN
CALSCALE:GREGORIAN
METHOD:PUBLISH
X-WR-CALNAME:Water Wrights
X-ORIGINAL-URL:https://waterwrights.net
X-WR-CALDESC:Events for Water Wrights
BEGIN:VTIMEZONE
TZID:America/Los_Angeles
BEGIN:DAYLIGHT
TZOFFSETFROM:-0800
TZOFFSETTO:-0700
TZNAME:PDT
DTSTART:20230312T100000
END:DAYLIGHT
BEGIN:STANDARD
TZOFFSETFROM:-0700
TZOFFSETTO:-0800
TZNAME:PST
DTSTART:20231105T090000
END:STANDARD
END:VTIMEZONE
BEGIN:VEVENT
DTSTART;TZID=America/Los_Angeles:20230601T100000
DTEND;TZID=America/Los_Angeles:20230601T120000
DTSTAMP:20260421T122618
CREATED:20230607T230516Z
LAST-MODIFIED:20230607T230516Z
UID:22010-1685613600-1685620800@waterwrights.net
SUMMARY:Kern River GSA 10AM
DESCRIPTION:1st Thursday 10am
URL:https://waterwrights.net/event/kern-river-gsa-10am-8/
END:VEVENT
BEGIN:VEVENT
DTSTART;TZID=America/Los_Angeles:20230601T130000
DTEND;TZID=America/Los_Angeles:20230601T150000
DTSTAMP:20260421T122618
CREATED:20230607T202300Z
LAST-MODIFIED:20230607T202300Z
UID:21929-1685624400-1685631600@waterwrights.net
SUMMARY:Tri County Water Authority 1PM
DESCRIPTION:1st Thursday 1pm
URL:https://waterwrights.net/event/tri-county-water-authority-1pm-3/
END:VEVENT
END:VCALENDAR