BEGIN:VCALENDAR
VERSION:2.0
PRODID:-//Water Wrights - ECPv5.16.4//NONSGML v1.0//EN
CALSCALE:GREGORIAN
METHOD:PUBLISH
X-WR-CALNAME:Water Wrights
X-ORIGINAL-URL:https://waterwrights.net
X-WR-CALDESC:Events for Water Wrights
BEGIN:VTIMEZONE
TZID:America/Los_Angeles
BEGIN:DAYLIGHT
TZOFFSETFROM:-0800
TZOFFSETTO:-0700
TZNAME:PDT
DTSTART:20230312T100000
END:DAYLIGHT
BEGIN:STANDARD
TZOFFSETFROM:-0700
TZOFFSETTO:-0800
TZNAME:PST
DTSTART:20231105T090000
END:STANDARD
END:VTIMEZONE
BEGIN:VEVENT
DTSTART;TZID=America/Los_Angeles:20230606T140000
DTEND;TZID=America/Los_Angeles:20230606T170000
DTSTAMP:20260421T122555
CREATED:20230604T011308Z
LAST-MODIFIED:20230604T011308Z
UID:21883-1686060000-1686070800@waterwrights.net
SUMMARY:MID Special Board Meeting 2PM
DESCRIPTION:MID will have a Special Board Meeting on Tuesday\, June 6\, 2023 at 2:00 p.m. both in person and via zoom if interested for zoom meeting become interested person.
URL:https://waterwrights.net/event/mid-special-board-meeting-2pm/
LOCATION:Madera Irrigation District  12152 Road 28 ¼  Madera\, CA 93637\, Irrigation District 12152 Road 28 ¼\, madera\, CA\, 93637\, United States
END:VEVENT
BEGIN:VEVENT
DTSTART;TZID=America/Los_Angeles:20230606T140000
DTEND;TZID=America/Los_Angeles:20230606T160000
DTSTAMP:20260421T122555
CREATED:20230607T225629Z
LAST-MODIFIED:20230607T225629Z
UID:22002-1686060000-1686067200@waterwrights.net
SUMMARY:Eastern Tule GSA 2PM
DESCRIPTION:1st Tuesday 2pm
URL:https://waterwrights.net/event/eastern-tule-gsa-2pm-11/
LOCATION:CA
END:VEVENT
END:VCALENDAR