BEGIN:VCALENDAR
VERSION:2.0
PRODID:-//Water Wrights - ECPv5.16.4//NONSGML v1.0//EN
CALSCALE:GREGORIAN
METHOD:PUBLISH
X-WR-CALNAME:Water Wrights
X-ORIGINAL-URL:https://waterwrights.net
X-WR-CALDESC:Events for Water Wrights
BEGIN:VTIMEZONE
TZID:America/Los_Angeles
BEGIN:DAYLIGHT
TZOFFSETFROM:-0800
TZOFFSETTO:-0700
TZNAME:PDT
DTSTART:20230312T100000
END:DAYLIGHT
BEGIN:STANDARD
TZOFFSETFROM:-0700
TZOFFSETTO:-0800
TZNAME:PST
DTSTART:20231105T090000
END:STANDARD
END:VTIMEZONE
BEGIN:VEVENT
DTSTART;TZID=America/Los_Angeles:20230608T080000
DTEND;TZID=America/Los_Angeles:20230608T170000
DTSTAMP:20260421T122552
CREATED:20230608T205117Z
LAST-MODIFIED:20230608T205117Z
UID:22017-1686211200-1686243600@waterwrights.net
SUMMARY:Kern River GSA 9AM
DESCRIPTION:JUNE 8\, 2023 Special Meeting Agenda 9:00 A.M. \nCity of Bakersfield Water Resources Department \n1000 Buena Vista Road\, Bakersfield CA 93311 \nLarge Conference Room
URL:https://waterwrights.net/event/kern-river-gsa-9am/
LOCATION:1000 Buena Vista Road\, Bakersfield CA 93311\, 1000 buena Vista Road\,\, Bakersfield\, CA\, 93311\, United States
END:VEVENT
BEGIN:VEVENT
DTSTART;TZID=America/Los_Angeles:20230608T090000
DTEND;TZID=America/Los_Angeles:20230608T110000
DTSTAMP:20260421T122552
CREATED:20230602T055123Z
LAST-MODIFIED:20230602T055123Z
UID:21873-1686214800-1686222000@waterwrights.net
SUMMARY:Cawelo WD 9 AM
DESCRIPTION:Regular Board of Directors’ Meetings held at 9:00 am  The meetings are located at the Cawelo Water District office and are open to the public.
URL:https://waterwrights.net/event/cawelo-wd-9-am/
LOCATION:17207 Industrial Farm Road\, Bakersfield\, CA 93308\, 17207 Industrial Farm Road\, Bakersfield\, CA\, 93308\, United States
END:VEVENT
BEGIN:VEVENT
DTSTART;TZID=America/Los_Angeles:20230608T093000
DTEND;TZID=America/Los_Angeles:20230608T113000
DTSTAMP:20260421T122552
CREATED:20230607T201123Z
LAST-MODIFIED:20230607T201123Z
UID:21921-1686216600-1686223800@waterwrights.net
SUMMARY:Alta ID 9:30AM
DESCRIPTION:2nd Thursday 9:30am
URL:https://waterwrights.net/event/alta-id-930am-10/
LOCATION:CA
END:VEVENT
BEGIN:VEVENT
DTSTART;TZID=America/Los_Angeles:20230608T093000
DTEND;TZID=America/Los_Angeles:20230608T113000
DTSTAMP:20260421T122552
CREATED:20230607T212610Z
LAST-MODIFIED:20230607T212610Z
UID:21974-1686216600-1686223800@waterwrights.net
SUMMARY:San Luis Delta Mendota 9:30 AM
DESCRIPTION:2nd Thur after 1st Mon 9:30
URL:https://waterwrights.net/event/san-luis-delta-mendota-930-am/
LOCATION:CA
END:VEVENT
BEGIN:VEVENT
DTSTART;TZID=America/Los_Angeles:20230608T100000
DTEND;TZID=America/Los_Angeles:20230608T120000
DTSTAMP:20260421T122552
CREATED:20230607T214327Z
LAST-MODIFIED:20230607T214327Z
UID:21986-1686218400-1686225600@waterwrights.net
SUMMARY:Butte WD 10AM
DESCRIPTION:2nd Thursday 10am
URL:https://waterwrights.net/event/butte-wd-10am/
LOCATION:CA
END:VEVENT
BEGIN:VEVENT
DTSTART;TZID=America/Los_Angeles:20230608T133000
DTEND;TZID=America/Los_Angeles:20230608T153000
DTSTAMP:20260421T122552
CREATED:20230607T202742Z
LAST-MODIFIED:20230607T202742Z
UID:21935-1686231000-1686238200@waterwrights.net
SUMMARY:Exeter ID 1:30 PM
DESCRIPTION:2nd Thursday 1:30pm
URL:https://waterwrights.net/event/exeter-id-130-pm/
LOCATION:CA
END:VEVENT
BEGIN:VEVENT
DTSTART;TZID=America/Los_Angeles:20230608T140000
DTEND;TZID=America/Los_Angeles:20230608T153000
DTSTAMP:20260421T122552
CREATED:20230607T165457Z
LAST-MODIFIED:20230607T165457Z
UID:21904-1686232800-1686238200@waterwrights.net
SUMMARY:Triangle T WD & GSA 2pm
DESCRIPTION:TTWD and GSA board’s 2pm Zoom \nMeeting ID: 872 5444 9162\nPasscode: 70174
URL:https://waterwrights.net/event/triangle-t-wd-gsa-2pm/
LOCATION:CA
END:VEVENT
BEGIN:VEVENT
DTSTART;TZID=America/Los_Angeles:20230608T143000
DTEND;TZID=America/Los_Angeles:20230608T163000
DTSTAMP:20260421T122552
CREATED:20230607T211813Z
LAST-MODIFIED:20230607T211813Z
UID:21967-1686234600-1686241800@waterwrights.net
SUMMARY:Kern Tulare WD 2:30PM
DESCRIPTION:2nd Thursday 2:30pm
URL:https://waterwrights.net/event/kern-tulare-wd-230pm/
LOCATION:CA
END:VEVENT
BEGIN:VEVENT
DTSTART;TZID=America/Los_Angeles:20230608T150000
DTEND;TZID=America/Los_Angeles:20230608T200000
DTSTAMP:20260421T122552
CREATED:20230606T000457Z
LAST-MODIFIED:20230606T000457Z
UID:21891-1686236400-1686254400@waterwrights.net
SUMMARY:FID Regular Board Meeting/Public Hearing & BOE Agendas 3PM
DESCRIPTION:Regular Board Meeting/Public Hearing  starts at 3PM & BOE Agendas starts at 8PM.
URL:https://waterwrights.net/event/fid-regular-board-meeting-public-hearing-boe-agendas-3pm/
LOCATION:2907 S MAPLE AVENUE FRESNO\, CA 93725\, 2907 S Maple avenue\, Fresno\, CA\, 93725\, United States
END:VEVENT
BEGIN:VEVENT
DTSTART;TZID=America/Los_Angeles:20230608T160000
DTEND;TZID=America/Los_Angeles:20230608T180000
DTSTAMP:20260421T122552
CREATED:20230607T211534Z
LAST-MODIFIED:20230607T211534Z
UID:21965-1686240000-1686247200@waterwrights.net
SUMMARY:Delano Earlimart ID 4PM
DESCRIPTION:2nd Thursday 4pm
URL:https://waterwrights.net/event/delano-earlimart-id-4pm-3/
LOCATION:CA
END:VEVENT
END:VCALENDAR