BEGIN:VCALENDAR
VERSION:2.0
PRODID:-//Water Wrights - ECPv5.16.4//NONSGML v1.0//EN
CALSCALE:GREGORIAN
METHOD:PUBLISH
X-WR-CALNAME:Water Wrights
X-ORIGINAL-URL:https://waterwrights.net
X-WR-CALDESC:Events for Water Wrights
BEGIN:VTIMEZONE
TZID:America/Los_Angeles
BEGIN:DAYLIGHT
TZOFFSETFROM:-0800
TZOFFSETTO:-0700
TZNAME:PDT
DTSTART:20230312T100000
END:DAYLIGHT
BEGIN:STANDARD
TZOFFSETFROM:-0700
TZOFFSETTO:-0800
TZNAME:PST
DTSTART:20231105T090000
END:STANDARD
END:VTIMEZONE
BEGIN:VEVENT
DTSTART;TZID=America/Los_Angeles:20230615T080000
DTEND;TZID=America/Los_Angeles:20230615T170000
DTSTAMP:20260421T122730
CREATED:20230614T040137Z
LAST-MODIFIED:20230614T040352Z
UID:22042-1686816000-1686848400@waterwrights.net
SUMMARY:Greater Kaweah GSA 1:30PM
DESCRIPTION:GKGSA Technical Advisory Committee Meeting \nThursday\, June 15\, 2023 @ 1:30 p.m. \nJune 15\, 2023 Technical Advisory Committee meeting\, scheduled for 1:30 p.m. at KDWCD District office. It is held in person only
URL:https://waterwrights.net/event/greater-kaweah-gsa-130pm/
END:VEVENT
BEGIN:VEVENT
DTSTART;TZID=America/Los_Angeles:20230615T090000
DTEND;TZID=America/Los_Angeles:20230615T110000
DTSTAMP:20260421T122730
CREATED:20230607T213810Z
LAST-MODIFIED:20230607T213810Z
UID:21980-1686819600-1686826800@waterwrights.net
SUMMARY:Oakdale ID 9AM
DESCRIPTION:3rd Thursday 9am
URL:https://waterwrights.net/event/oakdale-id-9am-2/
END:VEVENT
BEGIN:VEVENT
DTSTART;TZID=America/Los_Angeles:20230615T090000
DTEND;TZID=America/Los_Angeles:20230615T110000
DTSTAMP:20260421T122730
CREATED:20230607T214556Z
LAST-MODIFIED:20230607T214556Z
UID:21990-1686819600-1686826800@waterwrights.net
SUMMARY:Glenn-Colusa ID 9AM
DESCRIPTION:1st & 3rd Thursdays 9am
URL:https://waterwrights.net/event/glenn-colusa-id-9am-19/
END:VEVENT
BEGIN:VEVENT
DTSTART;TZID=America/Los_Angeles:20230615T130000
DTEND;TZID=America/Los_Angeles:20230615T150000
DTSTAMP:20260421T122730
CREATED:20230607T194300Z
LAST-MODIFIED:20230607T194300Z
UID:21909-1686834000-1686841200@waterwrights.net
SUMMARY:Madera ID 1PM
DESCRIPTION:3rd Tuesday
URL:https://waterwrights.net/event/madera-id-1pm-4/
END:VEVENT
BEGIN:VEVENT
DTSTART;TZID=America/Los_Angeles:20230615T133000
DTEND;TZID=America/Los_Angeles:20230615T153000
DTSTAMP:20260421T122730
CREATED:20230607T214726Z
LAST-MODIFIED:20230607T214726Z
UID:21992-1686835800-1686843000@waterwrights.net
SUMMARY:Richvale ID 1:30PM
DESCRIPTION:3rd Thursday 1:30pm
URL:https://waterwrights.net/event/richvale-id-130pm/
END:VEVENT
END:VCALENDAR