BEGIN:VCALENDAR
VERSION:2.0
PRODID:-//Water Wrights - ECPv5.16.4//NONSGML v1.0//EN
CALSCALE:GREGORIAN
METHOD:PUBLISH
X-WR-CALNAME:Water Wrights
X-ORIGINAL-URL:https://waterwrights.net
X-WR-CALDESC:Events for Water Wrights
BEGIN:VTIMEZONE
TZID:America/Los_Angeles
BEGIN:DAYLIGHT
TZOFFSETFROM:-0800
TZOFFSETTO:-0700
TZNAME:PDT
DTSTART:20230312T100000
END:DAYLIGHT
BEGIN:STANDARD
TZOFFSETFROM:-0700
TZOFFSETTO:-0800
TZNAME:PST
DTSTART:20231105T090000
END:STANDARD
END:VTIMEZONE
BEGIN:VEVENT
DTSTART;TZID=America/Los_Angeles:20230620T090000
DTEND;TZID=America/Los_Angeles:20230620T113000
DTSTAMP:20260421T122634
CREATED:20230607T194816Z
LAST-MODIFIED:20230615T233609Z
UID:21915-1687251600-1687260600@waterwrights.net
SUMMARY:Westlands WD 9am
DESCRIPTION:3rd Tuesday 9am
URL:https://waterwrights.net/event/westlands-wd-1pm-5/
END:VEVENT
BEGIN:VEVENT
DTSTART;TZID=America/Los_Angeles:20230620T090000
DTEND;TZID=America/Los_Angeles:20230620T110000
DTSTAMP:20260421T122634
CREATED:20230607T214453Z
LAST-MODIFIED:20230617T013613Z
UID:21988-1687251600-1687258800@waterwrights.net
SUMMARY:Yuba County WA 9AM
DESCRIPTION:1st & 3rd Tuesdays 9am \n9:00 A.M.\nYuba County Government Center\nBoard Chambers \nThis meeting will be conducted in person at the Yuba County Board Meeting Room at the Yuba County Government Center Board Chambers located at 915 8th Street Marysville\, CA 95901 with public participation encouraged via Zoom video conference or audio teleconference.
URL:https://waterwrights.net/event/yuba-county-wa-9am-6/
LOCATION:915 8th Street Marysville\, CA 95901\, 915 8th street\, Marysville\, CA\, 95901\, United States
END:VEVENT
BEGIN:VEVENT
DTSTART;TZID=America/Los_Angeles:20230620T090000
DTEND;TZID=America/Los_Angeles:20230620T110000
DTSTAMP:20260421T122634
CREATED:20230607T224617Z
LAST-MODIFIED:20230607T224617Z
UID:21994-1687251600-1687258800@waterwrights.net
SUMMARY:Western Canal WD 9AM
DESCRIPTION:3rd Tuesday 9am
URL:https://waterwrights.net/event/western-canal-wd-9am-4/
END:VEVENT
BEGIN:VEVENT
DTSTART;TZID=America/Los_Angeles:20230620T130000
DTEND;TZID=America/Los_Angeles:20230620T150000
DTSTAMP:20260421T122634
CREATED:20230607T210909Z
LAST-MODIFIED:20230607T210909Z
UID:21961-1687266000-1687273200@waterwrights.net
SUMMARY:Kern Delta WD1PM
DESCRIPTION:1st & 3rd Tuesdays 1pm
URL:https://waterwrights.net/event/kern-delta-wd1pm/
END:VEVENT
END:VCALENDAR