BEGIN:VCALENDAR
VERSION:2.0
PRODID:-//Water Wrights - ECPv5.16.4//NONSGML v1.0//EN
CALSCALE:GREGORIAN
METHOD:PUBLISH
X-WR-CALNAME:Water Wrights
X-ORIGINAL-URL:https://waterwrights.net
X-WR-CALDESC:Events for Water Wrights
BEGIN:VTIMEZONE
TZID:America/Los_Angeles
BEGIN:DAYLIGHT
TZOFFSETFROM:-0800
TZOFFSETTO:-0700
TZNAME:PDT
DTSTART:20230312T100000
END:DAYLIGHT
BEGIN:STANDARD
TZOFFSETFROM:-0700
TZOFFSETTO:-0800
TZNAME:PST
DTSTART:20231105T090000
END:STANDARD
END:VTIMEZONE
BEGIN:VEVENT
DTSTART;TZID=America/Los_Angeles:20230621T070000
DTEND;TZID=America/Los_Angeles:20230621T090000
DTSTAMP:20260421T122906
CREATED:20230607T210226Z
LAST-MODIFIED:20230607T210226Z
UID:21957-1687330800-1687338000@waterwrights.net
SUMMARY:North Kern WSD
DESCRIPTION:3rd Wednesday 7am
URL:https://waterwrights.net/event/north-kern-wsd/
END:VEVENT
BEGIN:VEVENT
DTSTART;TZID=America/Los_Angeles:20230621T080000
DTEND;TZID=America/Los_Angeles:20230621T170000
DTSTAMP:20260421T122906
CREATED:20230607T204909Z
LAST-MODIFIED:20230607T204909Z
UID:21951-1687334400-1687366800@waterwrights.net
SUMMARY:Buena Vista WSD
DESCRIPTION:3rd Wednesday time varies
URL:https://waterwrights.net/event/buena-vista-wsd-5/
END:VEVENT
BEGIN:VEVENT
DTSTART;TZID=America/Los_Angeles:20230621T090000
DTEND;TZID=America/Los_Angeles:20230621T110000
DTSTAMP:20260421T122906
CREATED:20230617T015316Z
LAST-MODIFIED:20230617T015400Z
UID:22060-1687338000-1687345200@waterwrights.net
SUMMARY:San Luis & Delta-Mendota WA 9AM
DESCRIPTION:SLDMWA Special Workshop of the Board of Director
URL:https://waterwrights.net/event/san-luis-delta-mendota-wa-9am-4/
LOCATION:Los Banos Community Center\, 645 7th Street\, Los Banos\,\, Los Banos Community Center 645 7th street\, Los banos\, CA\, 93635\, United States
END:VEVENT
END:VCALENDAR