BEGIN:VCALENDAR
VERSION:2.0
PRODID:-//Water Wrights - ECPv5.16.4//NONSGML v1.0//EN
CALSCALE:GREGORIAN
METHOD:PUBLISH
X-WR-CALNAME:Water Wrights
X-ORIGINAL-URL:https://waterwrights.net
X-WR-CALDESC:Events for Water Wrights
BEGIN:VTIMEZONE
TZID:America/Los_Angeles
BEGIN:DAYLIGHT
TZOFFSETFROM:-0800
TZOFFSETTO:-0700
TZNAME:PDT
DTSTART:20230312T100000
END:DAYLIGHT
BEGIN:STANDARD
TZOFFSETFROM:-0700
TZOFFSETTO:-0800
TZNAME:PST
DTSTART:20231105T090000
END:STANDARD
END:VTIMEZONE
BEGIN:VEVENT
DTSTART;TZID=America/Los_Angeles:20230704T090000
DTEND;TZID=America/Los_Angeles:20230704T110000
DTSTAMP:20260421T105643
CREATED:20230628T005940Z
LAST-MODIFIED:20230628T005940Z
UID:22159-1688461200-1688468400@waterwrights.net
SUMMARY:Kaweah Delta WCD 9AM
DESCRIPTION:1st Tuesday 9am
URL:https://waterwrights.net/event/kaweah-delta-wcd-9am-14/
LOCATION:Kaweah Delta WCD\, 2975 N. Farmersville Blvd Farmersville\, California\, 93223
END:VEVENT
BEGIN:VEVENT
DTSTART;TZID=America/Los_Angeles:20230704T090000
DTEND;TZID=America/Los_Angeles:20230704T110000
DTSTAMP:20260421T105643
CREATED:20230629T233443Z
LAST-MODIFIED:20230629T233443Z
UID:22252-1688461200-1688468400@waterwrights.net
SUMMARY:Yuba County WA 9AM
DESCRIPTION:1st & 3rd Tuesdays 9am
URL:https://waterwrights.net/event/yuba-county-wa-9am-7/
LOCATION:Yuba County WA\, 1220 F Street\, Marysville\, California\, 995901
END:VEVENT
BEGIN:VEVENT
DTSTART;TZID=America/Los_Angeles:20230704T140000
DTEND;TZID=America/Los_Angeles:20230704T160000
DTSTAMP:20260421T105643
CREATED:20230630T001031Z
LAST-MODIFIED:20230630T001031Z
UID:22272-1688479200-1688486400@waterwrights.net
SUMMARY:Eastern Tule GSA 2PM
DESCRIPTION:1st Tuesday 2pm
URL:https://waterwrights.net/event/eastern-tule-gsa-2pm-12/
LOCATION:Eastern Tule GSA\, 881 W. Morton Avenue\, Suite D\, Porterville\, California\, 93257
END:VEVENT
END:VCALENDAR